{ "currentVersion": 11.3, "serviceDescription": "El Mosaico de Modelos Digitales de Terreno (MDT) de Bogotá D.C. 2025 es un producto cartográfico básico en formato ráster que representa la superficie del terreno desnudo (sin vegetación ni edificaciones) del Distrito Capital. Está compuesto por tres rásteres DEM integrados en un Mosaic Dataset de ArcGIS:
<\/span><\/p> 1. DEM URBANO (Área urbana y de expansión de Bogotá D.C.)<\/span><\/p> Extensión: ~44.500 Ha<\/span><\/p> Escala: 1:1.000 | Resolución espacial (pixel): 1 m (GSD 10 cm en vuelo)<\/span>Fuente: LiDAR aerotransportado con sensor Riegl VQ-580II montado en aeronave Cessna 402B (Montaje 1) y sensor Riegl VQ-480i en helicóptero Hughes (Montaje 2).<\/span><\/p> Período de captura: enero \u2013 agosto de 2025.<\/span><\/p> Proyección: MAGNA-SIRGAS Origen Único Nacional (EPSG: 9377), época IGAC 2018.0.<\/span><\/p> Altura: Ortométrica mediante modelo geoidal GEOCOL2004.<\/span><\/p> RMSE Z (Bogotá): diferencias promedio 0,100 m; máximas +0,183 m / -0,177m.<\/span><\/p> <\/span><\/p> 2. DEM CERROS ORIENTALES (Área de Cerros Orientales de Bogotá D.C.)<\/span><\/p> Extensión: ~15.215 Ha<\/span><\/p> Escala: 1:5.000 | Resolución espacial (pixel): 5 m<\/span><\/p> Fuente: LiDAR aerotransportado con sensor Riegl VQ-580II en aeronave Cessna 402B.<\/span><\/p> Período de captura: enero \u2013 febrero de 2025.<\/span>RMSE XY: 0,238 m | NSSDA 95% XY: 0,47 m (cumple Resolución IGAC 197/2022, escala 1:5.000: RMSE Z < 3 m, NSSDA < 6 m).<\/span><\/p> Diferencias altimétricas promedio: 0,114 m; máximas +0,667 m / -0,436 m.<\/span><\/p> <\/span><\/p> 3. DEM RURAL (Zona rural de Bogotá D.C.)<\/span><\/p> Extensión: ~107.304 Ha \u2014 al sur de Bogotá D.C.<\/span><\/p> Escala: 1:10.000 | Resolución espacial (pixel): 10 m<\/span>Fuente: Imágenes estereoscópicas 3D satelitales ZY3 (Airbus).<\/span>Fechas de imágenes: 08/01/2024, 31/08/2024, 11/12/2024.<\/span>Método de interpolación: Binning (media por celda).<\/span>Puntos de ajuste: 153 puntos topográficos convencionales (22 GCP + 131 chequeo).<\/span>RMSE XY Puntos de Control: 0,087 m | NSSDA 95% XY: 0,171 m.<\/span>RMSE XY Puntos de Chequeo: 0,67 m | NSSDA 95% XY: 1,31 m.<\/span>(Cumple Resolución IGAC 197/2022: RMSE Z < 3 m, NSSDA < 6 m para 1:10.000).<\/span>Contrato: UAECD No. 369-2025. Objeto: Adquisición de productos de cartografía básica.<\/span> <\/span><\/p> Sistema de referencia común del mosaico:<\/span> - Datum geodésico: MAGNA-SIRGAS<\/span> - Proyección: Origen Único Nacional (EPSG: 9377)<\/span> - Época: IGAC 2018.0<\/span> - Alturas: Ortométricas (modelo GEOCOL2004)<\/span><\/p> <\/span><\/p> <\/span><\/p> Contratos:<\/span>- DEM Urbano y Cerros Orientales: Contrato SDP No. 1047/2024<\/span> Secretaría Distrital de Planeación (SDP)<\/span>- DEM Rural: Contrato UAECD No. 369-2025<\/span> Unidad Administrativa Especial de Catastro Distrital (UAECD)<\/span> <\/span><\/p> Normas aplicadas: Resoluciones IGAC 471/2020, 529/2020, 1421/2021, 197/2022, 1040/2023.<\/span><\/p>",
"name": "Imagenes/modelodigitalterreno2025funcion",
"description": "El Mosaico de Modelos Digitales de Terreno (MDT) de Bogotá D.C. 2025 es un producto cartográfico básico en formato ráster que representa la superficie del terreno desnudo (sin vegetación ni edificaciones) del Distrito Capital. Está compuesto por tres rásteres DEM integrados en un Mosaic Dataset de ArcGIS:<\/span><\/p> <\/span><\/p> 1. DEM URBANO (Área urbana y de expansión de Bogotá D.C.)<\/span><\/p> Extensión: ~44.500 Ha<\/span><\/p> Escala: 1:1.000 | Resolución espacial (pixel): 1 m (GSD 10 cm en vuelo)<\/span>Fuente: LiDAR aerotransportado con sensor Riegl VQ-580II montado en aeronave Cessna 402B (Montaje 1) y sensor Riegl VQ-480i en helicóptero Hughes (Montaje 2).<\/span><\/p> Período de captura: enero \u2013 agosto de 2025.<\/span><\/p> Proyección: MAGNA-SIRGAS Origen Único Nacional (EPSG: 9377), época IGAC 2018.0.<\/span><\/p> Altura: Ortométrica mediante modelo geoidal GEOCOL2004.<\/span><\/p> RMSE Z (Bogotá): diferencias promedio 0,100 m; máximas +0,183 m / -0,177m.<\/span><\/p> <\/span><\/p> 2. DEM CERROS ORIENTALES (Área de Cerros Orientales de Bogotá D.C.)<\/span><\/p> Extensión: ~15.215 Ha<\/span><\/p> Escala: 1:5.000 | Resolución espacial (pixel): 5 m<\/span><\/p> Fuente: LiDAR aerotransportado con sensor Riegl VQ-580II en aeronave Cessna 402B.<\/span><\/p> Período de captura: enero \u2013 febrero de 2025.<\/span>RMSE XY: 0,238 m | NSSDA 95% XY: 0,47 m (cumple Resolución IGAC 197/2022, escala 1:5.000: RMSE Z < 3 m, NSSDA < 6 m).<\/span><\/p> Diferencias altimétricas promedio: 0,114 m; máximas +0,667 m / -0,436 m.<\/span><\/p> <\/span><\/p> 3. DEM RURAL (Zona rural de Bogotá D.C.)<\/span><\/p> Extensión: ~107.304 Ha \u2014 al sur de Bogotá D.C.<\/span><\/p> Escala: 1:10.000 | Resolución espacial (pixel): 10 m<\/span>Fuente: Imágenes estereoscópicas 3D satelitales ZY3 (Airbus).<\/span>Fechas de imágenes: 08/01/2024, 31/08/2024, 11/12/2024.<\/span>Método de interpolación: Binning (media por celda).<\/span>Puntos de ajuste: 153 puntos topográficos convencionales (22 GCP + 131 chequeo).<\/span>RMSE XY Puntos de Control: 0,087 m | NSSDA 95% XY: 0,171 m.<\/span>RMSE XY Puntos de Chequeo: 0,67 m | NSSDA 95% XY: 1,31 m.<\/span>(Cumple Resolución IGAC 197/2022: RMSE Z < 3 m, NSSDA < 6 m para 1:10.000).<\/span>Contrato: UAECD No. 369-2025. Objeto: Adquisición de productos de cartografía básica.<\/span> <\/span><\/p> Sistema de referencia común del mosaico:<\/span> - Datum geodésico: MAGNA-SIRGAS<\/span> - Proyección: Origen Único Nacional (EPSG: 9377)<\/span> - Época: IGAC 2018.0<\/span> - Alturas: Ortométricas (modelo GEOCOL2004)<\/span><\/p> <\/span><\/p> <\/span><\/p> Contratos:<\/span>- DEM Urbano y Cerros Orientales: Contrato SDP No. 1047/2024<\/span> Secretaría Distrital de Planeación (SDP)<\/span>- DEM Rural: Contrato UAECD No. 369-2025<\/span> Unidad Administrativa Especial de Catastro Distrital (UAECD)<\/span> <\/span><\/p> Normas aplicadas: Resoluciones IGAC 471/2020, 529/2020, 1421/2021, 197/2022, 1040/2023.<\/span><\/p>",
"extent": {
"xmin": -74.45212263299999,
"ymin": 3.730017599037147,
"xmax": -73.9899217940972,
"ymax": 4.837963824000042,
"spatialReference": {
"wkid": 4326,
"latestWkid": 4326
}
},
"initialExtent": {
"xmin": -74.45212263299999,
"ymin": 3.730017599037147,
"xmax": -73.9899217940972,
"ymax": 4.837963824000042,
"spatialReference": {
"wkid": 4326,
"latestWkid": 4326
}
},
"fullExtent": {
"xmin": -74.45212263299999,
"ymin": 3.730017599037147,
"xmax": -73.9899217940972,
"ymax": 4.837963824000042,
"spatialReference": {
"wkid": 4326,
"latestWkid": 4326
}
},
"sortableFields": "MinPS,MaxPS,LowPS,HighPS,CenterX,CenterY,ZOrder,Shape_Length,Shape_Area",
"bandCount": 1,
"pixelType": "U32",
"minValues": [
2288
],
"maxValues": [
4144
],
"meanValues": [
3224.8501990602417
],
"stdvValues": [
485.98858773163636
],
"hasMultidimensions": false,
"pixelSizeX": 9.025597322842966E-6,
"pixelSizeY": 9.025597322842832E-6,
"meanPixelSize": 1.0047248980840047,
"datasetFormat": "AMD",
"uncompressedSize": 25145134200,
"blockWidth": 2048,
"blockHeight": 256,
"compressionType": "None",
"bandNames": [
"Band_1"
],
"allowCopy": true,
"allowAnalysis": true,
"itemAccess": false,
"inspectionCapabilities": "",
"minPixelSize": 0,
"maxPixelSize": 0,
"copyrightText": "Productos cartográficos generados por SIGLA S.A.S. \u2014 Sistemas de Información Geográfica de Latinoamérica, bajo los Contratos No. 1047/2024 (Secretaría Distrital de Planeación \u2014 DEM Urbano y Cerros Orientales) y No. 369-2025 (Unidad Administrativa Especial de Catastro Distrital \u2014 DEM Zona Rural). Supervisor UAECD: Pedro Alberto Pinzón Montero.",
"serviceDataType": "esriImageServiceDataTypeGeneric",
"serviceSourceType": "esriImageServiceSourceTypeMosaicDataset",
"objectIdField": "OBJECTID",
"fields": [
{
"name": "OBJECTID",
"type": "esriFieldTypeOID",
"alias": "OBJECTID",
"domain": null
},
{
"name": "Shape",
"type": "esriFieldTypeGeometry",
"alias": "Shape",
"domain": null
},
{
"name": "Name",
"type": "esriFieldTypeString",
"alias": "Name",
"domain": null,
"length": 200
},
{
"name": "MinPS",
"type": "esriFieldTypeDouble",
"alias": "MinPS",
"domain": null
},
{
"name": "MaxPS",
"type": "esriFieldTypeDouble",
"alias": "MaxPS",
"domain": null
},
{
"name": "LowPS",
"type": "esriFieldTypeDouble",
"alias": "LowPS",
"domain": null
},
{
"name": "HighPS",
"type": "esriFieldTypeDouble",
"alias": "HighPS",
"domain": null
},
{
"name": "Category",
"type": "esriFieldTypeInteger",
"alias": "Category",
"domain": {
"type": "codedValue",
"name": "MosaicCatalogItemCategoryDomain",
"description": "Catalog item categories.",
"codedValues": [
{
"name": "Unknown",
"code": 0
},
{
"name": "Primary",
"code": 1
},
{
"name": "Overview",
"code": 2
},
{
"name": "Unprocessed Overview",
"code": 3
},
{
"name": "Partial Overview",
"code": 4
},
{
"name": "Inactive",
"code": 5
},
{
"name": "Uploaded",
"code": 253
},
{
"name": "Incomplete",
"code": 254
},
{
"name": "Custom",
"code": 255
}
],
"mergePolicy": "esriMPTDefaultValue",
"splitPolicy": "esriSPTDefaultValue"
}
},
{
"name": "Tag",
"type": "esriFieldTypeString",
"alias": "Tag",
"domain": null,
"length": 100
},
{
"name": "GroupName",
"type": "esriFieldTypeString",
"alias": "GroupName",
"domain": null,
"length": 100
},
{
"name": "ProductName",
"type": "esriFieldTypeString",
"alias": "ProductName",
"domain": null,
"length": 100
},
{
"name": "CenterX",
"type": "esriFieldTypeDouble",
"alias": "CenterX",
"domain": null
},
{
"name": "CenterY",
"type": "esriFieldTypeDouble",
"alias": "CenterY",
"domain": null
},
{
"name": "ZOrder",
"type": "esriFieldTypeInteger",
"alias": "ZOrder",
"domain": null
},
{
"name": "Shape_Length",
"type": "esriFieldTypeDouble",
"alias": "Shape_Length",
"domain": null
},
{
"name": "Shape_Area",
"type": "esriFieldTypeDouble",
"alias": "Shape_Area",
"domain": null
}
],
"capabilities": "Catalog,Mensuration,Download,Image,Metadata",
"defaultMosaicMethod": "Northwest",
"allowedMosaicMethods": "NorthWest,Center,LockRaster,ByAttribute,Nadir,Viewpoint,Seamline,None",
"sortField": "",
"sortValue": null,
"sortAscending": true,
"mosaicOperator": "First",
"maxDownloadSizeLimit": 2048,
"defaultCompressionQuality": 75,
"defaultResamplingMethod": "Bilinear",
"maxImageHeight": 4100,
"maxImageWidth": 15000,
"maxRecordCount": 1000,
"maxDownloadImageCount": 20,
"maxMosaicImageCount": 20,
"allowRasterFunction": true,
"rasterFunctionInfos": [
{
"name": "None",
"description": "Make a Raster or Raster Dataset into a Function Raster Dataset.",
"help": ""
},
{
"name": "Aspecto",
"description": "Muestra la orientacion de la ladera para cada pixel del MDT, medida en grados azimutales desde el norte.",
"help": ""
},
{
"name": "Aspecto Pendiente",
"description": "Combina orientacion y pendiente en una sola vista sintetica para lectura rapida de exposicion y abruptosidad.",
"help": ""
},
{
"name": "Curvas de Nivel 1m (Urbano)",
"description": "Genera una visualizacion dinamica de curvas de nivel cada 1 metro para zonas urbanas.",
"help": ""
},
{
"name": "Curvas de Nivel Visualizacion",
"description": "Genera una visualizacion dinamica de curvas de nivel cada 10 metros para consulta rapida dentro del mosaic dataset.",
"help": ""
},
{
"name": "Elevacion Hipsometrica",
"description": "Aplica una rampa hipsometrica al MDT para resaltar los cambios altitudinales sin sombreado.",
"help": ""
},
{
"name": "Hillshade Multidireccional",
"description": "Genera un sombreado multidireccional para resaltar mejor las formas del relieve en distintas orientaciones.",
"help": ""
},
{
"name": "Hillshade Tradicional",
"description": "Genera un sombreado tradicional del relieve con azimut 315 y altura solar 45 grados.",
"help": ""
},
{
"name": "Pendiente Grados",
"description": "Calcula la pendiente continua del terreno en grados para analisis geomorfologico y control visual.",
"help": ""
},
{
"name": "Pendiente IGAC",
"description": "Clasifica la pendiente en porcentaje segun rangos IGAC y aplica una simbologia fija de siete clases.",
"help": ""
},
{
"name": "Relieve Sombreado",
"description": "Combina hipsometria y sombreado del relieve para una visualizacion topografica continua del MDT.",
"help": ""
}
],
"rasterTypeInfos": [
{
"name": "Raster Dataset",
"description": "Supports all ArcGIS Raster Datasets",
"help": ""
}
],
"mensurationCapabilities": "Basic,Base-Top Height,Top-Top Shadow Height,Base-Top Shadow Height",
"hasHistograms": true,
"hasColormap": false,
"hasRasterAttributeTable": false,
"minScale": 0,
"maxScale": 0,
"exportTilesAllowed": false,
"supportsStatistics": true,
"supportsAdvancedQueries": true,
"editFieldsInfo": null,
"ownershipBasedAccessControlForRasters": null,
"allowComputeTiePoints": false,
"useStandardizedQueries": true,
"advancedQueryCapabilities": {
"useStandardizedQueries": true,
"supportsStatistics": true,
"supportsOrderBy": true,
"supportsDistinct": true,
"supportsPagination": true
},
"spatialReference": {
"wkid": 4326,
"latestWkid": 4326
},
"resampling": false
}