<?xml version="1.0" encoding="UTF-8" standalone="no"?>
<metadata xml:lang="en">
<Esri>
<CreaDate>20260617</CreaDate>
<CreaTime>12385000</CreaTime>
<ArcGISFormat>1.0</ArcGISFormat>
<SyncOnce>FALSE</SyncOnce>
<DataProperties>
<lineage>
<Process Date="20260617" Name="" Time="123850" ToolSource="c:\program files\arcgis\pro\Resources\ArcToolbox\toolboxes\Data Management Tools.tbx\CreateMosaicDataset" export="">CreateMosaicDataset \\idecafs1\imagenes2\ProductosRaster\Ortoimagenes\AltosSerrezuela2026\AltosSerrezuela2026.gdb AltosSerrezuela2026 GEOGCS["GCS_WGS_1984",DATUM["D_WGS_1984",SPHEROID["WGS_1984",6378137.0,298.257223563]],PRIMEM["Greenwich",0.0],UNIT["Degree",0.0174532925199433]] 3 8_BIT_UNSIGNED NONE #</Process>
<Process Date="20260617" Name="" Time="124416" ToolSource="c:\program files\arcgis\pro\Resources\ArcToolbox\toolboxes\Data Management Tools.tbx\AddRastersToMosaicDataset" export="">AddRastersToMosaicDataset \\idecafs1\imagenes2\ProductosRaster\Ortoimagenes\AltosSerrezuela2026\AltosSerrezuela2026.gdb\AltosSerrezuela2026 "Raster Dataset" \\idecafs1\imagenes2\ProductosRaster\Ortoimagenes\AltosSerrezuela2026\TrueOrto_Altos_de_Serrezuela_5cm.tif UPDATE_CELL_SIZES NO_BOUNDARY NO_OVERVIEWS # 0 1500 "GEOGCS["GCS_WGS_1984",DATUM["D_WGS_1984",SPHEROID["WGS_1984",6378137.0,298.257223563]],PRIMEM["Greenwich",0.0],UNIT["Degree",0.0174532925199433]];-400 -400 1000000000;-100000 10000;-100000 10000;8.98315284119521E-09;0.001;0.001;IsHighPrecision" *.tif NO_SUBFOLDERS EXCLUDE_DUPLICATES NO_PYRAMIDS NO_STATISTICS NO_THUMBNAILS "Carga AltosSerrezuela2026 COG RGB" FORCE_SPATIAL_REFERENCE NO_STATISTICS # USE_PIXEL_CACHE \\idecafs1\imagenes2\ProductosRaster\Ortoimagenes\AltosSerrezuela2026\pixel_cache</Process>
</lineage>
<itemProps>
<itemName Sync="TRUE">AltosSerrezuela2026</itemName>
<itemLocation>
<linkage Sync="TRUE">file://\\idecafs1\imagenes2\ProductosRaster\Ortoimagenes\AltosSerrezuela2026\AltosSerrezuela2026.gdb</linkage>
<protocol Sync="TRUE">Local Area Network</protocol>
</itemLocation>
<nativeExtBox>
<westBL Sync="TRUE">-74.020662</westBL>
<eastBL Sync="TRUE">-74.011700</eastBL>
<southBL Sync="TRUE">4.758117</southBL>
<northBL Sync="TRUE">4.766610</northBL>
<exTypeCode Sync="TRUE">1</exTypeCode>
</nativeExtBox>
</itemProps>
<coordRef>
<type Sync="TRUE">Geographic</type>
<geogcsn Sync="TRUE">GCS_WGS_1984</geogcsn>
<csUnits Sync="TRUE">Angular Unit: Degree (0.017453)</csUnits>
<peXml Sync="TRUE">&lt;GeographicCoordinateSystem xsi:type='typens:GeographicCoordinateSystem' xmlns:xsi='http://www.w3.org/2001/XMLSchema-instance' xmlns:xs='http://www.w3.org/2001/XMLSchema' xmlns:typens='http://www.esri.com/schemas/ArcGIS/3.4.0'&gt;&lt;WKT&gt;GEOGCS[&amp;quot;GCS_WGS_1984&amp;quot;,DATUM[&amp;quot;D_WGS_1984&amp;quot;,SPHEROID[&amp;quot;WGS_1984&amp;quot;,6378137.0,298.257223563]],PRIMEM[&amp;quot;Greenwich&amp;quot;,0.0],UNIT[&amp;quot;Degree&amp;quot;,0.0174532925199433],AUTHORITY[&amp;quot;EPSG&amp;quot;,4326]]&lt;/WKT&gt;&lt;XOrigin&gt;-400&lt;/XOrigin&gt;&lt;YOrigin&gt;-400&lt;/YOrigin&gt;&lt;XYScale&gt;11258999068426.238&lt;/XYScale&gt;&lt;ZOrigin&gt;-100000&lt;/ZOrigin&gt;&lt;ZScale&gt;10000&lt;/ZScale&gt;&lt;MOrigin&gt;-100000&lt;/MOrigin&gt;&lt;MScale&gt;10000&lt;/MScale&gt;&lt;XYTolerance&gt;8.983152841195215e-09&lt;/XYTolerance&gt;&lt;ZTolerance&gt;0.001&lt;/ZTolerance&gt;&lt;MTolerance&gt;0.001&lt;/MTolerance&gt;&lt;HighPrecision&gt;true&lt;/HighPrecision&gt;&lt;LeftLongitude&gt;-180&lt;/LeftLongitude&gt;&lt;WKID&gt;4326&lt;/WKID&gt;&lt;LatestWKID&gt;4326&lt;/LatestWKID&gt;&lt;/GeographicCoordinateSystem&gt;</peXml>
</coordRef>
<RasterProperties>
<General>
<PixelDepth Sync="TRUE">8</PixelDepth>
<HasColormap Sync="TRUE">FALSE</HasColormap>
<CompressionType Sync="TRUE">None</CompressionType>
<NumBands Sync="TRUE">3</NumBands>
<Format Sync="TRUE">AMD</Format>
<HasPyramids Sync="TRUE">TRUE</HasPyramids>
<SourceType Sync="TRUE">continuous</SourceType>
<PixelType Sync="TRUE">unsigned integer</PixelType>
<NoDataValue Sync="TRUE"/>
</General>
<Properties>
<MaxImageHeight Sync="TRUE">4100</MaxImageHeight>
<MaxImageWidth Sync="TRUE">15000</MaxImageWidth>
<MaxRecordCount Sync="TRUE">2000</MaxRecordCount>
<MaxDownloadImageCount Sync="TRUE">30</MaxDownloadImageCount>
<MaxDownloadSizeLimit Sync="TRUE">2048</MaxDownloadSizeLimit>
<MaxMosaicImageCount Sync="TRUE">30</MaxMosaicImageCount>
<DefaultCompressionQuality Sync="TRUE">85</DefaultCompressionQuality>
<DefaultCompressionTolerance Sync="TRUE">0.01</DefaultCompressionTolerance>
<BlendWidth Sync="TRUE">10</BlendWidth>
<ViewpointSpacingX Sync="TRUE">600</ViewpointSpacingX>
<ViewpointSpacingY Sync="TRUE">300</ViewpointSpacingY>
<AllowedItemMetadata Sync="TRUE">BASIC</AllowedItemMetadata>
<DefaultResamplingMethod Sync="TRUE">1</DefaultResamplingMethod>
<AllowedMosaicMethods Sync="TRUE">Center</AllowedMosaicMethods>
<AllowedCompressions Sync="TRUE">JPEG,LERC,LERC,LERC,LERC</AllowedCompressions>
<AllowedMensurationCapabilities Sync="TRUE">Basic</AllowedMensurationCapabilities>
<AvailableMensurationCapabilities Sync="TRUE">None,Basic,Base-Top Height,Top-Top Shadow Height,Base-Top Shadow Height,3D</AvailableMensurationCapabilities>
<ClipToBoundary Sync="TRUE">-1</ClipToBoundary>
<FootprintMayContainNoData Sync="TRUE">-1</FootprintMayContainNoData>
<CellSizeTolerance Sync="TRUE">0.8</CellSizeTolerance>
<MinimumPixelContribution Sync="TRUE">1</MinimumPixelContribution>
<AvailableMosaicMethods Sync="TRUE">NorthWest,Center,LockRaster,ByAttribute,Nadir,Viewpoint,Seamline,None</AvailableMosaicMethods>
<AvailableCompressionMethods Sync="TRUE">None,JPEG,LZ77,LERC</AvailableCompressionMethods>
<AvailableItemMetadataLevels Sync="TRUE">None,Basic,Full</AvailableItemMetadataLevels>
<BandDefinitionKeyword Sync="TRUE">NONE</BandDefinitionKeyword>
<_docversion_ Sync="TRUE">10</_docversion_>
<AllowedFields Sync="TRUE">Name,MinPS,MaxPS,LowPS,HighPS,Tag,GroupName,ProductName,CenterX,CenterY,ZOrder,Shape_Length,Shape_Area</AllowedFields>
<LowCellSize Sync="TRUE">4.50702999999721E-07</LowCellSize>
<HighCellSize Sync="TRUE">3.60562399999777E-06</HighCellSize>
<MaxCellSize Sync="TRUE">3.60562399999777E-05</MaxCellSize>
<PixelCacheLocation Sync="TRUE">\\idecafs1\imagenes2\ProductosRaster\Ortoimagenes\AltosSerrezuela2026\pixel_cache</PixelCacheLocation>
<ClipToFootprint Sync="TRUE">-1</ClipToFootprint>
<ApplyColorCorrection Sync="TRUE">0</ApplyColorCorrection>
<SortAscending Sync="TRUE">-1</SortAscending>
<MosaicOperator Sync="TRUE">1</MosaicOperator>
<UseTime Sync="TRUE">0</UseTime>
<DataType Sync="TRUE">Generic</DataType>
</Properties>
<Functions Sync="TRUE">
<Function Description="Performs on-the-fly mosaic on a raster catalog." Name="Mosaic Function"/>
</Functions>
</RasterProperties>
</DataProperties>
<SyncDate>20260617</SyncDate>
<SyncTime>13185400</SyncTime>
<ModDate>20260617</ModDate>
<ModTime>13220100</ModTime>
<scaleRange>
<minScale>150000000</minScale>
<maxScale>5000</maxScale>
</scaleRange>
<ArcGISProfile>ISO19139</ArcGISProfile>
</Esri>
<mdLang>
<languageCode value="spa"/>
<countryCode Sync="TRUE" value="USA"/>
</mdLang>
<mdChar>
<CharSetCd value="004"/>
</mdChar>
<mdHrLv>
<ScopeCd value="005"/>
</mdHrLv>
<mdHrLvName>dataset</mdHrLvName>
<mdContact>
<rpOrgName>Unidad Administrativa Especial de Catastro Distrital (UAECD)</rpOrgName>
<rpPosName>IDECA - Subgerencia de Operaciones</rpPosName>
<rpCntInfo>
<cntPhone>
<voiceNum>+57 (601) 234 7600</voiceNum>
</cntPhone>
<cntAddress>
<delPoint>Av. Carrera 30 No. 25-90, Torre B, Piso 2</delPoint>
<city>Bogota D.C.</city>
<adminArea>Cundinamarca</adminArea>
<postCode>111311</postCode>
<country>CO</country>
<eMailAdd>buzon-correspondencia@catastrobogota.gov.co</eMailAdd>
</cntAddress>
<cntHours>Lunes a viernes de 8:00 a.m. a 4:30 p.m.</cntHours>
</rpCntInfo>
<role>
<RoleCd value="007"/>
</role>
</mdContact>
<mdDateSt Sync="TRUE">20260617</mdDateSt>
<mdStanName>ArcGIS Metadata</mdStanName>
<mdStanVer>1.0</mdStanVer>
<dataIdInfo>
<idCitation>
<resTitle>orthodronaltosserrezuela2026</resTitle>
<resAltTitle>AltosSerrezuela2026</resAltTitle>
<date>
<createDate>2026-04-20</createDate>
<pubDate>2026-06-04</pubDate>
<reviseDate>2026-05-26</reviseDate>
</date>
<citRespParty>
<rpOrgName>Unidad Administrativa Especial de Catastro Distrital (UAECD)</rpOrgName>
<rpPosName>IDECA - Subgerencia de Operaciones</rpPosName>
<rpCntInfo>
<cntPhone>
<voiceNum>+57 (601) 234 7600</voiceNum>
</cntPhone>
<cntAddress>
<delPoint>Av. Carrera 30 No. 25-90, Torre B, Piso 2</delPoint>
<city>Bogota D.C.</city>
<adminArea>Cundinamarca</adminArea>
<postCode>111311</postCode>
<country>CO</country>
<eMailAdd>buzon-correspondencia@catastrobogota.gov.co</eMailAdd>
</cntAddress>
<cntHours>Lunes a viernes de 8:00 a.m. a 4:30 p.m.</cntHours>
</rpCntInfo>
<role>
<RoleCd value="003"/>
</role>
</citRespParty>
<presForm>
<PresFormCd Sync="TRUE" value="005"/>
</presForm>
</idCitation>
<idAbs>&lt;div style='text-align:Left;'&gt;&lt;div&gt;&lt;p&gt;&lt;span&gt;Este conjunto de datos contiene el mosaic dataset de la ortoimagen del centro poblado Altos de Serrezuela, localidad de Usaquén en Bogotá D.C. El producto corresponde a una true ortho RGB de 5 cm de tamaño de pixel, 3 bandas de 8 bits, escala de referencia 1:500 y cobertura aproximada de 40 hectáreas. Las imágenes fueron capturadas el 20 de abril de 2026 mediante cámara Sony RX1 RII de 42 megapíxeles con lente de 35 mm. El procesamiento se realizó entre el 5 y el 20 de mayo de 2026. El sistema de referencia original y de publicación es GCS WGS 1984 (EPSG:4326). Para la publicación se agrego el GeoTIFF como único ítem del mosaic dataset.&lt;/span&gt;&lt;/p&gt;&lt;/div&gt;&lt;/div&gt;</idAbs>
<idPurp>Mosaico de ortoimágenes del centro poblado Altos de Serrezuela, localidad de Usaquén en Bogotá D.C. El producto corresponde a una true ortho RGB de 5 cm de tamaño de pixel, 3 bandas (RGB) de 8 bits, escala de referencia 1:500 y cobertura aproximada de 40 hectáreas.</idPurp>
<idCredit>Producto generado por la Unidad Administrativa Especial de Catastro Distrital (UAECD) / IDECA - Subgerencia de Operaciones.</idCredit>
<idPoC>
<rpOrgName>Unidad Administrativa Especial de Catastro Distrital (UAECD)</rpOrgName>
<rpPosName>IDECA - Subgerencia de Operaciones</rpPosName>
<rpCntInfo>
<cntPhone>
<voiceNum>+57 (601) 234 7600</voiceNum>
</cntPhone>
<cntAddress>
<delPoint>Av. Carrera 30 No. 25-90, Torre B, Piso 2</delPoint>
<city>Bogota D.C.</city>
<adminArea>Cundinamarca</adminArea>
<postCode>111311</postCode>
<country>CO</country>
<eMailAdd>buzon-correspondencia@catastrobogota.gov.co</eMailAdd>
</cntAddress>
<cntHours>Lunes a viernes de 8:00 a.m. a 4:30 p.m.</cntHours>
</rpCntInfo>
<role>
<RoleCd value="007"/>
</role>
</idPoC>
<resMaint>
<maintFreq>
<MaintFreqCd value="011"/>
</maintFreq>
</resMaint>
<placeKeys>
<keyword>Republica de Colombia</keyword>
<keyword>Cundinamarca</keyword>
<keyword>Bogota D.C.</keyword>
<keyword>Usaquen</keyword>
<keyword>Altos de Serrezuela</keyword>
</placeKeys>
<themeKeys>
<keyword>Ortoimagen</keyword>
<keyword>True orto</keyword>
<keyword>Fotogrametria</keyword>
<keyword>Centro poblado</keyword>
<keyword>RGB</keyword>
<keyword>COG</keyword>
</themeKeys>
<searchKeys>
<keyword>Ortoimagen True orto</keyword>
<keyword>Altos de Serrezuela</keyword>
<keyword>Centro poblado</keyword>
<keyword>Usaquén</keyword>
<keyword>Bogotá D.C.</keyword>
<keyword>Catastro</keyword>
<keyword>IDECA</keyword>
<keyword>UAECD</keyword>
<keyword>GSD 5 cm</keyword>
<keyword>RGB</keyword>
<keyword>COG</keyword>
<keyword>2026</keyword>
<keyword>Fotogrametría</keyword>
<keyword>Aeronaves no tripuladas</keyword>
</searchKeys>
<resConst>
<Consts>
<useLimit>&lt;div style='text-align:Left;'&gt;&lt;div&gt;&lt;p&gt;&lt;span&gt;Licencia Creative Commons Attribution 4.0 Internacional (CC BY 4.0) para el acceso y uso de la información. Los usuarios pueden copiar, distribuir, comunicar públicamente, adaptar, transformar y generar productos derivados a partir de esta información, incluso con fines comerciales, siempre que se reconozca la autoría y fuente institucional correspondiente. La atribución deberá realizarse a la Unidad Administrativa Especial de Catastro Distrital (UAECD) / IDECA - Infraestructura de Datos Espaciales para el Distrito Capital, como entidad responsable de la publicación y disposición del producto. El uso de la información se realiza bajo responsabilidad del usuario, quien deberá conservar la referencia a la fuente oficial y no sugerir respaldo institucional sobre productos derivados que no hayan sido validados o publicados por la UAECD/IDECA.&lt;/span&gt;&lt;/p&gt;&lt;/div&gt;&lt;/div&gt;</useLimit>
</Consts>
</resConst>
<spatRpType>
<SpatRepTypCd value="002"/>
</spatRpType>
<dataLang>
<languageCode value="spa"/>
<countryCode Sync="TRUE" value="USA"/>
</dataLang>
<dataChar>
<CharSetCd value="004"/>
</dataChar>
<dataExt>
<geoEle>
<GeoBndBox>
<exTypeCode>true</exTypeCode>
<westBL>-74.020662</westBL>
<eastBL>-74.0117</eastBL>
<southBL>4.758117</southBL>
<northBL>4.76661</northBL>
</GeoBndBox>
</geoEle>
</dataExt>
<envirDesc Sync="TRUE">Microsoft Windows Server 2016 Technical Preview Version 10.0 (Build 20348) ; Esri ArcGIS 13.4.0.55405</envirDesc>
<dataExt>
<geoEle>
<GeoBndBox esriExtentType="search">
<exTypeCode Sync="TRUE">1</exTypeCode>
<westBL Sync="TRUE">-74.020662</westBL>
<eastBL Sync="TRUE">-74.011700</eastBL>
<northBL Sync="TRUE">4.766610</northBL>
<southBL Sync="TRUE">4.758117</southBL>
</GeoBndBox>
</geoEle>
</dataExt>
<tpCat>
<TopicCatCd value="007"/>
</tpCat>
<tpCat>
<TopicCatCd value="010"/>
</tpCat>
<tpCat>
<TopicCatCd value="015"/>
</tpCat>
</dataIdInfo>
<mdMaint>
<maintFreq>
<MaintFreqCd value="011"/>
</maintFreq>
</mdMaint>
<dqInfo>
<dqScope>
<scpLvl>
<ScopeCd value="005"/>
</scpLvl>
</dqScope>
<dataLineage>
<statement>La ortoimagen fue generada a partir de imágenes capturadas mediante cámara digital Sony RX1 RII instalada en plataforma aérea no tripulada. El procesamiento fotogramétrico produjo una true ortho RGB con tamaño de pixel de 5 cm, profundidad de 8 bits por banda, sistema de referencia WGS 1984 (EPSG:4326) y RMSE reportado de 8,1 cm. Para su publicación se construyo el mosaic dataset AltosSerrezuela2026 en EPSG:4326 desde el GeoTIFF TrueOrto_Altos_de_Serrezuela_5cm.tif.</statement>
</dataLineage>
</dqInfo>
<refSysInfo>
<RefSystem>
<refSysID>
<identCode code="4326"/>
<idCodeSpace>EPSG</idCodeSpace>
<idVersion Sync="TRUE">6.2(3.0.1)</idVersion>
</refSysID>
</RefSystem>
</refSysInfo>
<spatRepInfo>
<Georect>
<cellGeo>
<CellGeoCd Sync="TRUE" value="002"/>
</cellGeo>
<numDims Sync="TRUE">2</numDims>
<tranParaAv Sync="TRUE">1</tranParaAv>
<chkPtAv Sync="TRUE">0</chkPtAv>
<cornerPts>
<pos Sync="TRUE">-74.020662 4.758117</pos>
</cornerPts>
<cornerPts>
<pos Sync="TRUE">-74.020662 4.766610</pos>
</cornerPts>
<cornerPts>
<pos Sync="TRUE">-74.011700 4.766610</pos>
</cornerPts>
<cornerPts>
<pos Sync="TRUE">-74.011700 4.758117</pos>
</cornerPts>
<centerPt>
<pos Sync="TRUE">-74.016181 4.762364</pos>
</centerPt>
<axisDimension type="002">
<dimSize Sync="TRUE">19884</dimSize>
<dimResol>
<value Sync="TRUE" uom="deg">0.000000</value>
</dimResol>
</axisDimension>
<axisDimension type="001">
<dimSize Sync="TRUE">18845</dimSize>
<dimResol>
<value Sync="TRUE" uom="deg">0.000000</value>
</dimResol>
</axisDimension>
<ptInPixel>
<PixOrientCd Sync="TRUE" value="001"/>
</ptInPixel>
</Georect>
</spatRepInfo>
<contInfo>
<ImgDesc>
<contentTyp>
<ContentTypCd Sync="TRUE" value="001"/>
</contentTyp>
<covDim>
<Band>
<dimDescrp Sync="TRUE">Band_1</dimDescrp>
<bitsPerVal Sync="TRUE">8</bitsPerVal>
<valUnit>
<UOM gmlID="" type="length"/>
</valUnit>
<seqID>
<aName>1</aName>
<attributeType>
<aName>1</aName>
</attributeType>
</seqID>
</Band>
<Band>
<dimDescrp Sync="TRUE">Band_2</dimDescrp>
<bitsPerVal Sync="TRUE">8</bitsPerVal>
<valUnit>
<UOM gmlID="" type="length"/>
</valUnit>
<seqID>
<aName>2</aName>
<attributeType>
<aName>2</aName>
</attributeType>
</seqID>
</Band>
<Band>
<dimDescrp Sync="TRUE">Band_3</dimDescrp>
<bitsPerVal Sync="TRUE">8</bitsPerVal>
<valUnit>
<UOM gmlID="" type="length"/>
</valUnit>
<seqID>
<aName>3</aName>
<attributeType>
<aName>3</aName>
</attributeType>
</seqID>
</Band>
</covDim>
<attDesc>Altos Serrezuela</attDesc>
<trianInd>False</trianInd>
<radCalDatAv>False</radCalDatAv>
<camCalInAv>False</camCalInAv>
<filmDistInAv>False</filmDistInAv>
<lensDistInAv>False</lensDistInAv>
</ImgDesc>
</contInfo>
</metadata>
