{ "currentVersion": 11.3, "serviceDescription": "
Este conjunto de datos contiene el mosaic dataset de la ortoimagen del centro poblado Altos de Serrezuela, localidad de Usaquén en Bogotá D.C. El producto corresponde a una true ortho RGB de 5 cm de tamaño de pixel, 3 bandas de 8 bits, escala de referencia 1:500 y cobertura aproximada de 40 hectáreas. Las imágenes fueron capturadas el 20 de abril de 2026 mediante cámara Sony RX1 RII de 42 megapíxeles con lente de 35 mm. El procesamiento se realizó entre el 5 y el 20 de mayo de 2026. El sistema de referencia original y de publicación es GCS WGS 1984 (EPSG:4326). Para la publicación se agrego el GeoTIFF como único ítem del mosaic dataset.<\/SPAN><\/P><\/DIV><\/DIV>",
"name": "Imagenes/orthodronaltosserrezuela2026",
"description": " Este conjunto de datos contiene el mosaic dataset de la ortoimagen del centro poblado Altos de Serrezuela, localidad de Usaquén en Bogotá D.C. El producto corresponde a una true ortho RGB de 5 cm de tamaño de pixel, 3 bandas de 8 bits, escala de referencia 1:500 y cobertura aproximada de 40 hectáreas. Las imágenes fueron capturadas el 20 de abril de 2026 mediante cámara Sony RX1 RII de 42 megapíxeles con lente de 35 mm. El procesamiento se realizó entre el 5 y el 20 de mayo de 2026. El sistema de referencia original y de publicación es GCS WGS 1984 (EPSG:4326). Para la publicación se agrego el GeoTIFF como único ítem del mosaic dataset.<\/SPAN><\/P><\/DIV><\/DIV>",
"extent": {
"xmin": -74.02066166834099,
"ymin": 4.758116761282009,
"xmax": -74.011699889889,
"ymax": 4.766610259317,
"spatialReference": {
"wkid": 4326,
"latestWkid": 4326
}
},
"initialExtent": {
"xmin": -74.02066166834099,
"ymin": 4.758116761282009,
"xmax": -74.011699889889,
"ymax": 4.766610259317,
"spatialReference": {
"wkid": 4326,
"latestWkid": 4326
}
},
"fullExtent": {
"xmin": -74.02066166834099,
"ymin": 4.758116761282009,
"xmax": -74.011699889889,
"ymax": 4.766610259317,
"spatialReference": {
"wkid": 4326,
"latestWkid": 4326
}
},
"sortableFields": "MinPS,MaxPS,LowPS,HighPS,CenterX,CenterY,ZOrder,Shape_Length,Shape_Area",
"bandCount": 3,
"pixelType": "U8",
"minValues": [],
"maxValues": [],
"meanValues": [],
"stdvValues": [],
"hasMultidimensions": false,
"pixelSizeX": 4.507029999995071E-7,
"pixelSizeY": 4.5070299999950465E-7,
"meanPixelSize": 0.05017202845894577,
"datasetFormat": "AMD",
"uncompressedSize": 1124141940,
"blockWidth": 2048,
"blockHeight": 256,
"compressionType": "None",
"bandNames": [
"Band_1",
"Band_2",
"Band_3"
],
"allowCopy": true,
"allowAnalysis": true,
"itemAccess": false,
"inspectionCapabilities": "",
"minPixelSize": 0,
"maxPixelSize": 0,
"copyrightText": "Producto generado por la Unidad Administrativa Especial de Catastro Distrital (UAECD) / IDECA - Subgerencia de Operaciones.",
"serviceDataType": "esriImageServiceDataTypeRGB",
"serviceSourceType": "esriImageServiceSourceTypeMosaicDataset",
"objectIdField": "OBJECTID",
"fields": [
{
"name": "OBJECTID",
"type": "esriFieldTypeOID",
"alias": "OBJECTID",
"domain": null
},
{
"name": "Shape",
"type": "esriFieldTypeGeometry",
"alias": "Shape",
"domain": null
},
{
"name": "Name",
"type": "esriFieldTypeString",
"alias": "Name",
"domain": null,
"length": 200
},
{
"name": "MinPS",
"type": "esriFieldTypeDouble",
"alias": "MinPS",
"domain": null
},
{
"name": "MaxPS",
"type": "esriFieldTypeDouble",
"alias": "MaxPS",
"domain": null
},
{
"name": "LowPS",
"type": "esriFieldTypeDouble",
"alias": "LowPS",
"domain": null
},
{
"name": "HighPS",
"type": "esriFieldTypeDouble",
"alias": "HighPS",
"domain": null
},
{
"name": "Category",
"type": "esriFieldTypeInteger",
"alias": "Category",
"domain": {
"type": "codedValue",
"name": "MosaicCatalogItemCategoryDomain",
"description": "Catalog item categories.",
"codedValues": [
{
"name": "Unknown",
"code": 0
},
{
"name": "Primary",
"code": 1
},
{
"name": "Overview",
"code": 2
},
{
"name": "Unprocessed Overview",
"code": 3
},
{
"name": "Partial Overview",
"code": 4
},
{
"name": "Inactive",
"code": 5
},
{
"name": "Uploaded",
"code": 253
},
{
"name": "Incomplete",
"code": 254
},
{
"name": "Custom",
"code": 255
}
],
"mergePolicy": "esriMPTDefaultValue",
"splitPolicy": "esriSPTDefaultValue"
}
},
{
"name": "Tag",
"type": "esriFieldTypeString",
"alias": "Tag",
"domain": null,
"length": 100
},
{
"name": "GroupName",
"type": "esriFieldTypeString",
"alias": "GroupName",
"domain": null,
"length": 100
},
{
"name": "ProductName",
"type": "esriFieldTypeString",
"alias": "ProductName",
"domain": null,
"length": 100
},
{
"name": "CenterX",
"type": "esriFieldTypeDouble",
"alias": "CenterX",
"domain": null
},
{
"name": "CenterY",
"type": "esriFieldTypeDouble",
"alias": "CenterY",
"domain": null
},
{
"name": "ZOrder",
"type": "esriFieldTypeInteger",
"alias": "ZOrder",
"domain": null
},
{
"name": "Shape_Length",
"type": "esriFieldTypeDouble",
"alias": "Shape_Length",
"domain": null
},
{
"name": "Shape_Area",
"type": "esriFieldTypeDouble",
"alias": "Shape_Area",
"domain": null
}
],
"capabilities": "Image,Metadata,Mensuration,Catalog",
"defaultMosaicMethod": "Northwest",
"allowedMosaicMethods": "NorthWest,Center,LockRaster,ByAttribute,Nadir,Viewpoint,Seamline,None",
"sortField": "",
"sortValue": null,
"sortAscending": true,
"mosaicOperator": "First",
"maxDownloadSizeLimit": 2048,
"defaultCompressionQuality": 75,
"defaultResamplingMethod": "Bilinear",
"maxImageHeight": 4100,
"maxImageWidth": 15000,
"maxRecordCount": 1000,
"maxDownloadImageCount": 0,
"maxMosaicImageCount": 20,
"allowRasterFunction": true,
"rasterFunctionInfos": [
{
"name": "None",
"description": "Make a Raster or Raster Dataset into a Function Raster Dataset.",
"help": ""
}
],
"rasterTypeInfos": [
{
"name": "Raster Dataset",
"description": "Supports all ArcGIS Raster Datasets",
"help": ""
}
],
"mensurationCapabilities": "Basic",
"hasHistograms": false,
"hasColormap": false,
"hasRasterAttributeTable": false,
"minScale": 0,
"maxScale": 0,
"exportTilesAllowed": false,
"supportsStatistics": true,
"supportsAdvancedQueries": true,
"editFieldsInfo": null,
"ownershipBasedAccessControlForRasters": null,
"allowComputeTiePoints": false,
"useStandardizedQueries": true,
"advancedQueryCapabilities": {
"useStandardizedQueries": true,
"supportsStatistics": true,
"supportsOrderBy": true,
"supportsDistinct": true,
"supportsPagination": true
},
"spatialReference": {
"wkid": 4326,
"latestWkid": 4326
}
}