<?xml version="1.0" encoding="UTF-8" standalone="no"?>
<metadata xml:lang="en">
<Esri>
<CreaDate>20260622</CreaDate>
<CreaTime>13290600</CreaTime>
<ArcGISFormat>1.0</ArcGISFormat>
<SyncOnce>FALSE</SyncOnce>
<DataProperties>
<lineage>
<Process Date="20260622" Name="" Time="132906" ToolSource="c:\program files\arcgis\pro\Resources\ArcToolbox\toolboxes\Data Management Tools.tbx\CreateMosaicDataset" export="">CreateMosaicDataset \\idecafs1\imagenes2\ProductosRaster\Ortoimagenes\OrtoUrbana2025_2\OrtoUrbana2025.gdb OrtoUrbana2025 GEOGCS["GCS_WGS_1984",DATUM["D_WGS_1984",SPHEROID["WGS_1984",6378137.0,298.257223563]],PRIMEM["Greenwich",0.0],UNIT["Degree",0.0174532925199433]] 4 8_BIT_UNSIGNED NONE #</Process>
<Process Date="20260622" Name="" Time="133404" ToolSource="c:\program files\arcgis\pro\Resources\ArcToolbox\toolboxes\Data Management Tools.tbx\AddRastersToMosaicDataset" export="">AddRastersToMosaicDataset \\idecafs1\imagenes2\ProductosRaster\Ortoimagenes\OrtoUrbana2025_2\OrtoUrbana2025.gdb\OrtoUrbana2025 "Raster Dataset" \\idecafs1\imagenes2\ProductosRaster\Ortoimagenes\OrtoUrbana2025_2\OrtoUrbana2025_COG.tif UPDATE_CELL_SIZES NO_BOUNDARY NO_OVERVIEWS # 0 1500 "PROJCS["Transverse_Mercator",GEOGCS["GCS_SISTEMA_DE_REFERENCIA_GEOCENTRICO_PARA_AMERICA_DEL_SUR_2000",DATUM["D_SIRGAS_2000",SPHEROID["GRS_1980",6378137.0,298.257222101]],PRIMEM["Greenwich",0.0],UNIT["Degree",0.0174532925199433]],PROJECTION["Transverse_Mercator"],PARAMETER["false_easting",92334.879],PARAMETER["false_northing",109320.965],PARAMETER["central_meridian",-74.14659166670094],PARAMETER["scale_factor",1.0003998033],PARAMETER["latitude_of_origin",4.680486111099987],UNIT["Meter",1.0]];-5533100 -10414600 10000;-100000 10000;-100000 10000;0.001;0.001;0.001;IsHighPrecision" *.tif NO_SUBFOLDERS EXCLUDE_DUPLICATES NO_PYRAMIDS NO_STATISTICS NO_THUMBNAILS "Carga OrtoUrbana2025 COG" FORCE_SPATIAL_REFERENCE NO_STATISTICS # USE_PIXEL_CACHE \\idecafs1\imagenes2\ProductosRaster\Ortoimagenes\OrtoUrbana2025_2\pixel_cache</Process>
<Process Date="20260622" Name="" Time="144733" ToolSource="c:\program files\arcgis\pro\Resources\ArcToolbox\toolboxes\Data Management Tools.tbx\SetRasterProperties" export="">SetRasterProperties \\idecafs1\imagenes2\ProductosRaster\Ortoimagenes\OrtoUrbana2025_2\OrtoUrbana2025.gdb\OrtoUrbana2025 # # # "1 255;2 255;3 255;4 255" # #</Process>
</lineage>
<itemProps>
<itemName Sync="TRUE">OrtoUrbana2025</itemName>
<itemLocation>
<linkage Sync="TRUE">file://\\idecafs1\imagenes2\ProductosRaster\Ortoimagenes\OrtoUrbana2025_2\OrtoUrbana2025.gdb</linkage>
<protocol Sync="TRUE">Local Area Network</protocol>
</itemLocation>
<nativeExtBox>
<westBL Sync="TRUE">-74.224934</westBL>
<eastBL Sync="TRUE">-74.018961</eastBL>
<southBL Sync="TRUE">4.486165</southBL>
<northBL Sync="TRUE">4.837960</northBL>
<exTypeCode Sync="TRUE">1</exTypeCode>
</nativeExtBox>
</itemProps>
<coordRef>
<type Sync="TRUE">Geographic</type>
<geogcsn Sync="TRUE">GCS_WGS_1984</geogcsn>
<csUnits Sync="TRUE">Angular Unit: Degree (0.017453)</csUnits>
<peXml Sync="TRUE">&lt;GeographicCoordinateSystem xsi:type='typens:GeographicCoordinateSystem' xmlns:xsi='http://www.w3.org/2001/XMLSchema-instance' xmlns:xs='http://www.w3.org/2001/XMLSchema' xmlns:typens='http://www.esri.com/schemas/ArcGIS/3.4.0'&gt;&lt;WKT&gt;GEOGCS[&amp;quot;GCS_WGS_1984&amp;quot;,DATUM[&amp;quot;D_WGS_1984&amp;quot;,SPHEROID[&amp;quot;WGS_1984&amp;quot;,6378137.0,298.257223563]],PRIMEM[&amp;quot;Greenwich&amp;quot;,0.0],UNIT[&amp;quot;Degree&amp;quot;,0.0174532925199433],AUTHORITY[&amp;quot;EPSG&amp;quot;,4326]]&lt;/WKT&gt;&lt;XOrigin&gt;-400&lt;/XOrigin&gt;&lt;YOrigin&gt;-400&lt;/YOrigin&gt;&lt;XYScale&gt;11258999068426.238&lt;/XYScale&gt;&lt;ZOrigin&gt;-100000&lt;/ZOrigin&gt;&lt;ZScale&gt;10000&lt;/ZScale&gt;&lt;MOrigin&gt;-100000&lt;/MOrigin&gt;&lt;MScale&gt;10000&lt;/MScale&gt;&lt;XYTolerance&gt;8.983152841195215e-09&lt;/XYTolerance&gt;&lt;ZTolerance&gt;0.001&lt;/ZTolerance&gt;&lt;MTolerance&gt;0.001&lt;/MTolerance&gt;&lt;HighPrecision&gt;true&lt;/HighPrecision&gt;&lt;LeftLongitude&gt;-180&lt;/LeftLongitude&gt;&lt;WKID&gt;4326&lt;/WKID&gt;&lt;LatestWKID&gt;4326&lt;/LatestWKID&gt;&lt;/GeographicCoordinateSystem&gt;</peXml>
</coordRef>
<RasterProperties>
<General>
<PixelDepth Sync="TRUE">8</PixelDepth>
<HasColormap Sync="TRUE">FALSE</HasColormap>
<CompressionType Sync="TRUE">None</CompressionType>
<NumBands Sync="TRUE">4</NumBands>
<Format Sync="TRUE">AMD</Format>
<HasPyramids Sync="TRUE">TRUE</HasPyramids>
<SourceType Sync="TRUE">continuous</SourceType>
<PixelType Sync="TRUE">unsigned integer</PixelType>
<NoDataValue Sync="TRUE">255</NoDataValue>
</General>
<Properties>
<MaxImageHeight Sync="TRUE">4100</MaxImageHeight>
<MaxImageWidth Sync="TRUE">15000</MaxImageWidth>
<MaxRecordCount Sync="TRUE">2000</MaxRecordCount>
<MaxDownloadImageCount Sync="TRUE">0</MaxDownloadImageCount>
<MaxDownloadSizeLimit Sync="TRUE">2048</MaxDownloadSizeLimit>
<MaxMosaicImageCount Sync="TRUE">30</MaxMosaicImageCount>
<DefaultCompressionQuality Sync="TRUE">85</DefaultCompressionQuality>
<DefaultCompressionTolerance Sync="TRUE">0.01</DefaultCompressionTolerance>
<BlendWidth Sync="TRUE">10</BlendWidth>
<ViewpointSpacingX Sync="TRUE">600</ViewpointSpacingX>
<ViewpointSpacingY Sync="TRUE">300</ViewpointSpacingY>
<AllowedItemMetadata Sync="TRUE">BASIC</AllowedItemMetadata>
<DefaultResamplingMethod Sync="TRUE">1</DefaultResamplingMethod>
<AllowedMosaicMethods Sync="TRUE">Center</AllowedMosaicMethods>
<AllowedCompressions Sync="TRUE">JPEG,LERC,LERC,LERC,LERC</AllowedCompressions>
<AllowedMensurationCapabilities Sync="TRUE">Basic</AllowedMensurationCapabilities>
<AvailableMensurationCapabilities Sync="TRUE">None,Basic,Base-Top Height,Top-Top Shadow Height,Base-Top Shadow Height,3D</AvailableMensurationCapabilities>
<ClipToBoundary Sync="TRUE">-1</ClipToBoundary>
<FootprintMayContainNoData Sync="TRUE">-1</FootprintMayContainNoData>
<CellSizeTolerance Sync="TRUE">0.8</CellSizeTolerance>
<MinimumPixelContribution Sync="TRUE">1</MinimumPixelContribution>
<AvailableMosaicMethods Sync="TRUE">NorthWest,Center,LockRaster,ByAttribute,Nadir,Viewpoint,Seamline,None</AvailableMosaicMethods>
<AvailableCompressionMethods Sync="TRUE">None,JPEG,LZ77,LERC</AvailableCompressionMethods>
<AvailableItemMetadataLevels Sync="TRUE">None,Basic,Full</AvailableItemMetadataLevels>
<BandDefinitionKeyword Sync="TRUE">NONE</BandDefinitionKeyword>
<_docversion_ Sync="TRUE">10</_docversion_>
<AllowedFields Sync="TRUE">Name,MinPS,MaxPS,LowPS,HighPS,Tag,GroupName,ProductName,CenterX,CenterY,ZOrder,Shape_Length,Shape_Area</AllowedFields>
<LowCellSize Sync="TRUE">4.49157642059756E-07</LowCellSize>
<HighCellSize Sync="TRUE">1.14984356367298E-04</HighCellSize>
<MaxCellSize Sync="TRUE">1.14984356367298E-03</MaxCellSize>
<PixelCacheLocation Sync="TRUE">\\idecafs1\imagenes2\ProductosRaster\Ortoimagenes\OrtoUrbana2025_2\pixel_cache</PixelCacheLocation>
<ClipToFootprint Sync="TRUE">-1</ClipToFootprint>
<ApplyColorCorrection Sync="TRUE">0</ApplyColorCorrection>
<SortAscending Sync="TRUE">-1</SortAscending>
<MosaicOperator Sync="TRUE">1</MosaicOperator>
<UseTime Sync="TRUE">0</UseTime>
<DataType Sync="TRUE">Generic</DataType>
<AvailableFields Sync="TRUE">Name,MinPS,MaxPS,LowPS,HighPS,Tag,GroupName,ProductName,CenterX,CenterY,ZOrder,Shape_Length,Shape_Area</AvailableFields>
<SortableFields Sync="TRUE">MinPS,MaxPS,LowPS,HighPS,CenterX,CenterY,ZOrder,Shape_Length,Shape_Area</SortableFields>
<BlendWidthUnits Sync="TRUE">1</BlendWidthUnits>
<ClipOverviewsToFootprint Sync="TRUE">0</ClipOverviewsToFootprint>
<HasDodgingTable Sync="TRUE">0</HasDodgingTable>
<StartTimeFieldName Sync="TRUE"/>
<EndTimeFieldName Sync="TRUE"/>
<TimeValueFormat Sync="TRUE"/>
<UseRange Sync="TRUE">0</UseRange>
<TimeInterval Sync="TRUE"/>
<TimeIntervalUnits Sync="TRUE"/>
</Properties>
<Functions Sync="TRUE">
<Function Description="Performs on-the-fly mosaic on a raster catalog." Name="Mosaic Function"/>
</Functions>
</RasterProperties>
</DataProperties>
<SyncDate>20260623</SyncDate>
<SyncTime>20465000</SyncTime>
<ModDate>20260623</ModDate>
<ModTime>20483200</ModTime>
<scaleRange>
<minScale>150000000</minScale>
<maxScale>5000</maxScale>
</scaleRange>
<ArcGISProfile>ISO19139</ArcGISProfile>
</Esri>
<mdLang>
<languageCode value="spa"/>
<countryCode Sync="TRUE" value="USA"/>
</mdLang>
<mdChar>
<CharSetCd value="004"/>
</mdChar>
<mdHrLv>
<ScopeCd value="005"/>
</mdHrLv>
<mdHrLvName>dataset</mdHrLvName>
<mdContact>
<rpOrgName>Secretaria Distrital de Planeacion</rpOrgName>
<rpPosName>Subsecretaria de Informacion</rpPosName>
<rpCntInfo>
<cntPhone>
<voiceNum>+57 (601) 3358000</voiceNum>
</cntPhone>
<cntAddress>
<delPoint>Cra. 30 No. 25-90</delPoint>
<city>Bogota D.C.</city>
<adminArea>Cundinamarca</adminArea>
<postCode>111311</postCode>
<country>CO</country>
</cntAddress>
<cntHours>Lunes a viernes de 6:00 a.m. a 5:30 p.m.</cntHours>
</rpCntInfo>
<role>
<RoleCd value="007"/>
</role>
</mdContact>
<mdDateSt Sync="TRUE">20260623</mdDateSt>
<mdStanName>ArcGIS Metadata</mdStanName>
<mdStanVer>1.0</mdStanVer>
<dataIdInfo>
<idCitation>
<resTitle>orthourbana2025prueba</resTitle>
<resAltTitle>OrtoUrbana2025</resAltTitle>
<date>
<createDate>2025-01-01</createDate>
<pubDate>2025-10-31</pubDate>
</date>
<citRespParty>
<rpOrgName>Secretaria Distrital de Planeacion</rpOrgName>
<rpPosName>Subsecretaria de Informacion</rpPosName>
<rpCntInfo>
<cntPhone>
<voiceNum>+57 (601) 3358000</voiceNum>
</cntPhone>
<cntAddress>
<delPoint>Cra. 30 No. 25-90</delPoint>
<city>Bogota D.C.</city>
<adminArea>Cundinamarca</adminArea>
<postCode>111311</postCode>
<country>CO</country>
</cntAddress>
</rpCntInfo>
<role>
<RoleCd value="003"/>
</role>
</citRespParty>
<citRespParty>
<rpOrgName>Sistemas de Informacion Geografica de Latinoamerica (SIGLA S.A.S.)</rpOrgName>
<rpPosName>Grupo de Produccion</rpPosName>
<rpCntInfo>
<cntPhone>
<voiceNum>+57 (601) 7293735</voiceNum>
</cntPhone>
<cntAddress>
<delPoint>Carrera 47 No. 106-08</delPoint>
<city>Bogota D.C.</city>
<adminArea>Cundinamarca</adminArea>
<postCode>111111</postCode>
<country>CO</country>
<eMailAdd>info@sigla-sas.com</eMailAdd>
</cntAddress>
</rpCntInfo>
<role>
<RoleCd value="006"/>
</role>
</citRespParty>
<presForm>
<PresFormCd Sync="TRUE" value="005"/>
</presForm>
</idCitation>
<idAbs>&lt;div style='text-align:Left;'&gt;&lt;div&gt;&lt;p&gt;&lt;span&gt;Este conjunto de datos contiene el mosaic dataset de ortoimagenes del area urbana de Bogota D.C. El producto se publico a partir del archivo OrtoUrbana2025_COG.tif, un Cloud Optimized GeoTIFF de 4 bandas de 8 bits (RGBI), comprimido con JPEG calidad 85 y con piramides internas. El raster final tiene tamano de pixel de 0,05 m (5 cm de tamano de pixel en el COG final). La informacion tecnica de referencia indica captura durante 2024 - 2025, segun informe tecnico de entrega mediante sistema combinado Riegl VQ580II y camara Phase One iXM-RS 150F, segun documentacion tecnica. El sistema de referencia original corresponde a MAGNA Ciudad Bogota / Transverse Mercator local; el mosaic dataset fue creado en GCS WGS 1984 (EPSG:4326). El valor NoData del producto es blanco 255 en las 4 bandas. El footprint y boundary del mosaic dataset fue validado en EPSG:4326.&lt;/span&gt;&lt;/p&gt;&lt;/div&gt;&lt;/div&gt;</idAbs>
<idPurp>Servir como insumo cartografico base para visualizacion, consulta, analisis territorial, planificacion urbana, gestion catastral y generacion de productos derivados sobre el area urbana de Bogota D.C.</idPurp>
<idCredit>Producto entregado por la Secretaria Distrital de Planeacion (SDP) y gestionado para publicacion en el ecosistema IDECA/UAECD. Procesamiento tecnico reportado por Sistemas de Informacion Geografica de Latinoamerica (SIGLA S.A.S.).</idCredit>
<idPoC>
<rpOrgName>Secretaria Distrital de Planeacion</rpOrgName>
<rpPosName>Subsecretaria de Informacion</rpPosName>
<rpCntInfo>
<cntPhone>
<voiceNum>+57 (601) 3358000</voiceNum>
</cntPhone>
<cntAddress>
<delPoint>Cra. 30 No. 25-90</delPoint>
<city>Bogota D.C.</city>
<adminArea>Cundinamarca</adminArea>
<postCode>111311</postCode>
<country>CO</country>
</cntAddress>
</rpCntInfo>
<role>
<RoleCd value="007"/>
</role>
</idPoC>
<placeKeys>
<keyword>Republica de Colombia</keyword>
<keyword>Cundinamarca</keyword>
<keyword>Bogota D.C.</keyword>
<keyword>Area urbana</keyword>
</placeKeys>
<themeKeys>
<keyword>Ortoimagen</keyword>
<keyword>Ortofotomosaico</keyword>
<keyword>Ortofoto</keyword>
<keyword>Mosaico</keyword>
<keyword>Fotogrametria</keyword>
<keyword>LiDAR</keyword>
<keyword>COG</keyword>
</themeKeys>
<searchKeys>
<keyword>Republica de Colombia</keyword>
<keyword>Cundinamarca</keyword>
<keyword>Bogota D.C.</keyword>
<keyword>Area urbana</keyword>
<keyword>Ortoimagen</keyword>
<keyword>Ortofotomosaico</keyword>
<keyword>Ortofoto</keyword>
<keyword>Mosaico</keyword>
<keyword>Fotogrametria</keyword>
<keyword>LiDAR</keyword>
<keyword>COG</keyword>
</searchKeys>
<resConst>
<Consts>
<useLimit>&lt;div style='text-align:Left;'&gt;&lt;div&gt;&lt;p&gt;&lt;span&gt;Licencia CC BY 4.0 para el acceso y uso de la informacion objeto de entrega. Los usuarios pueden copiar, distribuir, mostrar, ejecutar, adaptar, modificar y comercializar la obra original o productos derivados, siempre reconociendo la autoria segun las especificaciones establecidas por el autor o titular. La comunicacion de entrega indica ademas el compromiso de remitir a la Secretaria Distrital de Planeacion, en formato digital tipo shape o GDB, copia de los productos cartograficos generados a partir del uso de la informacion suministrada para su eventual incorporacion en la Base de Datos Geografica corporativa administrada por la SDP.&lt;/span&gt;&lt;/p&gt;&lt;/div&gt;&lt;/div&gt;</useLimit>
</Consts>
</resConst>
<spatRpType>
<SpatRepTypCd value="002"/>
</spatRpType>
<dataLang>
<languageCode value="spa"/>
<countryCode Sync="TRUE" value="USA"/>
</dataLang>
<dataChar>
<CharSetCd value="004"/>
</dataChar>
<dataExt>
<geoEle>
<GeoBndBox>
<exTypeCode>true</exTypeCode>
<westBL>-74.224934</westBL>
<eastBL>-74.018961</eastBL>
<southBL>4.486165</southBL>
<northBL>4.83796</northBL>
</GeoBndBox>
</geoEle>
</dataExt>
<envirDesc Sync="TRUE">Microsoft Windows Server 2016 Technical Preview Version 10.0 (Build 20348) ; Esri ArcGIS 13.4.0.55405</envirDesc>
<dataExt>
<geoEle>
<GeoBndBox esriExtentType="search">
<exTypeCode Sync="TRUE">1</exTypeCode>
<westBL Sync="TRUE">-74.224934</westBL>
<eastBL Sync="TRUE">-74.018961</eastBL>
<northBL Sync="TRUE">4.837960</northBL>
<southBL Sync="TRUE">4.486165</southBL>
</GeoBndBox>
</geoEle>
</dataExt>
<tpCat>
<TopicCatCd value="007"/>
</tpCat>
<tpCat>
<TopicCatCd value="010"/>
</tpCat>
<tpCat>
<TopicCatCd value="015"/>
</tpCat>
</dataIdInfo>
<dqInfo>
<dqScope>
<scpLvl>
<ScopeCd value="005"/>
</scpLvl>
</dqScope>
<dataLineage>
<statement>El mosaic dataset se construyo a partir del COG OrtoUrbana2025_COG.tif generado desde 1961 teselas TIFF RGBI activas de la ortofoto urbana 2025. La tesela 000458.tif fue excluida por corrupcion interna confirmada. Durante la consolidacion se forzaron las primeras 4 bandas RGBI, se aceptaron diferencias textuales de CRS entre insumos y se genero un COG con JPEG calidad 85, BigTIFF, bloques internos y piramides internas. El proceso de publicacion en mosaic dataset agrego el COG como unico item, definio NoData 255 para las 4 bandas, omitio overviews externos para usar las piramides internas del COG, registro las funciones raster urbanas y aplico el footprint/boundary externo borde_gdal_perfecto_urbanaWGS84.shp.</statement>
</dataLineage>
</dqInfo>
<refSysInfo>
<RefSystem>
<refSysID>
<identCode code="4326"/>
<idCodeSpace>EPSG</idCodeSpace>
<idVersion Sync="TRUE">6.2(3.0.1)</idVersion>
</refSysID>
</RefSystem>
</refSysInfo>
<spatRepInfo>
<Georect>
<cellGeo>
<CellGeoCd Sync="TRUE" value="002"/>
</cellGeo>
<numDims Sync="TRUE">2</numDims>
<tranParaAv Sync="TRUE">1</tranParaAv>
<chkPtAv Sync="TRUE">0</chkPtAv>
<cornerPts>
<pos Sync="TRUE">-74.224934 4.486165</pos>
</cornerPts>
<cornerPts>
<pos Sync="TRUE">-74.224934 4.837960</pos>
</cornerPts>
<cornerPts>
<pos Sync="TRUE">-74.018961 4.837960</pos>
</cornerPts>
<cornerPts>
<pos Sync="TRUE">-74.018961 4.486165</pos>
</cornerPts>
<centerPt>
<pos Sync="TRUE">-74.121947 4.662063</pos>
</centerPt>
<axisDimension type="002">
<dimSize Sync="TRUE">458577</dimSize>
<dimResol>
<value Sync="TRUE" uom="deg">0.000000</value>
</dimResol>
</axisDimension>
<axisDimension type="001">
<dimSize Sync="TRUE">783232</dimSize>
<dimResol>
<value Sync="TRUE" uom="deg">0.000000</value>
</dimResol>
</axisDimension>
<ptInPixel>
<PixOrientCd Sync="TRUE" value="001"/>
</ptInPixel>
</Georect>
</spatRepInfo>
<contInfo>
<ImgDesc>
<contentTyp>
<ContentTypCd Sync="TRUE" value="001"/>
</contentTyp>
<covDim>
<Band>
<dimDescrp Sync="TRUE">Band_1</dimDescrp>
<bitsPerVal Sync="TRUE">8</bitsPerVal>
<valUnit>
<UOM gmlID="" type="length"/>
</valUnit>
<seqID>
<aName>1</aName>
<attributeType>
<aName>1</aName>
</attributeType>
</seqID>
</Band>
<Band>
<dimDescrp Sync="TRUE">Band_2</dimDescrp>
<bitsPerVal Sync="TRUE">8</bitsPerVal>
<valUnit>
<UOM gmlID="" type="length"/>
</valUnit>
<seqID>
<aName>2</aName>
<attributeType>
<aName>2</aName>
</attributeType>
</seqID>
</Band>
<Band>
<dimDescrp Sync="TRUE">Band_3</dimDescrp>
<bitsPerVal Sync="TRUE">8</bitsPerVal>
<valUnit>
<UOM gmlID="" type="length"/>
</valUnit>
<seqID>
<aName>3</aName>
<attributeType>
<aName>3</aName>
</attributeType>
</seqID>
</Band>
<Band>
<dimDescrp Sync="TRUE">Band_4</dimDescrp>
<bitsPerVal Sync="TRUE">8</bitsPerVal>
<valUnit>
<UOM gmlID="" type="length"/>
</valUnit>
<seqID>
<aName>4</aName>
<attributeType>
<aName>4</aName>
</attributeType>
</seqID>
</Band>
</covDim>
<attDesc>ortourbana2025</attDesc>
<trianInd>False</trianInd>
<radCalDatAv>False</radCalDatAv>
<camCalInAv>False</camCalInAv>
<filmDistInAv>False</filmDistInAv>
<lensDistInAv>False</lensDistInAv>
</ImgDesc>
</contInfo>
</metadata>
