{ "currentVersion": 11.3, "serviceDescription": "
Este conjunto de datos contiene el mosaic dataset de ortoimagenes del area urbana de Bogota D.C. El producto se publico a partir del archivo OrtoUrbana2025_COG.tif, un Cloud Optimized GeoTIFF de 4 bandas de 8 bits (RGBI), comprimido con JPEG calidad 85 y con piramides internas. El raster final tiene tamano de pixel de 0,05 m (5 cm de tamano de pixel en el COG final). La informacion tecnica de referencia indica captura durante 2024 - 2025, segun informe tecnico de entrega mediante sistema combinado Riegl VQ580II y camara Phase One iXM-RS 150F, segun documentacion tecnica. El sistema de referencia original corresponde a MAGNA Ciudad Bogota / Transverse Mercator local; el mosaic dataset fue creado en GCS WGS 1984 (EPSG:4326). El valor NoData del producto es blanco 255 en las 4 bandas. El footprint y boundary del mosaic dataset fue validado en EPSG:4326.<\/span><\/p><\/div><\/div>",
"name": "Imagenes/orthourbana2025prueba",
"description": " Este conjunto de datos contiene el mosaic dataset de ortoimagenes del area urbana de Bogota D.C. El producto se publico a partir del archivo OrtoUrbana2025_COG.tif, un Cloud Optimized GeoTIFF de 4 bandas de 8 bits (RGBI), comprimido con JPEG calidad 85 y con piramides internas. El raster final tiene tamano de pixel de 0,05 m (5 cm de tamano de pixel en el COG final). La informacion tecnica de referencia indica captura durante 2024 - 2025, segun informe tecnico de entrega mediante sistema combinado Riegl VQ580II y camara Phase One iXM-RS 150F, segun documentacion tecnica. El sistema de referencia original corresponde a MAGNA Ciudad Bogota / Transverse Mercator local; el mosaic dataset fue creado en GCS WGS 1984 (EPSG:4326). El valor NoData del producto es blanco 255 en las 4 bandas. El footprint y boundary del mosaic dataset fue validado en EPSG:4326.<\/span><\/p><\/div><\/div>",
"extent": {
"xmin": -74.22493386799994,
"ymin": 4.486165315694294,
"xmax": -74.0189605039771,
"ymax": 4.837959954000041,
"spatialReference": {
"wkid": 4326,
"latestWkid": 4326
}
},
"initialExtent": {
"xmin": -74.22493386799994,
"ymin": 4.486165315694294,
"xmax": -74.0189605039771,
"ymax": 4.837959954000041,
"spatialReference": {
"wkid": 4326,
"latestWkid": 4326
}
},
"fullExtent": {
"xmin": -74.22493386799994,
"ymin": 4.486165315694294,
"xmax": -74.0189605039771,
"ymax": 4.837959954000041,
"spatialReference": {
"wkid": 4326,
"latestWkid": 4326
}
},
"sortableFields": "MinPS,MaxPS,LowPS,HighPS,CenterX,CenterY,ZOrder,Shape_Length,Shape_Area",
"bandCount": 4,
"pixelType": "U8",
"minValues": [],
"maxValues": [],
"meanValues": [],
"stdvValues": [],
"hasMultidimensions": false,
"pixelSizeX": 4.4915764205976035E-7,
"pixelSizeY": 4.4915764205975606E-7,
"meanPixelSize": 0.04999999999999972,
"datasetFormat": "AMD",
"uncompressedSize": 1436688723456,
"blockWidth": 2048,
"blockHeight": 256,
"compressionType": "None",
"bandNames": [
"Band_1",
"Band_2",
"Band_3",
"Band_4"
],
"allowCopy": true,
"allowAnalysis": true,
"itemAccess": false,
"inspectionCapabilities": "",
"noDataValue": 255,
"noDataValues": [
255,
255,
255,
255
],
"minPixelSize": 0,
"maxPixelSize": 0,
"copyrightText": "Producto entregado por la Secretaria Distrital de Planeacion (SDP) y gestionado para publicacion en el ecosistema IDECA/UAECD. Procesamiento tecnico reportado por Sistemas de Informacion Geografica de Latinoamerica (SIGLA S.A.S.).",
"serviceDataType": "esriImageServiceDataTypeGeneric",
"serviceSourceType": "esriImageServiceSourceTypeMosaicDataset",
"objectIdField": "OBJECTID",
"fields": [
{
"name": "OBJECTID",
"type": "esriFieldTypeOID",
"alias": "OBJECTID",
"domain": null
},
{
"name": "Shape",
"type": "esriFieldTypeGeometry",
"alias": "Shape",
"domain": null
},
{
"name": "Name",
"type": "esriFieldTypeString",
"alias": "Name",
"domain": null,
"length": 200
},
{
"name": "MinPS",
"type": "esriFieldTypeDouble",
"alias": "MinPS",
"domain": null
},
{
"name": "MaxPS",
"type": "esriFieldTypeDouble",
"alias": "MaxPS",
"domain": null
},
{
"name": "LowPS",
"type": "esriFieldTypeDouble",
"alias": "LowPS",
"domain": null
},
{
"name": "HighPS",
"type": "esriFieldTypeDouble",
"alias": "HighPS",
"domain": null
},
{
"name": "Category",
"type": "esriFieldTypeInteger",
"alias": "Category",
"domain": {
"type": "codedValue",
"name": "MosaicCatalogItemCategoryDomain",
"description": "Catalog item categories.",
"codedValues": [
{
"name": "Unknown",
"code": 0
},
{
"name": "Primary",
"code": 1
},
{
"name": "Overview",
"code": 2
},
{
"name": "Unprocessed Overview",
"code": 3
},
{
"name": "Partial Overview",
"code": 4
},
{
"name": "Inactive",
"code": 5
},
{
"name": "Uploaded",
"code": 253
},
{
"name": "Incomplete",
"code": 254
},
{
"name": "Custom",
"code": 255
}
],
"mergePolicy": "esriMPTDefaultValue",
"splitPolicy": "esriSPTDefaultValue"
}
},
{
"name": "Tag",
"type": "esriFieldTypeString",
"alias": "Tag",
"domain": null,
"length": 100
},
{
"name": "GroupName",
"type": "esriFieldTypeString",
"alias": "GroupName",
"domain": null,
"length": 100
},
{
"name": "ProductName",
"type": "esriFieldTypeString",
"alias": "ProductName",
"domain": null,
"length": 100
},
{
"name": "CenterX",
"type": "esriFieldTypeDouble",
"alias": "CenterX",
"domain": null
},
{
"name": "CenterY",
"type": "esriFieldTypeDouble",
"alias": "CenterY",
"domain": null
},
{
"name": "ZOrder",
"type": "esriFieldTypeInteger",
"alias": "ZOrder",
"domain": null
},
{
"name": "Shape_Length",
"type": "esriFieldTypeDouble",
"alias": "Shape_Length",
"domain": null
},
{
"name": "Shape_Area",
"type": "esriFieldTypeDouble",
"alias": "Shape_Area",
"domain": null
}
],
"capabilities": "Catalog,Mensuration,Image,Metadata",
"defaultMosaicMethod": "Center",
"allowedMosaicMethods": "Center",
"sortField": "",
"sortValue": null,
"sortAscending": true,
"mosaicOperator": "First",
"maxDownloadSizeLimit": 2048,
"defaultCompressionQuality": 85,
"defaultResamplingMethod": "Bilinear",
"maxImageHeight": 4100,
"maxImageWidth": 15000,
"maxRecordCount": 2000,
"maxDownloadImageCount": 0,
"maxMosaicImageCount": 30,
"allowRasterFunction": true,
"rasterFunctionInfos": [
{
"name": "None",
"description": "Make a Raster or Raster Dataset into a Function Raster Dataset.",
"help": ""
},
{
"name": "Stretch_SD",
"description": "Stretch por 2 Desviaciones Estandar con DRA.",
"help": ""
},
{
"name": "ColorBalance",
"description": "Balance de color entre mosaicos.",
"help": ""
},
{
"name": "FalseColor_CIR",
"description": "Falso Color Infrarrojo: R=NIR(B4), G=Rojo(B1), B=Verde(B2).",
"help": ""
},
{
"name": "NDVI_Colorized",
"description": "NDVI coloreado automaticamente usando el colormap NDVI3 de Esri.",
"help": ""
}
],
"rasterTypeInfos": [
{
"name": "Raster Dataset",
"description": "Supports all ArcGIS Raster Datasets",
"help": ""
}
],
"mensurationCapabilities": "Basic",
"hasHistograms": false,
"hasColormap": false,
"hasRasterAttributeTable": false,
"minScale": 0,
"maxScale": 0,
"exportTilesAllowed": false,
"supportsStatistics": true,
"supportsAdvancedQueries": true,
"editFieldsInfo": null,
"ownershipBasedAccessControlForRasters": null,
"allowComputeTiePoints": false,
"useStandardizedQueries": true,
"advancedQueryCapabilities": {
"useStandardizedQueries": true,
"supportsStatistics": true,
"supportsOrderBy": true,
"supportsDistinct": true,
"supportsPagination": true
},
"spatialReference": {
"wkid": 4326,
"latestWkid": 4326
},
"resampling": false
}