<?xml version="1.0" encoding="UTF-8" standalone="no"?>
<metadata xml:lang="es">
<Esri>
<CreaDate>20180614</CreaDate>
<CreaTime>14034200</CreaTime>
<ArcGISFormat>1.0</ArcGISFormat>
<SyncOnce>FALSE</SyncOnce>
<DataProperties>
<itemProps>
<itemLocation>
<linkage Sync="TRUE">file://\\IDECA2740S20\D$\dagonzalez\08_BDG\capas\Estadisticas\raster\raster.gdb</linkage>
<protocol Sync="TRUE">Local Area Network</protocol>
</itemLocation>
<itemName Sync="TRUE">Densidad_Arbol</itemName>
<imsContentType Sync="TRUE">002</imsContentType>
<nativeExtBox>
<westBL Sync="TRUE">-8261926.144348</westBL>
<eastBL Sync="TRUE">-8238865.973261</eastBL>
<southBL Sync="TRUE">497910.519572</southBL>
<northBL Sync="TRUE">537899.784511</northBL>
<exTypeCode Sync="TRUE">1</exTypeCode>
</nativeExtBox>
</itemProps>
<copyHistory>
<copy date="20180614" dest="\\IDECA2740S20\D$\dagonzalez\08_BDG\capas\Estadisticas\raster\dens_arbol" source="K:\RASTER\dens_arbol" time="14034200"/>
</copyHistory>
<coordRef>
<type Sync="TRUE">Projected</type>
<geogcsn Sync="TRUE">GCS_WGS_1984</geogcsn>
<csUnits Sync="TRUE">Linear Unit: Meter (1.000000)</csUnits>
<projcsn Sync="TRUE">WGS_1984_Web_Mercator_Auxiliary_Sphere</projcsn>
<peXml Sync="TRUE">&lt;ProjectedCoordinateSystem xsi:type='typens:ProjectedCoordinateSystem' xmlns:xsi='http://www.w3.org/2001/XMLSchema-instance' xmlns:xs='http://www.w3.org/2001/XMLSchema' xmlns:typens='http://www.esri.com/schemas/ArcGIS/10.5'&gt;&lt;WKT&gt;PROJCS[&amp;quot;WGS_1984_Web_Mercator_Auxiliary_Sphere&amp;quot;,GEOGCS[&amp;quot;GCS_WGS_1984&amp;quot;,DATUM[&amp;quot;D_WGS_1984&amp;quot;,SPHEROID[&amp;quot;WGS_1984&amp;quot;,6378137.0,298.257223563]],PRIMEM[&amp;quot;Greenwich&amp;quot;,0.0],UNIT[&amp;quot;Degree&amp;quot;,0.0174532925199433]],PROJECTION[&amp;quot;Mercator_Auxiliary_Sphere&amp;quot;],PARAMETER[&amp;quot;False_Easting&amp;quot;,0.0],PARAMETER[&amp;quot;False_Northing&amp;quot;,0.0],PARAMETER[&amp;quot;Central_Meridian&amp;quot;,0.0],PARAMETER[&amp;quot;Standard_Parallel_1&amp;quot;,0.0],PARAMETER[&amp;quot;Auxiliary_Sphere_Type&amp;quot;,0.0],UNIT[&amp;quot;Meter&amp;quot;,1.0],AUTHORITY[&amp;quot;EPSG&amp;quot;,3857]]&lt;/WKT&gt;&lt;XOrigin&gt;-20037700&lt;/XOrigin&gt;&lt;YOrigin&gt;-30241100&lt;/YOrigin&gt;&lt;XYScale&gt;148923141.92838538&lt;/XYScale&gt;&lt;ZOrigin&gt;-100000&lt;/ZOrigin&gt;&lt;ZScale&gt;10000&lt;/ZScale&gt;&lt;MOrigin&gt;-100000&lt;/MOrigin&gt;&lt;MScale&gt;10000&lt;/MScale&gt;&lt;XYTolerance&gt;0.001&lt;/XYTolerance&gt;&lt;ZTolerance&gt;0.001&lt;/ZTolerance&gt;&lt;MTolerance&gt;0.001&lt;/MTolerance&gt;&lt;HighPrecision&gt;true&lt;/HighPrecision&gt;&lt;WKID&gt;102100&lt;/WKID&gt;&lt;LatestWKID&gt;3857&lt;/LatestWKID&gt;&lt;/ProjectedCoordinateSystem&gt;</peXml>
</coordRef>
<RasterProperties>
<General>
<PixelDepth Sync="TRUE">32</PixelDepth>
<HasColormap Sync="TRUE">FALSE</HasColormap>
<CompressionType Sync="TRUE">LZW</CompressionType>
<NumBands Sync="TRUE">1</NumBands>
<Format Sync="TRUE">TIFF</Format>
<HasPyramids Sync="TRUE">TRUE</HasPyramids>
<SourceType Sync="TRUE">continuous</SourceType>
<PixelType Sync="TRUE">floating point</PixelType>
<NoDataValue Sync="TRUE">-3.4028235e+038</NoDataValue>
</General>
</RasterProperties>
<lineage>
<Process Date="20180614" Time="141304" ToolSource="c:\program files (x86)\arcgis\desktop10.5\ArcToolbox\Toolboxes\Data Management Tools.tbx\ProjectRaster">ProjectRaster D:\dagonzalez\08_BDG\capas\Estadisticas\raster\densida_arbol D:\dagonzalez\08_BDG\capas\Estadisticas\raster\densida_arbol_3857.tif PROJCS['WGS_1984_Web_Mercator_Auxiliary_Sphere',GEOGCS['GCS_WGS_1984',DATUM['D_WGS_1984',SPHEROID['WGS_1984',6378137.0,298.257223563]],PRIMEM['Greenwich',0.0],UNIT['Degree',0.0174532925199433]],PROJECTION['Mercator_Auxiliary_Sphere'],PARAMETER['False_Easting',0.0],PARAMETER['False_Northing',0.0],PARAMETER['Central_Meridian',0.0],PARAMETER['Standard_Parallel_1',0.0],PARAMETER['Auxiliary_Sphere_Type',0.0],UNIT['Meter',1.0]] NEAREST "91,508615422706 91,5086154227033" # # GEOGCS['GCS_WGS_1984',DATUM['D_WGS_1984',SPHEROID['WGS_1984',6378137.0,298.257223563]],PRIMEM['Greenwich',0.0],UNIT['Degree',0.0174532925199433]]</Process>
<Process Date="20180614" Time="141758" ToolSource="c:\program files (x86)\arcgis\desktop10.5\ArcToolbox\Toolboxes\Data Management Tools.tbx\CopyRaster">CopyRaster D:\dagonzalez\08_BDG\capas\Estadisticas\raster\densida_arbol_3857.tif D:\dagonzalez\08_BDG\capas\Estadisticas\raster\raster.gdb\Densidad_Arbol # # -3,402823e+038 NONE NONE # NONE NONE "Esri Grid" NONE</Process>
<Process Date="20180614" Time="201036" ToolSource="c:\program files (x86)\arcgis\desktop10.4\ArcToolbox\Toolboxes\Data Management Tools.tbx\Copy">Copy C:\Users\catastro\Documents\IDECA\raster\raster.gdb\Densidad_Arbol C:\Users\catastro\Documents\conexion\AZURE@ESTADISTICAS.sde\ESTADISTICAS.Densidad_Arbol RasterDataset</Process>
<Process Date="20241108" Time="102201" ToolSource="c:\program files\arcgis\pro\Resources\ArcToolbox\Toolboxes\Data Management Tools.tbx\CopyMultiple">CopyMultiple "D:\instaladores\conexiones\conexionesIDECA\AzureIDECA\AZURE@ESTADISTICAS.sde\ESTADISTICAS.DENHOMBRE RasterDataset;D:\instaladores\conexiones\conexionesIDECA\AzureIDECA\AZURE@ESTADISTICAS.sde\ESTADISTICAS.DENMUJER RasterDataset;D:\instaladores\conexiones\conexionesIDECA\AzureIDECA\AZURE@ESTADISTICAS.sde\ESTADISTICAS.DENPERSON RasterDataset;D:\instaladores\conexiones\conexionesIDECA\AzureIDECA\AZURE@ESTADISTICAS.sde\ESTADISTICAS.Densidad_Arbol RasterDataset;D:\instaladores\conexiones\conexionesIDECA\AzureIDECA\AZURE@ESTADISTICAS.sde\ESTADISTICAS.Densidad_EstComercio RasterDataset;D:\instaladores\conexiones\conexionesIDECA\AzureIDECA\AZURE@ESTADISTICAS.sde\ESTADISTICAS.Densidad_EstComercio_1 RasterDataset;D:\instaladores\conexiones\conexionesIDECA\AzureIDECA\AZURE@ESTADISTICAS.sde\ESTADISTICAS.Densidad_MatColegio RasterDataset;D:\instaladores\conexiones\conexionesIDECA\AzureIDECA\AZURE@ESTADISTICAS.sde\ESTADISTICAS.Densidad_PobUPZ RasterDataset;D:\instaladores\conexiones\conexionesIDECA\AzureIDECA\AZURE@ESTADISTICAS.sde\ESTADISTICAS.Densidad_Predio RasterDataset" D:\instaladores\conexiones\Nueva_conexion_19c\MAPASBOG@ESTADISTICAS.sde DENHOMBRE;DENMUJER;DENPERSON;Densidad_Arbol;Densidad_EstComercio;Densidad_EstComercio_1;Densidad_MatColegio;Densidad_PobUPZ;Densidad_Predio "ESTADISTICAS.DENHOMBRE RasterDataset ESTADISTICAS.DENHOMBRE #;ESTADISTICAS.DENMUJER RasterDataset ESTADISTICAS.DENMUJER #;ESTADISTICAS.DENPERSON RasterDataset ESTADISTICAS.DENPERSON #;ESTADISTICAS.Densidad_Arbol RasterDataset ESTADISTICAS.Densidad_Arbol #;ESTADISTICAS.Densidad_EstComercio RasterDataset ESTADISTICAS.Densidad_EstComercio #;ESTADISTICAS.Densidad_EstComercio_1 RasterDataset ESTADISTICAS.Densidad_EstComercio_1 #;ESTADISTICAS.Densidad_MatColegio RasterDataset ESTADISTICAS.Densidad_MatColegio #;ESTADISTICAS.Densidad_PobUPZ RasterDataset ESTADISTICAS.Densidad_PobUPZ #;ESTADISTICAS.Densidad_Predio RasterDataset ESTADISTICAS.Densidad_Predio #"</Process>
</lineage>
</DataProperties>
<SyncDate>20180614</SyncDate>
<SyncTime>14175800</SyncTime>
<ModDate>20180614</ModDate>
<ModTime>14175800</ModTime>
</Esri>
<dataIdInfo>
<envirDesc Sync="TRUE"> Version 6.2 (Build 9200) ; Esri ArcGIS 10.5.0.6491</envirDesc>
<dataLang>
<languageCode Sync="TRUE" value="spa"/>
<countryCode Sync="TRUE" value="COL"/>
</dataLang>
<idCitation>
<resTitle Sync="TRUE">densidadarboles</resTitle>
<presForm>
<PresFormCd Sync="TRUE" value="011"/>
</presForm>
</idCitation>
<spatRpType>
<SpatRepTypCd Sync="TRUE" value="002"/>
</spatRpType>
<dataExt>
<geoEle>
<GeoBndBox esriExtentType="search">
<exTypeCode Sync="TRUE">1</exTypeCode>
<westBL Sync="TRUE">-74.218145</westBL>
<eastBL Sync="TRUE">-74.010992</eastBL>
<northBL Sync="TRUE">4.826318</northBL>
<southBL Sync="TRUE">4.468270</southBL>
</GeoBndBox>
</geoEle>
</dataExt>
<idAbs>densidad árboles</idAbs>
<searchKeys>
<keyword>densidad</keyword>
<keyword>árboles</keyword>
</searchKeys>
<idPurp>densidad árboles</idPurp>
<idCredit/>
<resConst>
<Consts>
<useLimit>CC BY-SA 4.0</useLimit>
</Consts>
</resConst>
</dataIdInfo>
<mdLang>
<languageCode Sync="TRUE" value="spa"/>
<countryCode Sync="TRUE" value="COL"/>
</mdLang>
<mdChar>
<CharSetCd Sync="TRUE" value="004"/>
</mdChar>
<distInfo>
<distFormat>
<formatName Sync="TRUE">File Geodatabase Raster Dataset</formatName>
</distFormat>
</distInfo>
<mdHrLv>
<ScopeCd Sync="TRUE" value="005"/>
</mdHrLv>
<mdHrLvName Sync="TRUE">dataset</mdHrLvName>
<refSysInfo>
<RefSystem>
<refSysID>
<identCode Sync="TRUE" code="3857"/>
<idCodeSpace Sync="TRUE">EPSG</idCodeSpace>
<idVersion Sync="TRUE">8.8(9.3.1.2)</idVersion>
</refSysID>
</RefSystem>
</refSysInfo>
<spatRepInfo>
<Georect>
<cellGeo>
<CellGeoCd Sync="TRUE" value="002"/>
</cellGeo>
<numDims Sync="TRUE">2</numDims>
<tranParaAv Sync="TRUE">1</tranParaAv>
<chkPtAv Sync="TRUE">0</chkPtAv>
<cornerPts>
<pos Sync="TRUE">-8261926.144348 497910.519572</pos>
</cornerPts>
<cornerPts>
<pos Sync="TRUE">-8261926.144348 537899.784511</pos>
</cornerPts>
<cornerPts>
<pos Sync="TRUE">-8238865.973261 537899.784511</pos>
</cornerPts>
<cornerPts>
<pos Sync="TRUE">-8238865.973261 497910.519572</pos>
</cornerPts>
<centerPt>
<pos Sync="TRUE">-8250396.058804 517905.152041</pos>
</centerPt>
<axisDimension type="002">
<dimSize Sync="TRUE">252</dimSize>
<dimResol>
<value Sync="TRUE" uom="m">91.508615</value>
</dimResol>
</axisDimension>
<axisDimension type="001">
<dimSize Sync="TRUE">437</dimSize>
<dimResol>
<value Sync="TRUE" uom="m">91.508615</value>
</dimResol>
</axisDimension>
<ptInPixel>
<PixOrientCd Sync="TRUE" value="001"/>
</ptInPixel>
</Georect>
</spatRepInfo>
<contInfo>
<ImgDesc>
<contentTyp>
<ContentTypCd Sync="TRUE" value="001"/>
</contentTyp>
<covDim>
<Band>
<dimDescrp Sync="TRUE">Band_1</dimDescrp>
<maxVal Sync="TRUE">275263328.000000</maxVal>
<minVal Sync="TRUE">0.000000</minVal>
<bitsPerVal Sync="TRUE">32</bitsPerVal>
<valUnit>
<UOM type="length"/>
</valUnit>
</Band>
</covDim>
</ImgDesc>
</contInfo>
<mdDateSt Sync="TRUE">20180614</mdDateSt>
<spdoinfo>
<rastinfo>
<rasttype Sync="TRUE">Pixel</rasttype>
<rowcount Sync="TRUE">437</rowcount>
<colcount Sync="TRUE">252</colcount>
<rastxsz Sync="TRUE">91,508615</rastxsz>
<rastysz Sync="TRUE">91,508615</rastysz>
<rastbpp Sync="TRUE">32</rastbpp>
<vrtcount Sync="TRUE">1</vrtcount>
<rastorig Sync="TRUE">Upper Left</rastorig>
<rastcmap Sync="TRUE">FALSE</rastcmap>
<rastcomp Sync="TRUE">LZ77</rastcomp>
<rastband Sync="TRUE">1</rastband>
<rastdtyp Sync="TRUE">pixel codes</rastdtyp>
<rastifor Sync="TRUE">FGDBR</rastifor>
<rastplyr Sync="TRUE">TRUE</rastplyr>
</rastinfo>
</spdoinfo>
<spref>
<horizsys>
<planar>
<planci>
<plance Sync="TRUE">row and column</plance>
<coordrep>
<absres Sync="TRUE">91,508615</absres>
<ordres Sync="TRUE">91,508615</ordres>
</coordrep>
</planci>
</planar>
</horizsys>
</spref>
</metadata>
