{
 "currentVersion": 11.3,
 "serviceDescription": "Este producto contiene un mosaico raster ortorectificado de la zona rural de AMCO cubriendo parte de los municipios de Pereira y Dos Quebradas, correspondientes a 57.000 hectáreas aproximadamente. Cuenta con tres bandas del espectro electromagnético: Rojo, Verde, Azul.",
 "name": "amco/RuralAMCO",
 "description": "Este producto contiene un mosaico raster ortorectificado de la zona rural de AMCO cubriendo parte de los municipios de Pereira y Dos Quebradas, correspondientes a 57.000 hectáreas aproximadamente. Cuenta con tres bandas del espectro electromagnético: Rojo, Verde, Azul.",
 "extent": {
  "xmin": 4673845.979082,
  "ymin": 2072499.9480559998,
  "xmax": 4737372.229082,
  "ymax": 2104898.698056,
  "spatialReference": {
   "wkid": 9377,
   "latestWkid": 9377
  }
 },
 "initialExtent": {
  "xmin": 4673845.979082,
  "ymin": 2072499.9480559998,
  "xmax": 4737372.229082,
  "ymax": 2104898.698056,
  "spatialReference": {
   "wkid": 9377,
   "latestWkid": 9377
  }
 },
 "fullExtent": {
  "xmin": 4673845.979082,
  "ymin": 2072499.9480559998,
  "xmax": 4737372.229082,
  "ymax": 2104898.698056,
  "spatialReference": {
   "wkid": 9377,
   "latestWkid": 9377
  }
 },
 "sortableFields": "",
 "bandCount": 4,
 "pixelType": "U8",
 "minValues": [
  0,
  0,
  0,
  0
 ],
 "maxValues": [
  255,
  255,
  255,
  255
 ],
 "meanValues": [
  31.295863362497,
  34.581157963781,
  31.056004560197,
  42.287558429237
 ],
 "stdvValues": [
  56.850349655747,
  60.336340221297,
  53.684970880446,
  71.63191805281
 ],
 "hasMultidimensions": false,
 "pixelSizeX": 0.25,
 "pixelSizeY": 0.25,
 "meanPixelSize": 0.25,
 "datasetFormat": "TIFF",
 "uncompressedSize": 131722949900,
 "blockWidth": 512,
 "blockHeight": 512,
 "compressionType": "None",
 "bandNames": [
  "Band_1",
  "Band_2",
  "Band_3",
  "Band_4"
 ],
 "allowCopy": true,
 "allowAnalysis": true,
 "itemAccess": false,
 "inspectionCapabilities": "",
 "minPixelSize": 0,
 "maxPixelSize": 0,
 "copyrightText": "UAECD - IDECA - GO CATASTRAL",
 "serviceDataType": "esriImageServiceDataTypeProcessed",
 "serviceSourceType": "esriImageServiceSourceTypeDataset",
 "objectIdField": "",
 "fields": [],
 "capabilities": "Mensuration,Image,Metadata",
 "defaultMosaicMethod": "Center",
 "allowedMosaicMethods": "",
 "sortField": "",
 "sortValue": null,
 "sortAscending": true,
 "mosaicOperator": "First",
 "defaultCompressionQuality": 75,
 "defaultResamplingMethod": "Bilinear",
 "maxImageHeight": 4100,
 "maxImageWidth": 15000,
 "allowRasterFunction": true,
 "rasterFunctionInfos": [
  {
   "name": "None",
   "description": "",
   "help": ""
  }
 ],
 "rasterTypeInfos": [
  {
   "name": "Raster Dataset",
   "description": "Supports all ArcGIS Raster Datasets",
   "help": ""
  }
 ],
 "mensurationCapabilities": "Basic",
 "hasHistograms": true,
 "hasColormap": false,
 "hasRasterAttributeTable": false,
 "minScale": 0,
 "maxScale": 0,
 "exportTilesAllowed": false,
 "supportsStatistics": false,
 "supportsAdvancedQueries": false,
 "editFieldsInfo": null,
 "ownershipBasedAccessControlForRasters": null,
 "allowComputeTiePoints": false,
 "useStandardizedQueries": true,
 "advancedQueryCapabilities": {
  "useStandardizedQueries": true,
  "supportsStatistics": false,
  "supportsOrderBy": false,
  "supportsDistinct": false,
  "supportsPagination": false
 },
 "spatialReference": {
  "wkid": 9377,
  "latestWkid": 9377
 },
 "resampling": false
}
