{
 "currentVersion": 11.3,
 "serviceDescription": "Servicio web que contiene un mosaico raster orthorectificado del distrito capital de Bogotá a partir de las fotografías aéreas tomadas en el año 1998.",
 "name": "imagenesfunciones/ortho1998funcion",
 "description": "Servicio web que contiene un mosaico raster orthorectificado del distrito capital de Bogotá a partir de las fotografías aéreas tomadas en el año 1998.",
 "extent": {
  "xmin": -8264325.27258685,
  "ymin": 498066.99506013276,
  "xmax": -8240252.180885273,
  "ymax": 540470.0069630629,
  "spatialReference": {
   "wkid": 102100,
   "latestWkid": 3857
  }
 },
 "initialExtent": {
  "xmin": -8264325.27258685,
  "ymin": 498066.99506013276,
  "xmax": -8240252.180885273,
  "ymax": 540470.0069630629,
  "spatialReference": {
   "wkid": 102100,
   "latestWkid": 3857
  }
 },
 "fullExtent": {
  "xmin": -8264325.27258685,
  "ymin": 498066.99506013276,
  "xmax": -8240252.180885273,
  "ymax": 540470.0069630629,
  "spatialReference": {
   "wkid": 102100,
   "latestWkid": 3857
  }
 },
 "sortableFields": "",
 "bandCount": 3,
 "pixelType": "S16",
 "minValues": [
  0,
  0,
  0
 ],
 "maxValues": [
  255,
  255,
  255
 ],
 "meanValues": [
  119.81425512583,
  119.81425512583,
  119.81425512583
 ],
 "stdvValues": [
  69.683278741593,
  69.683278741593,
  69.683278741593
 ],
 "hasMultidimensions": false,
 "pixelSizeX": 0.16958016654041305,
 "pixelSizeY": 0.16958016654041103,
 "meanPixelSize": 0.16958016654041203,
 "datasetFormat": "TIFF",
 "uncompressedSize": 212975531874,
 "blockWidth": 128,
 "blockHeight": 128,
 "compressionType": "None",
 "bandNames": [
  "Band_1",
  "Band_2",
  "Band_3"
 ],
 "allowCopy": true,
 "allowAnalysis": true,
 "itemAccess": false,
 "inspectionCapabilities": "",
 "noDataValue": 256,
 "noDataValues": [
  256,
  256,
  256
 ],
 "minPixelSize": 0,
 "maxPixelSize": 0,
 "copyrightText": "Alcaldia Mayor de Bogotá D.C. - SHD - SDP - UAECD - IDECA",
 "serviceDataType": "esriImageServiceDataTypeGeneric",
 "serviceSourceType": "esriImageServiceSourceTypeDataset",
 "objectIdField": "",
 "fields": [],
 "capabilities": "Mensuration,Image,Metadata",
 "defaultMosaicMethod": "Center",
 "allowedMosaicMethods": "",
 "sortField": "",
 "sortValue": null,
 "sortAscending": true,
 "mosaicOperator": "First",
 "defaultCompressionQuality": 75,
 "defaultResamplingMethod": "Bilinear",
 "maxImageHeight": 4100,
 "maxImageWidth": 15000,
 "allowRasterFunction": true,
 "rasterFunctionInfos": [
  {
   "name": "1998_clip",
   "description": "A raster function template.",
   "help": ""
  },
  {
   "name": "1998_strech_mm",
   "description": "A raster function template.",
   "help": ""
  },
  {
   "name": "1998_strech_pc",
   "description": "A raster function template.",
   "help": ""
  },
  {
   "name": "1998_strech_sd",
   "description": "A raster function template.",
   "help": ""
  },
  {
   "name": "1998_strech_sig",
   "description": "A raster function template.",
   "help": ""
  },
  {
   "name": "None",
   "description": "",
   "help": ""
  }
 ],
 "rasterTypeInfos": [
  {
   "name": "Raster Dataset",
   "description": "Supports all ArcGIS Raster Datasets",
   "help": ""
  }
 ],
 "mensurationCapabilities": "Basic",
 "hasHistograms": true,
 "hasColormap": false,
 "hasRasterAttributeTable": false,
 "minScale": 0,
 "maxScale": 0,
 "exportTilesAllowed": false,
 "supportsStatistics": false,
 "supportsAdvancedQueries": false,
 "editFieldsInfo": null,
 "ownershipBasedAccessControlForRasters": null,
 "allowComputeTiePoints": false,
 "useStandardizedQueries": true,
 "advancedQueryCapabilities": {
  "useStandardizedQueries": true,
  "supportsStatistics": false,
  "supportsOrderBy": false,
  "supportsDistinct": false,
  "supportsPagination": false
 },
 "spatialReference": {
  "wkid": 102100,
  "latestWkid": 3857
 },
 "resampling": false
}
