{
 "currentVersion": 11.3,
 "serviceDescription": "Servicio web que contiene un mosaico raster orthorectificado del distrito capital de Bogotá a partir de las fotografías aéreas tomadas en el año 2004.",
 "name": "imagenesfunciones/ortho2004funcion",
 "description": "Servicio web que contiene un mosaico raster orthorectificado del distrito capital de Bogotá a partir de las fotografías aéreas tomadas en el año 2004.",
 "extent": {
  "xmin": -8262539.7997990325,
  "ymin": 495529.08543463825,
  "xmax": -8236129.497253402,
  "ymax": 539077.4423482122,
  "spatialReference": {
   "wkid": 102100,
   "latestWkid": 3857
  }
 },
 "initialExtent": {
  "xmin": -8262539.7997990325,
  "ymin": 495529.08543463825,
  "xmax": -8236129.497253402,
  "ymax": 539077.4423482122,
  "spatialReference": {
   "wkid": 102100,
   "latestWkid": 3857
  }
 },
 "fullExtent": {
  "xmin": -8262539.7997990325,
  "ymin": 495529.08543463825,
  "xmax": -8236129.497253402,
  "ymax": 539077.4423482122,
  "spatialReference": {
   "wkid": 102100,
   "latestWkid": 3857
  }
 },
 "sortableFields": "",
 "bandCount": 3,
 "pixelType": "S16",
 "minValues": [
  0,
  0,
  0
 ],
 "maxValues": [
  255,
  255,
  255
 ],
 "meanValues": [
  78.199079043503,
  80.249376210905,
  78.569582313133
 ],
 "stdvValues": [
  82.987985724122,
  84.062857315495,
  81.097945297587
 ],
 "hasMultidimensions": false,
 "pixelSizeX": 1.0067587597922607,
 "pixelSizeY": 1.0067587597922596,
 "meanPixelSize": 1.0067587597922603,
 "datasetFormat": "TIFF",
 "uncompressedSize": 6808148352,
 "blockWidth": 128,
 "blockHeight": 128,
 "compressionType": "None",
 "bandNames": [
  "Band_1",
  "Band_2",
  "Band_3"
 ],
 "allowCopy": true,
 "allowAnalysis": true,
 "itemAccess": false,
 "inspectionCapabilities": "",
 "noDataValue": 256,
 "noDataValues": [
  256,
  256,
  256
 ],
 "minPixelSize": 0,
 "maxPixelSize": 0,
 "copyrightText": "Alcaldia Mayor de Bogotá D.C. - SHD - SDP - UAECD - IDECA",
 "serviceDataType": "esriImageServiceDataTypeGeneric",
 "serviceSourceType": "esriImageServiceSourceTypeDataset",
 "objectIdField": "",
 "fields": [],
 "capabilities": "Mensuration,Image,Metadata",
 "defaultMosaicMethod": "Center",
 "allowedMosaicMethods": "",
 "sortField": "",
 "sortValue": null,
 "sortAscending": true,
 "mosaicOperator": "First",
 "defaultCompressionQuality": 75,
 "defaultResamplingMethod": "Bilinear",
 "maxImageHeight": 4100,
 "maxImageWidth": 15000,
 "allowRasterFunction": true,
 "rasterFunctionInfos": [
  {
   "name": "2004_clip",
   "description": "A raster function template.",
   "help": ""
  },
  {
   "name": "2004_strech_mm",
   "description": "A raster function template.",
   "help": ""
  },
  {
   "name": "2004_strech_pc",
   "description": "A raster function template.",
   "help": ""
  },
  {
   "name": "2004_strech_sd",
   "description": "A raster function template.",
   "help": ""
  },
  {
   "name": "2004_strech_sig",
   "description": "A raster function template.",
   "help": ""
  },
  {
   "name": "None",
   "description": "",
   "help": ""
  }
 ],
 "rasterTypeInfos": [
  {
   "name": "Raster Dataset",
   "description": "Supports all ArcGIS Raster Datasets",
   "help": ""
  }
 ],
 "mensurationCapabilities": "Basic",
 "hasHistograms": true,
 "hasColormap": false,
 "hasRasterAttributeTable": false,
 "minScale": 0,
 "maxScale": 0,
 "exportTilesAllowed": false,
 "supportsStatistics": false,
 "supportsAdvancedQueries": false,
 "editFieldsInfo": null,
 "ownershipBasedAccessControlForRasters": null,
 "allowComputeTiePoints": false,
 "useStandardizedQueries": true,
 "advancedQueryCapabilities": {
  "useStandardizedQueries": true,
  "supportsStatistics": false,
  "supportsOrderBy": false,
  "supportsDistinct": false,
  "supportsPagination": false
 },
 "spatialReference": {
  "wkid": 102100,
  "latestWkid": 3857
 },
 "resampling": false
}
