{
 "currentVersion": 11.3,
 "serviceDescription": "Servicio web que contiene un mosaico raster ortorectificado del Distrito Capital de Bogotá a partir de fotografías aéreas tomadas en el año 2007 con funciones de procesamiento",
 "name": "imagenesfunciones/ortho2007funcion",
 "description": "Servicio web que contiene un mosaico raster ortorectificado del Distrito Capital de Bogotá a partir de fotografías aéreas tomadas en el año 2007 con funciones de procesamiento",
 "extent": {
  "xmin": -8258308.418487233,
  "ymin": 498067.01326330076,
  "xmax": -8240253.20000576,
  "ymax": 534412.0324455297,
  "spatialReference": {
   "wkid": 102100,
   "latestWkid": 3857
  }
 },
 "initialExtent": {
  "xmin": -8258308.418487233,
  "ymin": 498067.01326330076,
  "xmax": -8240253.20000576,
  "ymax": 534412.0324455297,
  "spatialReference": {
   "wkid": 102100,
   "latestWkid": 3857
  }
 },
 "fullExtent": {
  "xmin": -8258308.418487233,
  "ymin": 498067.01326330076,
  "xmax": -8240253.20000576,
  "ymax": 534412.0324455297,
  "spatialReference": {
   "wkid": 102100,
   "latestWkid": 3857
  }
 },
 "sortableFields": "",
 "bandCount": 3,
 "pixelType": "S16",
 "minValues": [
  0,
  0,
  0
 ],
 "maxValues": [
  255,
  255,
  255
 ],
 "meanValues": [
  51.576330303109,
  47.12047878506,
  44.020722278489
 ],
 "stdvValues": [
  49.776489008083,
  45.59454470562,
  44.803005553298
 ],
 "hasMultidimensions": false,
 "pixelSizeX": 0.20032640417038572,
 "pixelSizeY": 0.20032640417038594,
 "meanPixelSize": 0.20032640417038583,
 "datasetFormat": "TIFF",
 "uncompressedSize": 98112086046,
 "blockWidth": 128,
 "blockHeight": 128,
 "compressionType": "None",
 "bandNames": [
  "Band_1",
  "Band_2",
  "Band_3"
 ],
 "allowCopy": true,
 "allowAnalysis": true,
 "itemAccess": false,
 "inspectionCapabilities": "",
 "noDataValue": 256,
 "noDataValues": [
  256,
  256,
  256
 ],
 "minPixelSize": 0,
 "maxPixelSize": 0,
 "copyrightText": "Alcaldía Mayor de Bogotá D.C. - SHD \u2013 SDP \u2013 UAECD \u2013 IDECA",
 "serviceDataType": "esriImageServiceDataTypeGeneric",
 "serviceSourceType": "esriImageServiceSourceTypeDataset",
 "objectIdField": "",
 "fields": [],
 "capabilities": "Mensuration,Image,Metadata",
 "defaultMosaicMethod": "Center",
 "allowedMosaicMethods": "",
 "sortField": "",
 "sortValue": null,
 "sortAscending": true,
 "mosaicOperator": "First",
 "defaultCompressionQuality": 75,
 "defaultResamplingMethod": "Bilinear",
 "maxImageHeight": 4100,
 "maxImageWidth": 15000,
 "allowRasterFunction": true,
 "rasterFunctionInfos": [
  {
   "name": "2007_clip",
   "description": "A raster function template.",
   "help": ""
  },
  {
   "name": "2007_strech_sig",
   "description": "A raster function template.",
   "help": ""
  },
  {
   "name": "2007_strech_mm",
   "description": "A raster function template.",
   "help": ""
  },
  {
   "name": "2007_strech_pc",
   "description": "A raster function template.",
   "help": ""
  },
  {
   "name": "2007_strech_sd",
   "description": "A raster function template.",
   "help": ""
  },
  {
   "name": "None",
   "description": "",
   "help": ""
  }
 ],
 "rasterTypeInfos": [
  {
   "name": "Raster Dataset",
   "description": "Supports all ArcGIS Raster Datasets",
   "help": ""
  }
 ],
 "mensurationCapabilities": "Basic",
 "hasHistograms": true,
 "hasColormap": false,
 "hasRasterAttributeTable": false,
 "minScale": 0,
 "maxScale": 0,
 "exportTilesAllowed": false,
 "supportsStatistics": false,
 "supportsAdvancedQueries": false,
 "editFieldsInfo": null,
 "ownershipBasedAccessControlForRasters": null,
 "allowComputeTiePoints": false,
 "useStandardizedQueries": true,
 "advancedQueryCapabilities": {
  "useStandardizedQueries": true,
  "supportsStatistics": false,
  "supportsOrderBy": false,
  "supportsDistinct": false,
  "supportsPagination": false
 },
 "spatialReference": {
  "wkid": 102100,
  "latestWkid": 3857
 },
 "resampling": false
}
