{
 "currentVersion": 11.3,
 "serviceDescription": "Servicio web que contiene un mosaico raster ortorectificado del Distrito Capital de Bogotá a partir de fotografías aéreas tomadas en el año 2010 con funciones de procesamiento",
 "name": "imagenesfunciones/ortho2010funcion",
 "description": "Servicio web que contiene un mosaico raster ortorectificado del Distrito Capital de Bogotá a partir de fotografías aéreas tomadas en el año 2010 con funciones de procesamiento",
 "extent": {
  "xmin": -8262270.182560167,
  "ymin": 498206.2326370834,
  "xmax": -8238584.842603588,
  "ymax": 540403.6787467829,
  "spatialReference": {
   "wkid": 102100,
   "latestWkid": 3857
  }
 },
 "initialExtent": {
  "xmin": -8262270.182560167,
  "ymin": 498206.2326370834,
  "xmax": -8238584.842603588,
  "ymax": 540403.6787467829,
  "spatialReference": {
   "wkid": 102100,
   "latestWkid": 3857
  }
 },
 "fullExtent": {
  "xmin": -8262270.182560167,
  "ymin": 498206.2326370834,
  "xmax": -8238584.842603588,
  "ymax": 540403.6787467829,
  "spatialReference": {
   "wkid": 102100,
   "latestWkid": 3857
  }
 },
 "sortableFields": "",
 "bandCount": 3,
 "pixelType": "S16",
 "minValues": [
  0,
  0,
  0
 ],
 "maxValues": [
  1578,
  2047,
  2047
 ],
 "meanValues": [
  88.52574887246,
  227.28857366368,
  167.34082238729
 ],
 "stdvValues": [
  105.11571031596,
  246.67301737345,
  175.89355884875
 ],
 "hasMultidimensions": false,
 "pixelSizeX": 0.4988172599999943,
 "pixelSizeY": 0.4988172599999947,
 "meanPixelSize": 0.4988172599999945,
 "datasetFormat": "TIFF",
 "uncompressedSize": 24100946310,
 "blockWidth": 128,
 "blockHeight": 128,
 "compressionType": "LZW",
 "bandNames": [
  "Band_1",
  "Band_2",
  "Band_3"
 ],
 "allowCopy": true,
 "allowAnalysis": true,
 "itemAccess": false,
 "inspectionCapabilities": "",
 "noDataValue": -32768,
 "noDataValues": [
  -32768,
  -32768,
  -32768
 ],
 "minPixelSize": 0,
 "maxPixelSize": 0,
 "copyrightText": "Alcaldía Mayor de Bogotá D.C. - SHD \u2013 SDP \u2013 UAECD \u2013 IDECA",
 "serviceDataType": "esriImageServiceDataTypeGeneric",
 "serviceSourceType": "esriImageServiceSourceTypeDataset",
 "objectIdField": "",
 "fields": [],
 "capabilities": "Mensuration,Image,Metadata",
 "defaultMosaicMethod": "Center",
 "allowedMosaicMethods": "",
 "sortField": "",
 "sortValue": null,
 "sortAscending": true,
 "mosaicOperator": "First",
 "defaultCompressionQuality": 75,
 "defaultResamplingMethod": "Bilinear",
 "maxImageHeight": 4100,
 "maxImageWidth": 15000,
 "allowRasterFunction": true,
 "rasterFunctionInfos": [
  {
   "name": "2010_clip",
   "description": "A raster function template.",
   "help": ""
  },
  {
   "name": "2010_strech_sig",
   "description": "A raster function template.",
   "help": ""
  },
  {
   "name": "2010_strech_mm",
   "description": "A raster function template.",
   "help": ""
  },
  {
   "name": "2010_strech_pc",
   "description": "A raster function template.",
   "help": ""
  },
  {
   "name": "2010_strech_sd",
   "description": "A raster function template.",
   "help": ""
  },
  {
   "name": "None",
   "description": "",
   "help": ""
  }
 ],
 "rasterTypeInfos": [
  {
   "name": "Raster Dataset",
   "description": "Supports all ArcGIS Raster Datasets",
   "help": ""
  }
 ],
 "mensurationCapabilities": "Basic",
 "hasHistograms": true,
 "hasColormap": false,
 "hasRasterAttributeTable": false,
 "minScale": 0,
 "maxScale": 0,
 "exportTilesAllowed": false,
 "supportsStatistics": false,
 "supportsAdvancedQueries": false,
 "editFieldsInfo": null,
 "ownershipBasedAccessControlForRasters": null,
 "allowComputeTiePoints": false,
 "useStandardizedQueries": true,
 "advancedQueryCapabilities": {
  "useStandardizedQueries": true,
  "supportsStatistics": false,
  "supportsOrderBy": false,
  "supportsDistinct": false,
  "supportsPagination": false
 },
 "spatialReference": {
  "wkid": 102100,
  "latestWkid": 3857
 },
 "resampling": false
}
