{
 "currentVersion": 11.3,
 "serviceDescription": "Servicio web que contiene un mosaico raster ortorectificado del Distrito Capital de Bogotá a partir de fotografías aéreas tomadas en el año 2014 con funciones de procesamiento",
 "name": "imagenesfunciones/ortho2014funcion",
 "description": "Servicio web que contiene un mosaico raster ortorectificado del Distrito Capital de Bogotá a partir de fotografías aéreas tomadas en el año 2014 con funciones de procesamiento",
 "extent": {
  "xmin": -8263029.4951462485,
  "ymin": 496395.9414022188,
  "xmax": -8238217.253341,
  "ymax": 539464.0291383651,
  "spatialReference": {
   "wkid": 102100,
   "latestWkid": 3857
  }
 },
 "initialExtent": {
  "xmin": -8263029.4951462485,
  "ymin": 496395.9414022188,
  "xmax": -8238217.253341,
  "ymax": 539464.0291383651,
  "spatialReference": {
   "wkid": 102100,
   "latestWkid": 3857
  }
 },
 "fullExtent": {
  "xmin": -8263029.4951462485,
  "ymin": 496395.9414022188,
  "xmax": -8238217.253341,
  "ymax": 539464.0291383651,
  "spatialReference": {
   "wkid": 102100,
   "latestWkid": 3857
  }
 },
 "sortableFields": "",
 "bandCount": 3,
 "pixelType": "U8",
 "minValues": [
  0,
  0,
  0
 ],
 "maxValues": [
  255,
  255,
  255
 ],
 "meanValues": [
  43.780347338624,
  42.472568322528,
  34.780020259254
 ],
 "stdvValues": [
  57.142630367156,
  53.877419149064,
  47.862249812155
 ],
 "hasMultidimensions": false,
 "pixelSizeX": 0.07547886206426803,
 "pixelSizeY": 0.07547886206426632,
 "meanPixelSize": 0.07547886206426718,
 "datasetFormat": "TIFF",
 "uncompressedSize": 562719753414,
 "blockWidth": 328731,
 "blockHeight": 1,
 "compressionType": "None",
 "bandNames": [
  "Band_1",
  "Band_2",
  "Band_3"
 ],
 "allowCopy": true,
 "allowAnalysis": true,
 "itemAccess": false,
 "inspectionCapabilities": "",
 "minPixelSize": 0,
 "maxPixelSize": 0,
 "copyrightText": "Alcaldía Mayor de Bogotá D.C. - SHD \u2013 SDP \u2013 UAECD \u2013 IDECA",
 "serviceDataType": "esriImageServiceDataTypeRGB",
 "serviceSourceType": "esriImageServiceSourceTypeDataset",
 "objectIdField": "",
 "fields": [],
 "capabilities": "Mensuration,Image,Metadata",
 "defaultMosaicMethod": "Center",
 "allowedMosaicMethods": "",
 "sortField": "",
 "sortValue": null,
 "sortAscending": true,
 "mosaicOperator": "First",
 "defaultCompressionQuality": 75,
 "defaultResamplingMethod": "Bilinear",
 "maxImageHeight": 4100,
 "maxImageWidth": 15000,
 "allowRasterFunction": true,
 "rasterFunctionInfos": [
  {
   "name": "2014_clip",
   "description": "A raster function template.",
   "help": ""
  },
  {
   "name": "2014_strech_sig",
   "description": "A raster function template.",
   "help": ""
  },
  {
   "name": "2014_strech_mm",
   "description": "A raster function template.",
   "help": ""
  },
  {
   "name": "2014_strech_pc",
   "description": "A raster function template.",
   "help": ""
  },
  {
   "name": "2014_strech_sd",
   "description": "A raster function template.",
   "help": ""
  },
  {
   "name": "None",
   "description": "",
   "help": ""
  }
 ],
 "rasterTypeInfos": [
  {
   "name": "Raster Dataset",
   "description": "Supports all ArcGIS Raster Datasets",
   "help": ""
  }
 ],
 "mensurationCapabilities": "Basic",
 "hasHistograms": true,
 "hasColormap": false,
 "hasRasterAttributeTable": false,
 "minScale": 0,
 "maxScale": 0,
 "exportTilesAllowed": false,
 "supportsStatistics": false,
 "supportsAdvancedQueries": false,
 "editFieldsInfo": null,
 "ownershipBasedAccessControlForRasters": null,
 "allowComputeTiePoints": false,
 "useStandardizedQueries": true,
 "advancedQueryCapabilities": {
  "useStandardizedQueries": true,
  "supportsStatistics": false,
  "supportsOrderBy": false,
  "supportsDistinct": false,
  "supportsPagination": false
 },
 "spatialReference": {
  "wkid": 102100,
  "latestWkid": 3857
 },
 "resampling": false
}
