{
 "currentVersion": 11.3,
 "serviceDescription": "Servicio web que contiene un mosaico raster ortorectificado del Distrito Capital de Bogotá a partir de fotografías aéreas tomadas en el año 2015 con funciones de procesamiento",
 "name": "imagenesfunciones/ortho2015funcion",
 "description": "Servicio web que contiene un mosaico raster ortorectificado del Distrito Capital de Bogotá a partir de fotografías aéreas tomadas en el año 2015 con funciones de procesamiento",
 "extent": {
  "xmin": -8290693.09331546,
  "ymin": 413908.6413447453,
  "xmax": -8235905.09331546,
  "ymax": 539622.6413447453,
  "spatialReference": {
   "wkid": 102100,
   "latestWkid": 3857
  }
 },
 "initialExtent": {
  "xmin": -8290693.09331546,
  "ymin": 413908.6413447453,
  "xmax": -8235905.09331546,
  "ymax": 539622.6413447453,
  "spatialReference": {
   "wkid": 102100,
   "latestWkid": 3857
  }
 },
 "fullExtent": {
  "xmin": -8290693.09331546,
  "ymin": 413908.6413447453,
  "xmax": -8235905.09331546,
  "ymax": 539622.6413447453,
  "spatialReference": {
   "wkid": 102100,
   "latestWkid": 3857
  }
 },
 "sortableFields": "",
 "bandCount": 4,
 "pixelType": "U16",
 "minValues": [
  1,
  1,
  1,
  1
 ],
 "maxValues": [
  2965,
  3728,
  3443,
  6738
 ],
 "meanValues": [
  135.11613704646,
  183.30454737681,
  235.4491004978,
  513.73728604321
 ],
 "stdvValues": [
  92.39050579656,
  113.1164749267,
  95.796958764685,
  243.34684176227
 ],
 "hasMultidimensions": false,
 "pixelSizeX": 0.5,
 "pixelSizeY": 0.5,
 "meanPixelSize": 0.5,
 "datasetFormat": "TIFF",
 "uncompressedSize": 220403796224,
 "blockWidth": 128,
 "blockHeight": 128,
 "compressionType": "LZW",
 "bandNames": [
  "Band_1",
  "Band_2",
  "Band_3",
  "Band_4"
 ],
 "allowCopy": true,
 "allowAnalysis": true,
 "itemAccess": false,
 "inspectionCapabilities": "",
 "noDataValue": 0,
 "noDataValues": [
  0,
  0,
  0,
  0
 ],
 "minPixelSize": 0,
 "maxPixelSize": 0,
 "copyrightText": "Alcaldía Mayor de Bogotá D.C. - SHD \u2013 SDP \u2013 UAECD \u2013 IDECA",
 "serviceDataType": "esriImageServiceDataTypeGeneric",
 "serviceSourceType": "esriImageServiceSourceTypeDataset",
 "objectIdField": "",
 "fields": [],
 "capabilities": "Mensuration,Image,Metadata",
 "defaultMosaicMethod": "Center",
 "allowedMosaicMethods": "",
 "sortField": "",
 "sortValue": null,
 "sortAscending": true,
 "mosaicOperator": "First",
 "defaultCompressionQuality": 75,
 "defaultResamplingMethod": "Bilinear",
 "maxImageHeight": 4100,
 "maxImageWidth": 15000,
 "allowRasterFunction": true,
 "rasterFunctionInfos": [
  {
   "name": "2015_clip",
   "description": "A raster function template.",
   "help": ""
  },
  {
   "name": "2015_NDVI",
   "description": "A raster function template.",
   "help": ""
  },
  {
   "name": "2015_strech_sig",
   "description": "A raster function template.",
   "help": ""
  },
  {
   "name": "2015_strech_mm",
   "description": "A raster function template.",
   "help": ""
  },
  {
   "name": "2015_strech_pc",
   "description": "A raster function template.",
   "help": ""
  },
  {
   "name": "2015_strech_sd",
   "description": "A raster function template.",
   "help": ""
  },
  {
   "name": "None",
   "description": "",
   "help": ""
  }
 ],
 "rasterTypeInfos": [
  {
   "name": "Raster Dataset",
   "description": "Supports all ArcGIS Raster Datasets",
   "help": ""
  }
 ],
 "mensurationCapabilities": "Basic",
 "hasHistograms": true,
 "hasColormap": false,
 "hasRasterAttributeTable": false,
 "minScale": 0,
 "maxScale": 0,
 "exportTilesAllowed": false,
 "supportsStatistics": false,
 "supportsAdvancedQueries": false,
 "editFieldsInfo": null,
 "ownershipBasedAccessControlForRasters": null,
 "allowComputeTiePoints": false,
 "useStandardizedQueries": true,
 "advancedQueryCapabilities": {
  "useStandardizedQueries": true,
  "supportsStatistics": false,
  "supportsOrderBy": false,
  "supportsDistinct": false,
  "supportsPagination": false
 },
 "spatialReference": {
  "wkid": 102100,
  "latestWkid": 3857
 },
 "resampling": false
}
