{
 "currentVersion": 11.3,
 "serviceDescription": "Servicio web que contiene un mosaico raster ortorectificado del Distrito Capital de Bogotá a partir de fotografías aéreas tomadas en el año 2017 con funciones de procesamiento",
 "name": "imagenesfunciones/ortho2017funcion",
 "description": "Servicio web que contiene un mosaico raster ortorectificado del Distrito Capital de Bogotá a partir de fotografías aéreas tomadas en el año 2017 con funciones de procesamiento",
 "extent": {
  "xmin": -8263539.570336958,
  "ymin": 494573.77899896726,
  "xmax": -8235755.570336958,
  "ymax": 540078.2789989673,
  "spatialReference": {
   "wkid": 102100,
   "latestWkid": 3857
  }
 },
 "initialExtent": {
  "xmin": -8263539.570336958,
  "ymin": 494573.77899896726,
  "xmax": -8235755.570336958,
  "ymax": 540078.2789989673,
  "spatialReference": {
   "wkid": 102100,
   "latestWkid": 3857
  }
 },
 "fullExtent": {
  "xmin": -8263539.570336958,
  "ymin": 494573.77899896726,
  "xmax": -8235755.570336958,
  "ymax": 540078.2789989673,
  "spatialReference": {
   "wkid": 102100,
   "latestWkid": 3857
  }
 },
 "sortableFields": "",
 "bandCount": 4,
 "pixelType": "U16",
 "minValues": [
  1,
  1,
  1,
  1
 ],
 "maxValues": [
  35420,
  23564,
  19535,
  65385
 ],
 "meanValues": [
  643.32158799728,
  649.07012608667,
  510.21497534427,
  1368.012393644
 ],
 "stdvValues": [
  554.89507509641,
  492.42125511867,
  356.8250173989,
  867.35141549042
 ],
 "hasMultidimensions": false,
 "pixelSizeX": 0.25,
 "pixelSizeY": 0.25,
 "meanPixelSize": 0.25,
 "datasetFormat": "TIFF",
 "uncompressedSize": 161830019584,
 "blockWidth": 128,
 "blockHeight": 128,
 "compressionType": "LZW",
 "bandNames": [
  "Band_1",
  "Band_2",
  "Band_3",
  "Band_4"
 ],
 "allowCopy": true,
 "allowAnalysis": true,
 "itemAccess": false,
 "inspectionCapabilities": "",
 "noDataValue": 0,
 "noDataValues": [
  0,
  0,
  0,
  0
 ],
 "minPixelSize": 0,
 "maxPixelSize": 0,
 "copyrightText": "Alcaldía Mayor de Bogotá D.C. - SHD \u2013 SDP \u2013 UAECD \u2013 IDECA",
 "serviceDataType": "esriImageServiceDataTypeGeneric",
 "serviceSourceType": "esriImageServiceSourceTypeDataset",
 "objectIdField": "",
 "fields": [],
 "capabilities": "Mensuration,Image,Metadata",
 "defaultMosaicMethod": "Center",
 "allowedMosaicMethods": "",
 "sortField": "",
 "sortValue": null,
 "sortAscending": true,
 "mosaicOperator": "First",
 "defaultCompressionQuality": 75,
 "defaultResamplingMethod": "Bilinear",
 "maxImageHeight": 4100,
 "maxImageWidth": 15000,
 "allowRasterFunction": true,
 "rasterFunctionInfos": [
  {
   "name": "2017_clip",
   "description": "A raster function template.",
   "help": ""
  },
  {
   "name": "2017_NDVI",
   "description": "A raster function template.",
   "help": ""
  },
  {
   "name": "2017_strech_mm",
   "description": "A raster function template.",
   "help": ""
  },
  {
   "name": "2017_strech_pc",
   "description": "A raster function template.",
   "help": ""
  },
  {
   "name": "2017_strech_sd",
   "description": "A raster function template.",
   "help": ""
  },
  {
   "name": "2017_strech_sig",
   "description": "A raster function template.",
   "help": ""
  },
  {
   "name": "None",
   "description": "",
   "help": ""
  }
 ],
 "rasterTypeInfos": [
  {
   "name": "Raster Dataset",
   "description": "Supports all ArcGIS Raster Datasets",
   "help": ""
  }
 ],
 "mensurationCapabilities": "Basic",
 "hasHistograms": true,
 "hasColormap": false,
 "hasRasterAttributeTable": false,
 "minScale": 0,
 "maxScale": 0,
 "exportTilesAllowed": false,
 "supportsStatistics": false,
 "supportsAdvancedQueries": false,
 "editFieldsInfo": null,
 "ownershipBasedAccessControlForRasters": null,
 "allowComputeTiePoints": false,
 "useStandardizedQueries": true,
 "advancedQueryCapabilities": {
  "useStandardizedQueries": true,
  "supportsStatistics": false,
  "supportsOrderBy": false,
  "supportsDistinct": false,
  "supportsPagination": false
 },
 "spatialReference": {
  "wkid": 102100,
  "latestWkid": 3857
 },
 "resampling": false
}
