{
 "currentVersion": 11.3,
 "serviceDescription": "Mosaico del área urbana de la ciudad de Bogotá D.C. y del municipio de Soacha. El mosaico tiene un GSD de 8cm. Permite realizar estudios para cartografía 1:1.000 y 1:2.000. Su resolución radiométrica es de 8bit y su resolución espectral es de 4 bandas, contando con las bandas del azul, verde, roja e infrarroja cercana (RGB-NIR). Las imágenes insumo empleadas para su generación fueron tomadas con un sensor aerotransportado de gran formato en el año 2020. Presentan 0% de cobertura nubosa. El área de cubrimiento es de 60.000ha.",
 "name": "imagenesfunciones/ortho2020funcion",
 "description": "Mosaico del área urbana de la ciudad de Bogotá D.C. y del municipio de Soacha. El mosaico tiene un GSD de 8cm. Permite realizar estudios para cartografía 1:1.000 y 1:2.000. Su resolución radiométrica es de 8bit y su resolución espectral es de 4 bandas, contando con las bandas del azul, verde, roja e infrarroja cercana (RGB-NIR). Las imágenes insumo empleadas para su generación fueron tomadas con un sensor aerotransportado de gran formato en el año 2020. Presentan 0% de cobertura nubosa. El área de cubrimiento es de 60.000ha.",
 "extent": {
  "xmin": 979950.5999958067,
  "ymin": 984602.8400003732,
  "xmax": 1008934.9999958067,
  "ymax": 1026933.4800003732,
  "spatialReference": {
   "wkid": 3116,
   "latestWkid": 3116
  }
 },
 "initialExtent": {
  "xmin": 979950.5999958067,
  "ymin": 984602.8400003732,
  "xmax": 1008934.9999958067,
  "ymax": 1026933.4800003732,
  "spatialReference": {
   "wkid": 3116,
   "latestWkid": 3116
  }
 },
 "fullExtent": {
  "xmin": 979950.5999958067,
  "ymin": 984602.8400003732,
  "xmax": 1008934.9999958067,
  "ymax": 1026933.4800003732,
  "spatialReference": {
   "wkid": 3116,
   "latestWkid": 3116
  }
 },
 "sortableFields": "MinPS,MaxPS,LowPS,HighPS,CenterX,CenterY,ZOrder,Shape_Length,Shape_Area",
 "bandCount": 4,
 "pixelType": "U8",
 "minValues": [
  1,
  1,
  1,
  1
 ],
 "maxValues": [
  236,
  222,
  216,
  253
 ],
 "meanValues": [
  104.13170753403031,
  109.16841437059439,
  93.68990738887224,
  108.55274346051446
 ],
 "stdvValues": [
  37.392294864849376,
  29.371021838843372,
  28.224067217955607,
  29.921529057397592
 ],
 "hasMultidimensions": false,
 "pixelSizeX": 0.08000000000000007,
 "pixelSizeY": 0.08000000000000003,
 "meanPixelSize": 0.08000000000000004,
 "datasetFormat": "AMD",
 "uncompressedSize": 766828009728,
 "blockWidth": 2048,
 "blockHeight": 256,
 "compressionType": "None",
 "bandNames": [
  "Red",
  "Green",
  "Blue",
  "Infrared"
 ],
 "allowCopy": true,
 "allowAnalysis": true,
 "itemAccess": false,
 "inspectionCapabilities": "",
 "minPixelSize": 0,
 "maxPixelSize": 0,
 "copyrightText": "Empresa de Acueducto y Alcantarillado de Bogotá ESP - EAAB.",
 "serviceDataType": "esriImageServiceDataTypeGeneric",
 "serviceSourceType": "esriImageServiceSourceTypeMosaicDataset",
 "objectIdField": "OBJECTID",
 "fields": [
  {
   "name": "OBJECTID",
   "type": "esriFieldTypeOID",
   "alias": "OBJECTID",
   "domain": null
  },
  {
   "name": "Shape",
   "type": "esriFieldTypeGeometry",
   "alias": "Shape",
   "domain": null
  },
  {
   "name": "Name",
   "type": "esriFieldTypeString",
   "alias": "Name",
   "domain": null,
   "length": 200
  },
  {
   "name": "MinPS",
   "type": "esriFieldTypeDouble",
   "alias": "MinPS",
   "domain": null
  },
  {
   "name": "MaxPS",
   "type": "esriFieldTypeDouble",
   "alias": "MaxPS",
   "domain": null
  },
  {
   "name": "LowPS",
   "type": "esriFieldTypeDouble",
   "alias": "LowPS",
   "domain": null
  },
  {
   "name": "HighPS",
   "type": "esriFieldTypeDouble",
   "alias": "HighPS",
   "domain": null
  },
  {
   "name": "Category",
   "type": "esriFieldTypeInteger",
   "alias": "Category",
   "domain": {
    "type": "codedValue",
    "name": "MosaicCatalogItemCategoryDomain",
    "description": "Catalog item categories.",
    "codedValues": [
     {
      "name": "Unknown",
      "code": 0
     },
     {
      "name": "Primary",
      "code": 1
     },
     {
      "name": "Overview",
      "code": 2
     },
     {
      "name": "Unprocessed Overview",
      "code": 3
     },
     {
      "name": "Partial Overview",
      "code": 4
     },
     {
      "name": "Inactive",
      "code": 5
     },
     {
      "name": "Uploaded",
      "code": 253
     },
     {
      "name": "Incomplete",
      "code": 254
     },
     {
      "name": "Custom",
      "code": 255
     }
    ],
    "mergePolicy": "esriMPTDefaultValue",
    "splitPolicy": "esriSPTDefaultValue"
   }
  },
  {
   "name": "Tag",
   "type": "esriFieldTypeString",
   "alias": "Tag",
   "domain": null,
   "length": 100
  },
  {
   "name": "GroupName",
   "type": "esriFieldTypeString",
   "alias": "GroupName",
   "domain": null,
   "length": 100
  },
  {
   "name": "ProductName",
   "type": "esriFieldTypeString",
   "alias": "ProductName",
   "domain": null,
   "length": 100
  },
  {
   "name": "CenterX",
   "type": "esriFieldTypeDouble",
   "alias": "CenterX",
   "domain": null
  },
  {
   "name": "CenterY",
   "type": "esriFieldTypeDouble",
   "alias": "CenterY",
   "domain": null
  },
  {
   "name": "ZOrder",
   "type": "esriFieldTypeInteger",
   "alias": "ZOrder",
   "domain": null
  },
  {
   "name": "Shape_Length",
   "type": "esriFieldTypeDouble",
   "alias": "Shape_Length",
   "domain": null
  },
  {
   "name": "Shape_Area",
   "type": "esriFieldTypeDouble",
   "alias": "Shape_Area",
   "domain": null
  }
 ],
 "capabilities": "Catalog,Mensuration,Image,Metadata",
 "defaultMosaicMethod": "Northwest",
 "allowedMosaicMethods": "NorthWest,Center,LockRaster,ByAttribute,Nadir,Viewpoint,Seamline,None",
 "sortField": "",
 "sortValue": null,
 "sortAscending": true,
 "mosaicOperator": "First",
 "maxDownloadSizeLimit": 2048,
 "defaultCompressionQuality": 75,
 "defaultResamplingMethod": "Bilinear",
 "maxImageHeight": 4100,
 "maxImageWidth": 15000,
 "maxRecordCount": 0,
 "maxDownloadImageCount": 0,
 "maxMosaicImageCount": 20,
 "allowRasterFunction": true,
 "rasterFunctionInfos": [
  {
   "name": "None",
   "description": "A No-Op Function.",
   "help": ""
  },
  {
   "name": "2020_strech_sd",
   "description": "A raster function template.",
   "help": ""
  },
  {
   "name": "2020_NDVI",
   "description": "A raster function template.",
   "help": ""
  },
  {
   "name": "2020_strech_mm",
   "description": "A raster function template.",
   "help": ""
  },
  {
   "name": "2020_strech_pc",
   "description": "A raster function template.",
   "help": ""
  },
  {
   "name": "2020_strech_sig",
   "description": "A raster function template.",
   "help": ""
  }
 ],
 "rasterTypeInfos": [
  {
   "name": "Raster Dataset",
   "description": "Supports all ArcGIS Raster Datasets",
   "help": ""
  }
 ],
 "mensurationCapabilities": "None",
 "hasHistograms": true,
 "hasColormap": false,
 "hasRasterAttributeTable": false,
 "minScale": 0,
 "maxScale": 0,
 "exportTilesAllowed": false,
 "supportsStatistics": true,
 "supportsAdvancedQueries": true,
 "editFieldsInfo": null,
 "ownershipBasedAccessControlForRasters": null,
 "allowComputeTiePoints": false,
 "useStandardizedQueries": true,
 "advancedQueryCapabilities": {
  "useStandardizedQueries": true,
  "supportsStatistics": true,
  "supportsOrderBy": true,
  "supportsDistinct": true,
  "supportsPagination": true
 },
 "spatialReference": {
  "wkid": 3116,
  "latestWkid": 3116
 },
 "resampling": false
}
