{
 "currentVersion": 11.3,
 "serviceDescription": "Este producto contiene un mosaico raster ortorectificado de la zona rural de Bogotá cubriendo parte de las localidades de Usme, Ciudad Bolívar y Sumapaz, correspondientes a 103.000 hectáreas aproximadamente. Cuenta con 4 bandas del espectro electromagnético: Rojo, Verde, Azul e Infrarrojo Cercano, permitiendo crear un falso color para aplicaciones forestales.",
 "name": "imagenesfunciones/orthoRural2020funcion",
 "description": "Este producto contiene un mosaico raster ortorectificado de la zona rural de Bogotá cubriendo parte de las localidades de Usme, Ciudad Bolívar y Sumapaz, correspondientes a 103.000 hectáreas aproximadamente. Cuenta con 4 bandas del espectro electromagnético: Rojo, Verde, Azul e Infrarrojo Cercano, permitiendo crear un falso color para aplicaciones forestales.",
 "extent": {
  "xmin": -8288497.743181088,
  "ymin": 414659.2709561636,
  "xmax": -8246805.743181088,
  "ymax": 496610.67095616314,
  "spatialReference": {
   "wkid": 102100,
   "latestWkid": 3857
  }
 },
 "initialExtent": {
  "xmin": -8288497.743181088,
  "ymin": 414659.2709561636,
  "xmax": -8246805.743181088,
  "ymax": 496610.67095616314,
  "spatialReference": {
   "wkid": 102100,
   "latestWkid": 3857
  }
 },
 "fullExtent": {
  "xmin": -8288497.743181088,
  "ymin": 414659.2709561636,
  "xmax": -8246805.743181088,
  "ymax": 496610.67095616314,
  "spatialReference": {
   "wkid": 102100,
   "latestWkid": 3857
  }
 },
 "sortableFields": "",
 "bandCount": 4,
 "pixelType": "U8",
 "minValues": [],
 "maxValues": [],
 "meanValues": [],
 "stdvValues": [],
 "hasMultidimensions": false,
 "pixelSizeX": 0.2,
 "pixelSizeY": 0.19999999999999893,
 "meanPixelSize": 0.19999999999999946,
 "datasetFormat": "TIFF",
 "uncompressedSize": 341671776880,
 "blockWidth": 128,
 "blockHeight": 128,
 "compressionType": "LZW",
 "bandNames": [
  "Band_1",
  "Band_2",
  "Band_3",
  "Band_4"
 ],
 "allowCopy": true,
 "allowAnalysis": true,
 "itemAccess": false,
 "inspectionCapabilities": "",
 "noDataValue": 256,
 "noDataValues": [
  256,
  256,
  256,
  256
 ],
 "minPixelSize": 0,
 "maxPixelSize": 0,
 "copyrightText": "Alcaldía Mayor de Bogotá D.C.",
 "serviceDataType": "esriImageServiceDataTypeGeneric",
 "serviceSourceType": "esriImageServiceSourceTypeDataset",
 "objectIdField": "",
 "fields": [],
 "capabilities": "Mensuration,Image,Metadata",
 "defaultMosaicMethod": "Center",
 "allowedMosaicMethods": "",
 "sortField": "",
 "sortValue": null,
 "sortAscending": true,
 "mosaicOperator": "First",
 "defaultCompressionQuality": 75,
 "defaultResamplingMethod": "Bilinear",
 "maxImageHeight": 4100,
 "maxImageWidth": 15000,
 "allowRasterFunction": true,
 "rasterFunctionInfos": [
  {
   "name": "sumapaz_clip",
   "description": "A raster function template.",
   "help": ""
  },
  {
   "name": "sumapaz_NDVI",
   "description": "A raster function template.",
   "help": ""
  },
  {
   "name": "sumapaz_strech_mm",
   "description": "A raster function template.",
   "help": ""
  },
  {
   "name": "sumapaz_strech_pc",
   "description": "A raster function template.",
   "help": ""
  },
  {
   "name": "sumapaz_strech_sd",
   "description": "A raster function template.",
   "help": ""
  },
  {
   "name": "sumapaz_strech_sig",
   "description": "A raster function template.",
   "help": ""
  },
  {
   "name": "None",
   "description": "",
   "help": ""
  }
 ],
 "rasterTypeInfos": [
  {
   "name": "Raster Dataset",
   "description": "Supports all ArcGIS Raster Datasets",
   "help": ""
  }
 ],
 "mensurationCapabilities": "Basic",
 "hasHistograms": false,
 "hasColormap": false,
 "hasRasterAttributeTable": false,
 "minScale": 0,
 "maxScale": 0,
 "exportTilesAllowed": false,
 "supportsStatistics": false,
 "supportsAdvancedQueries": false,
 "editFieldsInfo": null,
 "ownershipBasedAccessControlForRasters": null,
 "allowComputeTiePoints": false,
 "useStandardizedQueries": true,
 "advancedQueryCapabilities": {
  "useStandardizedQueries": true,
  "supportsStatistics": false,
  "supportsOrderBy": false,
  "supportsDistinct": false,
  "supportsPagination": false
 },
 "spatialReference": {
  "wkid": 102100,
  "latestWkid": 3857
 },
 "resampling": false
}
