{
 "currentVersion": 11.3,
 "serviceDescription": "Este conjunto de datos contiene ortofotoimágenes de alta resolución espacial (GSD 10 cm) para los centros poblados de la ruralidad de Bogotá. DETALLES TÉCNICOS: Fechas de toma: 23 de septiembre de 2025 al 27 de septiembre de 2025. Sensor: Riegl VQ-580II. Resolución GSD: 10 cm. Sistema de Coordenadas: GCS WGS 1984 (EPSG: 4326). Bandas: 4 (RGBI). COBERTURA: Nazareth, Pasquilla, San Juan, Betania, La Unión, Mochuelo Alto, El Destino, Nueva Granada, Quiba Bajo.",
 "name": "imagenesfunciones/orthocentrospoblados2025funcion",
 "description": "Este conjunto de datos contiene ortofotoimágenes de alta resolución espacial (GSD 10 cm) para los centros poblados de la ruralidad de Bogotá. DETALLES TÉCNICOS: Fechas de toma: 23 de septiembre de 2025 al 27 de septiembre de 2025. Sensor: Riegl VQ-580II. Resolución GSD: 10 cm. Sistema de Coordenadas: GCS WGS 1984 (EPSG: 4326). Bandas: 4 (RGBI). COBERTURA: Nazareth, Pasquilla, San Juan, Betania, La Unión, Mochuelo Alto, El Destino, Nueva Granada, Quiba Bajo.",
 "extent": {
  "xmin": -74.36722748234266,
  "ymin": 3.8864129883522245,
  "xmax": -74.13563181527138,
  "ymax": 4.532454167572469,
  "spatialReference": {
   "wkid": 4326,
   "latestWkid": 4326
  }
 },
 "initialExtent": {
  "xmin": -74.36722748234266,
  "ymin": 3.8864129883522245,
  "xmax": -74.13563181527138,
  "ymax": 4.532454167572469,
  "spatialReference": {
   "wkid": 4326,
   "latestWkid": 4326
  }
 },
 "fullExtent": {
  "xmin": -74.36722748234266,
  "ymin": 3.8864129883522245,
  "xmax": -74.13563181527138,
  "ymax": 4.532454167572469,
  "spatialReference": {
   "wkid": 4326,
   "latestWkid": 4326
  }
 },
 "sortableFields": "MinPS,MaxPS,LowPS,HighPS,CenterX,CenterY,ZOrder,Shape_Length,Shape_Area",
 "bandCount": 4,
 "pixelType": "U8",
 "minValues": [
  0,
  0,
  0,
  0
 ],
 "maxValues": [
  254,
  254,
  254,
  242
 ],
 "meanValues": [
  75.32749492938622,
  73.22330728721765,
  44.38912641879675,
  95.21964754870964
 ],
 "stdvValues": [
  32.79145343159378,
  28.65432397805297,
  28.96116919640704,
  26.34253037599989
 ],
 "hasMultidimensions": false,
 "pixelSizeX": 4.5213306367127806E-7,
 "pixelSizeY": 4.5213306367128574E-7,
 "meanPixelSize": 0.05033122241868984,
 "datasetFormat": "AMD",
 "uncompressedSize": 2927642800584,
 "blockWidth": 2048,
 "blockHeight": 256,
 "compressionType": "None",
 "bandNames": [
  "Band_1",
  "Band_2",
  "Band_3",
  "Band_4"
 ],
 "allowCopy": true,
 "allowAnalysis": true,
 "itemAccess": false,
 "inspectionCapabilities": "",
 "minPixelSize": 0,
 "maxPixelSize": 0,
 "copyrightText": "Unidad Administrativa Especial de Catastro Distrital - UAECD",
 "serviceDataType": "esriImageServiceDataTypeGeneric",
 "serviceSourceType": "esriImageServiceSourceTypeMosaicDataset",
 "objectIdField": "OBJECTID",
 "fields": [
  {
   "name": "OBJECTID",
   "type": "esriFieldTypeOID",
   "alias": "OBJECTID",
   "domain": null
  },
  {
   "name": "Shape",
   "type": "esriFieldTypeGeometry",
   "alias": "Shape",
   "domain": null
  },
  {
   "name": "Name",
   "type": "esriFieldTypeString",
   "alias": "Name",
   "domain": null,
   "length": 200
  },
  {
   "name": "MinPS",
   "type": "esriFieldTypeDouble",
   "alias": "MinPS",
   "domain": null
  },
  {
   "name": "MaxPS",
   "type": "esriFieldTypeDouble",
   "alias": "MaxPS",
   "domain": null
  },
  {
   "name": "LowPS",
   "type": "esriFieldTypeDouble",
   "alias": "LowPS",
   "domain": null
  },
  {
   "name": "HighPS",
   "type": "esriFieldTypeDouble",
   "alias": "HighPS",
   "domain": null
  },
  {
   "name": "Category",
   "type": "esriFieldTypeInteger",
   "alias": "Category",
   "domain": {
    "type": "codedValue",
    "name": "MosaicCatalogItemCategoryDomain",
    "description": "Catalog item categories.",
    "codedValues": [
     {
      "name": "Unknown",
      "code": 0
     },
     {
      "name": "Primary",
      "code": 1
     },
     {
      "name": "Overview",
      "code": 2
     },
     {
      "name": "Unprocessed Overview",
      "code": 3
     },
     {
      "name": "Partial Overview",
      "code": 4
     },
     {
      "name": "Inactive",
      "code": 5
     },
     {
      "name": "Uploaded",
      "code": 253
     },
     {
      "name": "Incomplete",
      "code": 254
     },
     {
      "name": "Custom",
      "code": 255
     }
    ],
    "mergePolicy": "esriMPTDefaultValue",
    "splitPolicy": "esriSPTDefaultValue"
   }
  },
  {
   "name": "Tag",
   "type": "esriFieldTypeString",
   "alias": "Tag",
   "domain": null,
   "length": 100
  },
  {
   "name": "GroupName",
   "type": "esriFieldTypeString",
   "alias": "GroupName",
   "domain": null,
   "length": 100
  },
  {
   "name": "ProductName",
   "type": "esriFieldTypeString",
   "alias": "ProductName",
   "domain": null,
   "length": 100
  },
  {
   "name": "CenterX",
   "type": "esriFieldTypeDouble",
   "alias": "CenterX",
   "domain": null
  },
  {
   "name": "CenterY",
   "type": "esriFieldTypeDouble",
   "alias": "CenterY",
   "domain": null
  },
  {
   "name": "ZOrder",
   "type": "esriFieldTypeInteger",
   "alias": "ZOrder",
   "domain": null
  },
  {
   "name": "Shape_Length",
   "type": "esriFieldTypeDouble",
   "alias": "Shape_Length",
   "domain": null
  },
  {
   "name": "Shape_Area",
   "type": "esriFieldTypeDouble",
   "alias": "Shape_Area",
   "domain": null
  }
 ],
 "capabilities": "Catalog,Mensuration,Image,Metadata",
 "defaultMosaicMethod": "Center",
 "allowedMosaicMethods": "Center,NorthWest,Nadir,LockRaster,ByAttribute,Seamline,None",
 "sortField": "",
 "sortValue": null,
 "sortAscending": true,
 "mosaicOperator": "First",
 "maxDownloadSizeLimit": 2048,
 "defaultCompressionQuality": 75,
 "defaultResamplingMethod": "Bilinear",
 "maxImageHeight": 10000,
 "maxImageWidth": 10000,
 "maxRecordCount": 2000,
 "maxDownloadImageCount": 0,
 "maxMosaicImageCount": 30,
 "allowRasterFunction": true,
 "rasterFunctionInfos": [
  {
   "name": "None",
   "description": "Make a Raster or Raster Dataset into a Function Raster Dataset.",
   "help": ""
  },
  {
   "name": "ColorBalance",
   "description": "Balance de color entre mosaicos.",
   "help": ""
  },
  {
   "name": "FalseColor_CIR",
   "description": "Falso Color Infrarrojo: R=NIR(B4), G=Rojo(B1), B=Verde(B2).",
   "help": ""
  },
  {
   "name": "NDVI_Colorized",
   "description": "NDVI coloreado automaticamente usando el colormap NDVI3 de Esri.",
   "help": ""
  },
  {
   "name": "Stretch_SD",
   "description": "Stretch por 2 Desviaciones Estandar con DRA.",
   "help": ""
  }
 ],
 "rasterTypeInfos": [
  {
   "name": "Raster Dataset",
   "description": "Supports all ArcGIS Raster Datasets",
   "help": ""
  }
 ],
 "mensurationCapabilities": "NONE",
 "hasHistograms": true,
 "hasColormap": false,
 "hasRasterAttributeTable": false,
 "minScale": 0,
 "maxScale": 0,
 "exportTilesAllowed": false,
 "supportsStatistics": true,
 "supportsAdvancedQueries": true,
 "editFieldsInfo": null,
 "ownershipBasedAccessControlForRasters": null,
 "allowComputeTiePoints": false,
 "useStandardizedQueries": true,
 "advancedQueryCapabilities": {
  "useStandardizedQueries": true,
  "supportsStatistics": true,
  "supportsOrderBy": true,
  "supportsDistinct": true,
  "supportsPagination": true
 },
 "spatialReference": {
  "wkid": 4326,
  "latestWkid": 4326
 },
 "resampling": false
}
