<?xml version="1.0" encoding="UTF-8" standalone="no"?>
<metadata xml:lang="en">
<Esri>
<CreaDate>20260526</CreaDate>
<CreaTime>14212100</CreaTime>
<ArcGISFormat>1.0</ArcGISFormat>
<SyncOnce>FALSE</SyncOnce>
<DataProperties>
<lineage>
<Process Date="20260526" Name="" Time="142121" ToolSource="c:\program files\arcgis\pro\Resources\ArcToolbox\toolboxes\Data Management Tools.tbx\CreateMosaicDataset" export="">CreateMosaicDataset \\idecafs1\imagenes2\ProductosRaster\Ortoimagenes\OrtoCerrosOrientales2025\ortoimagenCO.gdb OrtoCO2025 GEOGCS["GCS_WGS_1984",DATUM["D_WGS_1984",SPHEROID["WGS_1984",6378137.0,298.257223563]],PRIMEM["Greenwich",0.0],UNIT["Degree",0.0174532925199433]] 4 8_BIT_UNSIGNED NATURAL_COLOR_RGBI "Red 630 690;Green 530 570;Blue 440 510;Infrared 770 830"</Process>
<Process Date="20260526" Name="" Time="142913" ToolSource="c:\program files\arcgis\pro\Resources\ArcToolbox\toolboxes\Data Management Tools.tbx\AddRastersToMosaicDataset" export="">AddRastersToMosaicDataset \\idecafs1\imagenes2\ProductosRaster\Ortoimagenes\OrtoCerrosOrientales2025\ortoimagenCO.gdb\OrtoCO2025 "Raster Dataset" \\idecafs1\imagenes2\ProductosRaster\Ortoimagenes\OrtoCerrosOrientales2025\OrtoCerrosOrientales2025_COG.tif UPDATE_CELL_SIZES NO_BOUNDARY NO_OVERVIEWS # 0 1500 # # SUBFOLDERS ALLOW_DUPLICATES NO_PYRAMIDS NO_STATISTICS NO_THUMBNAILS # NO_FORCE_SPATIAL_REFERENCE NO_STATISTICS # USE_PIXEL_CACHE \\idecafs1\imagenes2\ProductosRaster\Ortoimagenes\OrtoCerrosOrientales2025\pixel_cache</Process>
<Process Date="20260526" Name="" Time="144028" ToolSource="c:\program files\arcgis\pro\Resources\ArcToolbox\toolboxes\Data Management Tools.tbx\SetRasterProperties" export="">SetRasterProperties \\idecafs1\imagenes2\ProductosRaster\Ortoimagenes\OrtoCerrosOrientales2025\ortoimagenCO.gdb\OrtoCO2025 # # # "1 255;2 255;3 255;4 255" # #</Process>
</lineage>
<itemProps>
<itemName Sync="TRUE">OrtoCO2025</itemName>
<itemLocation>
<linkage Sync="TRUE">file://\\idecafs1\imagenes2\ProductosRaster\Ortoimagenes\OrtoCerrosOrientales2025\ortoimagenCO.gdb</linkage>
<protocol Sync="TRUE">Local Area Network</protocol>
</itemLocation>
<nativeExtBox>
<westBL Sync="TRUE">-74.091837</westBL>
<eastBL Sync="TRUE">-73.989982</eastBL>
<southBL Sync="TRUE">4.460067</southBL>
<northBL Sync="TRUE">4.826182</northBL>
<exTypeCode Sync="TRUE">1</exTypeCode>
</nativeExtBox>
</itemProps>
<coordRef>
<type Sync="TRUE">Geographic</type>
<geogcsn Sync="TRUE">GCS_WGS_1984</geogcsn>
<csUnits Sync="TRUE">Angular Unit: Degree (0.017453)</csUnits>
<peXml Sync="TRUE">&lt;GeographicCoordinateSystem xsi:type='typens:GeographicCoordinateSystem' xmlns:xsi='http://www.w3.org/2001/XMLSchema-instance' xmlns:xs='http://www.w3.org/2001/XMLSchema' xmlns:typens='http://www.esri.com/schemas/ArcGIS/3.4.0'&gt;&lt;WKT&gt;GEOGCS[&amp;quot;GCS_WGS_1984&amp;quot;,DATUM[&amp;quot;D_WGS_1984&amp;quot;,SPHEROID[&amp;quot;WGS_1984&amp;quot;,6378137.0,298.257223563]],PRIMEM[&amp;quot;Greenwich&amp;quot;,0.0],UNIT[&amp;quot;Degree&amp;quot;,0.0174532925199433],AUTHORITY[&amp;quot;EPSG&amp;quot;,4326]]&lt;/WKT&gt;&lt;XOrigin&gt;-400&lt;/XOrigin&gt;&lt;YOrigin&gt;-400&lt;/YOrigin&gt;&lt;XYScale&gt;11258999068426.238&lt;/XYScale&gt;&lt;ZOrigin&gt;-100000&lt;/ZOrigin&gt;&lt;ZScale&gt;10000&lt;/ZScale&gt;&lt;MOrigin&gt;-100000&lt;/MOrigin&gt;&lt;MScale&gt;10000&lt;/MScale&gt;&lt;XYTolerance&gt;8.983152841195215e-09&lt;/XYTolerance&gt;&lt;ZTolerance&gt;0.001&lt;/ZTolerance&gt;&lt;MTolerance&gt;0.001&lt;/MTolerance&gt;&lt;HighPrecision&gt;true&lt;/HighPrecision&gt;&lt;LeftLongitude&gt;-180&lt;/LeftLongitude&gt;&lt;WKID&gt;4326&lt;/WKID&gt;&lt;LatestWKID&gt;4326&lt;/LatestWKID&gt;&lt;/GeographicCoordinateSystem&gt;</peXml>
</coordRef>
<RasterProperties>
<General>
<PixelDepth Sync="TRUE">8</PixelDepth>
<HasColormap Sync="TRUE">FALSE</HasColormap>
<CompressionType Sync="TRUE">None</CompressionType>
<NumBands Sync="TRUE">4</NumBands>
<Format Sync="TRUE">AMD</Format>
<HasPyramids Sync="TRUE">TRUE</HasPyramids>
<SourceType Sync="TRUE">continuous</SourceType>
<PixelType Sync="TRUE">unsigned integer</PixelType>
<NoDataValue Sync="TRUE">255</NoDataValue>
</General>
<Properties>
<MaxImageHeight Sync="TRUE">4100</MaxImageHeight>
<MaxImageWidth Sync="TRUE">15000</MaxImageWidth>
<MaxRecordCount Sync="TRUE">1000</MaxRecordCount>
<MaxDownloadImageCount Sync="TRUE">20</MaxDownloadImageCount>
<MaxDownloadSizeLimit Sync="TRUE">2048</MaxDownloadSizeLimit>
<MaxMosaicImageCount Sync="TRUE">20</MaxMosaicImageCount>
<DefaultCompressionQuality Sync="TRUE">75</DefaultCompressionQuality>
<DefaultCompressionTolerance Sync="TRUE">0.01</DefaultCompressionTolerance>
<BlendWidth Sync="TRUE">10</BlendWidth>
<ViewpointSpacingX Sync="TRUE">600</ViewpointSpacingX>
<ViewpointSpacingY Sync="TRUE">300</ViewpointSpacingY>
<AllowedItemMetadata Sync="TRUE">Basic</AllowedItemMetadata>
<DefaultResamplingMethod Sync="TRUE">1</DefaultResamplingMethod>
<AllowedMosaicMethods Sync="TRUE">NorthWest,Center,LockRaster,ByAttribute,Nadir,Viewpoint,Seamline,None</AllowedMosaicMethods>
<AllowedCompressions Sync="TRUE">None,JPEG,LZ77,LERC</AllowedCompressions>
<AllowedMensurationCapabilities Sync="TRUE">Basic</AllowedMensurationCapabilities>
<AvailableMensurationCapabilities Sync="TRUE">None,Basic,Base-Top Height,Top-Top Shadow Height,Base-Top Shadow Height,3D</AvailableMensurationCapabilities>
<ClipToBoundary Sync="TRUE">-1</ClipToBoundary>
<FootprintMayContainNoData Sync="TRUE">-1</FootprintMayContainNoData>
<CellSizeTolerance Sync="TRUE">0.8</CellSizeTolerance>
<MinimumPixelContribution Sync="TRUE">1</MinimumPixelContribution>
<AvailableMosaicMethods Sync="TRUE">NorthWest,Center,LockRaster,ByAttribute,Nadir,Viewpoint,Seamline,None</AvailableMosaicMethods>
<AvailableCompressionMethods Sync="TRUE">None,JPEG,LZ77,LERC</AvailableCompressionMethods>
<AvailableItemMetadataLevels Sync="TRUE">None,Basic,Full</AvailableItemMetadataLevels>
<BandDefinitionKeyword Sync="TRUE">NaturalColorRGBI</BandDefinitionKeyword>
<ApplyColorCorrection Sync="TRUE">0</ApplyColorCorrection>
<_docversion_ Sync="TRUE">10</_docversion_>
<AllowedFields Sync="TRUE">Name,MinPS,MaxPS,LowPS,HighPS,Tag,GroupName,ProductName,CenterX,CenterY,ZOrder,Shape_Length,Shape_Area</AllowedFields>
<MaxCellSize Sync="TRUE">3.59326113647809E-04</MaxCellSize>
<LowCellSize Sync="TRUE">2.2457882102988E-06</LowCellSize>
<HighCellSize Sync="TRUE">3.59326113647809E-05</HighCellSize>
<PixelCacheLocation Sync="TRUE">\\idecafs1\imagenes2\ProductosRaster\Ortoimagenes\OrtoCerrosOrientales2025\pixel_cache</PixelCacheLocation>
<ClipToFootprint Sync="TRUE">-1</ClipToFootprint>
<SortAscending Sync="TRUE">-1</SortAscending>
<MosaicOperator Sync="TRUE">1</MosaicOperator>
<UseTime Sync="TRUE">0</UseTime>
<DataType Sync="TRUE">Generic</DataType>
</Properties>
<Functions Sync="TRUE">
<Function Description="Performs on-the-fly mosaic on a raster catalog." Name="Mosaic Function"/>
</Functions>
</RasterProperties>
</DataProperties>
<SyncDate>20260526</SyncDate>
<SyncTime>15024600</SyncTime>
<ModDate>20260526</ModDate>
<ModTime>15050800</ModTime>
<scaleRange>
<minScale>150000000</minScale>
<maxScale>5000</maxScale>
</scaleRange>
<ArcGISProfile>ISO19139</ArcGISProfile>
</Esri>
<mdLang>
<languageCode value="spa"/>
<countryCode Sync="TRUE" value="USA"/>
</mdLang>
<mdChar>
<CharSetCd value="004"/>
</mdChar>
<mdHrLv>
<ScopeCd value="005"/>
</mdHrLv>
<mdHrLvName>dataset</mdHrLvName>
<mdContact>
<rpOrgName>Secretaría Distrital de Planeación</rpOrgName>
<rpPosName>Subsecretaría de Información</rpPosName>
<rpCntInfo>
<cntPhone>
<voiceNum>+57 (601) 3358000</voiceNum>
</cntPhone>
<cntAddress>
<delPoint>Cra. 30 No. 25-90</delPoint>
<city>Bogotá D.C.</city>
<adminArea>Cundinamarca</adminArea>
<postCode>111311</postCode>
<country>CO</country>
</cntAddress>
<cntHours>Lunes a viernes de 6:00 a.m. a 5:30 p.m.</cntHours>
</rpCntInfo>
<role>
<RoleCd value="007"/>
</role>
</mdContact>
<mdDateSt Sync="TRUE">20260526</mdDateSt>
<mdStanName>ArcGIS Metadata</mdStanName>
<mdStanVer>1.0</mdStanVer>
<dataIdInfo>
<idCitation>
<resTitle>orthocerros2025funcion</resTitle>
<resAltTitle>OrtoCerrosOrientales2025</resAltTitle>
<date>
<createDate>2025-02-14</createDate>
<pubDate>2025-12-18</pubDate>
</date>
<citRespParty>
<rpOrgName>Secretaría Distrital de Planeación</rpOrgName>
<rpPosName>Subsecretaría de Información</rpPosName>
<rpCntInfo>
<cntPhone>
<voiceNum>+57 (601) 3358000</voiceNum>
</cntPhone>
<cntAddress>
<delPoint>Cra. 30 No. 25-90</delPoint>
<city>Bogotá D.C.</city>
<adminArea>Cundinamarca</adminArea>
<postCode>111311</postCode>
<country>CO</country>
</cntAddress>
</rpCntInfo>
<role>
<RoleCd value="003"/>
</role>
</citRespParty>
<citRespParty>
<rpOrgName>Sistemas de Información Geográfica de Latinoamérica (SIGLA S.A.S.)</rpOrgName>
<rpPosName>Grupo de Producción</rpPosName>
<rpCntInfo>
<cntPhone>
<voiceNum>+57 (601) 7293735</voiceNum>
</cntPhone>
<cntAddress>
<delPoint>Carrera 47 No. 106-08</delPoint>
<city>Bogotá D.C.</city>
<adminArea>Cundinamarca</adminArea>
<postCode>111111</postCode>
<country>CO</country>
<eMailAdd>info@sigla-sas.com</eMailAdd>
</cntAddress>
</rpCntInfo>
<role>
<RoleCd value="006"/>
</role>
</citRespParty>
<presForm>
<PresFormCd Sync="TRUE" value="005"/>
</presForm>
</idCitation>
<idAbs>&lt;div style='text-align:Left;'&gt;&lt;div&gt;&lt;div&gt;&lt;p&gt;&lt;span&gt;Este conjunto de datos contiene el mosaico de ortoimágenes de los Cerros Orientales de Bogotá D.C. El producto fue recibido de la Secretaría Distrital de Planeación (SDP), en el marco de la entrega de productos de cartografía básica adquiridos por la entidad. La documentación técnica del proyecto identifica el área de los Cerros Orientales a escala 1:5.000, con un área de proyecto de 15.215 ha aproximadamente. El ráster fuente OrtoCerrosOrientales2025 tiene tamaño de pixel de 0,25 m y se documenta en este mosaico como GSD 25 cm. Los insumos fueron capturados el 14 de febrero de 2025 mediante sistema combinado Riegl VQ580II y cámara Phase One iXM-RS 150F. El sistema de referencia original corresponde a Transverse Mercator local documentado en OrtoCerrosOrientales2025.prj; el mosaic dataset fue creado en GCS WGS 1984 (EPSG:4326). El producto contiene 4 bandas de 8 bits (RGBI). El valor NoData del producto es blanco 255 y el boundary/footprint del mosaic dataset fue construido con GDAL a partir de los pixeles distintos de 255.&lt;/span&gt;&lt;/p&gt;&lt;/div&gt;&lt;/div&gt;&lt;/div&gt;</idAbs>
<idPurp>Servir como insumo cartográfico básico para análisis territorial, planificación, ordenamiento, estudios ambientales y generación de productos derivados sobre los Cerros Orientales de Bogotá D.C.</idPurp>
<idCredit>Producto entregado por la Secretaría Distrital de Planeación (SDP). Generación y procesamiento técnico reportados por Sistemas de Información Geográfica de Latinoamérica (SIGLA S.A.S.).</idCredit>
<idPoC>
<rpOrgName>Secretaría Distrital de Planeación</rpOrgName>
<rpPosName>Subsecretaría de Información</rpPosName>
<rpCntInfo>
<cntPhone>
<voiceNum>+57 (601) 3358000</voiceNum>
</cntPhone>
<cntAddress>
<delPoint>Cra. 30 No. 25-90</delPoint>
<city>Bogotá D.C.</city>
<adminArea>Cundinamarca</adminArea>
<postCode>111311</postCode>
<country>CO</country>
</cntAddress>
</rpCntInfo>
<role>
<RoleCd value="007"/>
</role>
</idPoC>
<placeKeys>
<keyword>República de Colombia</keyword>
<keyword>Cundinamarca</keyword>
<keyword>Bogotá D.C.</keyword>
<keyword>Cerros Orientales</keyword>
</placeKeys>
<themeKeys>
<keyword>Ortoimagen</keyword>
<keyword>Ortofotomosaico</keyword>
<keyword>Ortofoto</keyword>
<keyword>Mosaico</keyword>
<keyword>Fotogrametría</keyword>
<keyword>LiDAR</keyword>
</themeKeys>
<searchKeys>
<keyword>República de Colombia</keyword>
<keyword>Cundinamarca</keyword>
<keyword>Bogotá D.C.</keyword>
<keyword>Cerros Orientales</keyword>
<keyword>Ortoimagen</keyword>
<keyword>Ortofotomosaico</keyword>
<keyword>Ortofoto</keyword>
<keyword>Mosaico</keyword>
<keyword>Fotogrametría</keyword>
<keyword>LiDAR</keyword>
</searchKeys>
<resConst>
<Consts>
<useLimit>&lt;div style='text-align:Left;'&gt;&lt;div&gt;&lt;div&gt;&lt;p&gt;&lt;span&gt;CC BY 4.0&lt;/span&gt;&lt;/p&gt;&lt;/div&gt;&lt;/div&gt;&lt;/div&gt;</useLimit>
</Consts>
</resConst>
<spatRpType>
<SpatRepTypCd value="002"/>
</spatRpType>
<dataLang>
<languageCode value="spa"/>
<countryCode Sync="TRUE" value="USA"/>
</dataLang>
<dataChar>
<CharSetCd value="004"/>
</dataChar>
<dataExt>
<geoEle>
<GeoBndBox>
<exTypeCode>true</exTypeCode>
<westBL>-74.091837</westBL>
<eastBL>-73.989982</eastBL>
<southBL>4.460067</southBL>
<northBL>4.826182</northBL>
</GeoBndBox>
</geoEle>
</dataExt>
<envirDesc Sync="TRUE">Microsoft Windows Server 2016 Technical Preview Version 10.0 (Build 20348) ; Esri ArcGIS 13.4.0.55405</envirDesc>
<dataExt>
<geoEle>
<GeoBndBox esriExtentType="search">
<exTypeCode Sync="TRUE">1</exTypeCode>
<westBL Sync="TRUE">-74.091837</westBL>
<eastBL Sync="TRUE">-73.989982</eastBL>
<northBL Sync="TRUE">4.826182</northBL>
<southBL Sync="TRUE">4.460067</southBL>
</GeoBndBox>
</geoEle>
</dataExt>
<tpCat>
<TopicCatCd value="007"/>
</tpCat>
<tpCat>
<TopicCatCd value="010"/>
</tpCat>
<tpCat>
<TopicCatCd value="015"/>
</tpCat>
</dataIdInfo>
<dqInfo>
<dqScope>
<scpLvl>
<ScopeCd value="005"/>
</scpLvl>
</dqScope>
<dataLineage>
<statement>El mosaic dataset se construyó a partir del raster fuente OrtoCerrosOrientales2025.tif recibido de la SDP. El TIFF fuente cuenta con pirámides y estadísticas calculadas; el proceso de publicación en mosaic dataset agregó el raster en EPSG:4326, definió NoData 255 para las 4 bandas, omitió overviews del mosaic por usar pirámides internas del TIFF, registró las funciones raster urbanas equivalentes y generó el footprint y boundary con GDAL a resolución completa, considerando como dato todo pixel con al menos una banda distinta de 255.</statement>
</dataLineage>
</dqInfo>
<refSysInfo>
<RefSystem>
<refSysID>
<identCode code="4326"/>
<idCodeSpace>EPSG</idCodeSpace>
<idVersion Sync="TRUE">6.2(3.0.1)</idVersion>
</refSysID>
</RefSystem>
</refSysInfo>
<spatRepInfo>
<Georect>
<cellGeo>
<CellGeoCd Sync="TRUE" value="002"/>
</cellGeo>
<numDims Sync="TRUE">2</numDims>
<tranParaAv Sync="TRUE">1</tranParaAv>
<chkPtAv Sync="TRUE">0</chkPtAv>
<cornerPts>
<pos Sync="TRUE">-74.091837 4.460067</pos>
</cornerPts>
<cornerPts>
<pos Sync="TRUE">-74.091837 4.826182</pos>
</cornerPts>
<cornerPts>
<pos Sync="TRUE">-73.989982 4.826182</pos>
</cornerPts>
<cornerPts>
<pos Sync="TRUE">-73.989982 4.460067</pos>
</cornerPts>
<centerPt>
<pos Sync="TRUE">-74.040909 4.643125</pos>
</centerPt>
<axisDimension type="002">
<dimSize Sync="TRUE">45354</dimSize>
<dimResol>
<value Sync="TRUE" uom="deg">0.000002</value>
</dimResol>
</axisDimension>
<axisDimension type="001">
<dimSize Sync="TRUE">163023</dimSize>
<dimResol>
<value Sync="TRUE" uom="deg">0.000002</value>
</dimResol>
</axisDimension>
<ptInPixel>
<PixOrientCd Sync="TRUE" value="001"/>
</ptInPixel>
</Georect>
</spatRepInfo>
<contInfo>
<ImgDesc>
<contentTyp>
<ContentTypCd Sync="TRUE" value="001"/>
</contentTyp>
<covDim>
<Band>
<dimDescrp Sync="TRUE">Red</dimDescrp>
<bitsPerVal Sync="TRUE">8</bitsPerVal>
<valUnit>
<UOM gmlID="" type="length"/>
</valUnit>
<seqID>
<aName>1</aName>
<attributeType>
<aName>1</aName>
</attributeType>
</seqID>
</Band>
<Band>
<dimDescrp Sync="TRUE">Green</dimDescrp>
<bitsPerVal Sync="TRUE">8</bitsPerVal>
<valUnit>
<UOM gmlID="" type="length"/>
</valUnit>
<seqID>
<aName>2</aName>
<attributeType>
<aName>2</aName>
</attributeType>
</seqID>
</Band>
<Band>
<dimDescrp Sync="TRUE">Blue</dimDescrp>
<bitsPerVal Sync="TRUE">8</bitsPerVal>
<valUnit>
<UOM gmlID="" type="length"/>
</valUnit>
<seqID>
<aName>3</aName>
<attributeType>
<aName>3</aName>
</attributeType>
</seqID>
</Band>
<Band>
<dimDescrp Sync="TRUE">Infrared</dimDescrp>
<bitsPerVal Sync="TRUE">8</bitsPerVal>
<valUnit>
<UOM gmlID="" type="length"/>
</valUnit>
<seqID>
<aName>4</aName>
<attributeType>
<aName>4</aName>
</attributeType>
</seqID>
</Band>
</covDim>
<attDesc>cerros orientales</attDesc>
<trianInd>False</trianInd>
<radCalDatAv>False</radCalDatAv>
<camCalInAv>False</camCalInAv>
<filmDistInAv>False</filmDistInAv>
<lensDistInAv>False</lensDistInAv>
</ImgDesc>
</contInfo>
</metadata>
