{ "currentVersion": 11.3, "serviceDescription": "
Este conjunto de datos contiene el mosaico de ortoimágenes de los Cerros Orientales de Bogotá D.C. El producto fue recibido de la Secretaría Distrital de Planeación (SDP), en el marco de la entrega de productos de cartografía básica adquiridos por la entidad. La documentación técnica del proyecto identifica el área de los Cerros Orientales a escala 1:5.000, con un área de proyecto de 15.215 ha aproximadamente. El ráster fuente OrtoCerrosOrientales2025 tiene tamaño de pixel de 0,25 m y se documenta en este mosaico como GSD 25 cm. Los insumos fueron capturados el 14 de febrero de 2025 mediante sistema combinado Riegl VQ580II y cámara Phase One iXM-RS 150F. El sistema de referencia original corresponde a Transverse Mercator local documentado en OrtoCerrosOrientales2025.prj; el mosaic dataset fue creado en GCS WGS 1984 (EPSG:4326). El producto contiene 4 bandas de 8 bits (RGBI). El valor NoData del producto es blanco 255 y el boundary/footprint del mosaic dataset fue construido con GDAL a partir de los pixeles distintos de 255.<\/span><\/p><\/div><\/div><\/div>",
"name": "imagenesfunciones/orthocerros2025funcion",
"description": " Este conjunto de datos contiene el mosaico de ortoimágenes de los Cerros Orientales de Bogotá D.C. El producto fue recibido de la Secretaría Distrital de Planeación (SDP), en el marco de la entrega de productos de cartografía básica adquiridos por la entidad. La documentación técnica del proyecto identifica el área de los Cerros Orientales a escala 1:5.000, con un área de proyecto de 15.215 ha aproximadamente. El ráster fuente OrtoCerrosOrientales2025 tiene tamaño de pixel de 0,25 m y se documenta en este mosaico como GSD 25 cm. Los insumos fueron capturados el 14 de febrero de 2025 mediante sistema combinado Riegl VQ580II y cámara Phase One iXM-RS 150F. El sistema de referencia original corresponde a Transverse Mercator local documentado en OrtoCerrosOrientales2025.prj; el mosaic dataset fue creado en GCS WGS 1984 (EPSG:4326). El producto contiene 4 bandas de 8 bits (RGBI). El valor NoData del producto es blanco 255 y el boundary/footprint del mosaic dataset fue construido con GDAL a partir de los pixeles distintos de 255.<\/span><\/p><\/div><\/div><\/div>",
"extent": {
"xmin": -74.09183704399999,
"ymin": 4.46006708859248,
"xmax": -73.98998156551009,
"ymax": 4.826182220000021,
"spatialReference": {
"wkid": 4326,
"latestWkid": 4326
}
},
"initialExtent": {
"xmin": -74.09183704399999,
"ymin": 4.46006708859248,
"xmax": -73.98998156551009,
"ymax": 4.826182220000021,
"spatialReference": {
"wkid": 4326,
"latestWkid": 4326
}
},
"fullExtent": {
"xmin": -74.09183704399999,
"ymin": 4.46006708859248,
"xmax": -73.98998156551009,
"ymax": 4.826182220000021,
"spatialReference": {
"wkid": 4326,
"latestWkid": 4326
}
},
"sortableFields": "",
"bandCount": 4,
"pixelType": "U8",
"minValues": [],
"maxValues": [],
"meanValues": [],
"stdvValues": [],
"hasMultidimensions": false,
"pixelSizeX": 2.2457882102988777E-6,
"pixelSizeY": 2.2457882102988014E-6,
"meanPixelSize": 0.250000000000004,
"datasetFormat": "AMD",
"uncompressedSize": 29574980568,
"blockWidth": 2048,
"blockHeight": 256,
"compressionType": "None",
"bandNames": [
"Red",
"Green",
"Blue",
"Infrared"
],
"allowCopy": true,
"allowAnalysis": true,
"itemAccess": false,
"inspectionCapabilities": "",
"noDataValue": 255,
"noDataValues": [
255,
255,
255,
255
],
"minPixelSize": 0,
"maxPixelSize": 0,
"copyrightText": "Producto entregado por la Secretaría Distrital de Planeación (SDP). Generación y procesamiento técnico reportados por Sistemas de Información Geográfica de Latinoamérica (SIGLA S.A.S.).",
"serviceDataType": "esriImageServiceDataTypeGeneric",
"serviceSourceType": "esriImageServiceSourceTypeMosaicDataset",
"objectIdField": "OBJECTID",
"fields": [
{
"name": "OBJECTID",
"type": "esriFieldTypeOID",
"alias": "OBJECTID",
"domain": null
},
{
"name": "Shape",
"type": "esriFieldTypeGeometry",
"alias": "Shape",
"domain": null
},
{
"name": "Name",
"type": "esriFieldTypeString",
"alias": "Name",
"domain": null,
"length": 200
},
{
"name": "MinPS",
"type": "esriFieldTypeDouble",
"alias": "MinPS",
"domain": null
},
{
"name": "MaxPS",
"type": "esriFieldTypeDouble",
"alias": "MaxPS",
"domain": null
},
{
"name": "LowPS",
"type": "esriFieldTypeDouble",
"alias": "LowPS",
"domain": null
},
{
"name": "HighPS",
"type": "esriFieldTypeDouble",
"alias": "HighPS",
"domain": null
},
{
"name": "Category",
"type": "esriFieldTypeInteger",
"alias": "Category",
"domain": {
"type": "codedValue",
"name": "MosaicCatalogItemCategoryDomain",
"description": "Catalog item categories.",
"codedValues": [
{
"name": "Unknown",
"code": 0
},
{
"name": "Primary",
"code": 1
},
{
"name": "Overview",
"code": 2
},
{
"name": "Unprocessed Overview",
"code": 3
},
{
"name": "Partial Overview",
"code": 4
},
{
"name": "Inactive",
"code": 5
},
{
"name": "Uploaded",
"code": 253
},
{
"name": "Incomplete",
"code": 254
},
{
"name": "Custom",
"code": 255
}
],
"mergePolicy": "esriMPTDefaultValue",
"splitPolicy": "esriSPTDefaultValue"
}
},
{
"name": "Tag",
"type": "esriFieldTypeString",
"alias": "Tag",
"domain": null,
"length": 100
},
{
"name": "GroupName",
"type": "esriFieldTypeString",
"alias": "GroupName",
"domain": null,
"length": 100
},
{
"name": "ProductName",
"type": "esriFieldTypeString",
"alias": "ProductName",
"domain": null,
"length": 100
},
{
"name": "CenterX",
"type": "esriFieldTypeDouble",
"alias": "CenterX",
"domain": null
},
{
"name": "CenterY",
"type": "esriFieldTypeDouble",
"alias": "CenterY",
"domain": null
},
{
"name": "ZOrder",
"type": "esriFieldTypeInteger",
"alias": "ZOrder",
"domain": null
},
{
"name": "Shape_Length",
"type": "esriFieldTypeDouble",
"alias": "Shape_Length",
"domain": null
},
{
"name": "Shape_Area",
"type": "esriFieldTypeDouble",
"alias": "Shape_Area",
"domain": null
}
],
"capabilities": "Image,Metadata",
"defaultMosaicMethod": "Northwest",
"allowedMosaicMethods": "NorthWest,Center,LockRaster,ByAttribute,Nadir,Viewpoint,Seamline,None",
"sortField": "",
"sortValue": null,
"sortAscending": true,
"mosaicOperator": "First",
"maxDownloadSizeLimit": 2048,
"defaultCompressionQuality": 75,
"defaultResamplingMethod": "Bilinear",
"maxImageHeight": 4100,
"maxImageWidth": 15000,
"maxRecordCount": 1000,
"maxDownloadImageCount": 0,
"maxMosaicImageCount": 20,
"allowRasterFunction": true,
"rasterFunctionInfos": [
{
"name": "ColorBalance_Rural",
"description": "Vista natural RGB para el mosaico Rural tras balance de color.",
"help": ""
},
{
"name": "FalseColor_CIR",
"description": "Falso color infrarrojo Rural con R=NIR (B4), G=Rojo (B1) y B=Verde (B2).",
"help": ""
},
{
"name": "NDVI_Colorized_Rural",
"description": "Calcula NDVI Rural usando rojo=B1 (0) y NIR=B4 (3).",
"help": ""
},
{
"name": "Stretch_SD_Rural",
"description": "Stretch por 2 desviaciones estandar con DRA sobre la vista RGB natural del mosaico Rural.",
"help": ""
},
{
"name": "None",
"description": "Make a Raster or Raster Dataset into a Function Raster Dataset.",
"help": ""
}
],
"rasterTypeInfos": [
{
"name": "Raster Dataset",
"description": "Supports all ArcGIS Raster Datasets",
"help": ""
}
],
"mensurationCapabilities": "",
"hasHistograms": false,
"hasColormap": false,
"hasRasterAttributeTable": false,
"minScale": 0,
"maxScale": 0,
"exportTilesAllowed": false,
"supportsStatistics": true,
"supportsAdvancedQueries": true,
"editFieldsInfo": null,
"ownershipBasedAccessControlForRasters": null,
"allowComputeTiePoints": false,
"useStandardizedQueries": true,
"advancedQueryCapabilities": {
"useStandardizedQueries": true,
"supportsStatistics": true,
"supportsOrderBy": true,
"supportsDistinct": true,
"supportsPagination": true
},
"spatialReference": {
"wkid": 4326,
"latestWkid": 4326
},
"resampling": false
}