<?xml version="1.0" encoding="UTF-8" standalone="no"?>
<metadata xml:lang="es">
<Esri>
<CreaDate>20240304</CreaDate>
<CreaTime>10215700</CreaTime>
<ArcGISFormat>1.0</ArcGISFormat>
<ArcGISstyle>ISO 19139 Metadata Implementation Specification GML3.2</ArcGISstyle>
<SyncOnce>FALSE</SyncOnce>
<DataProperties>
<lineage>
<Process Date="20240304" Name="" Time="102157" ToolSource="c:\program files (x86)\arcgis\desktop10.6\ArcToolbox\Toolboxes\Data Management Tools.tbx\CreateMosaicDataset" export="">CreateMosaicDataset "D:\Contenedor\Users\cmartinez\Documents\UAECD\IDECA\Unidad SW\OrtoimagenesGIC\ortoimagenesdron2023.gdb" orthodron2023 "GEOGCS['GCS_WGS_1984',DATUM['D_WGS_1984',SPHEROID['WGS_1984',6378137.0,298.257223563]],PRIMEM['Greenwich',0.0],UNIT['Degree',0.0174532925199433]];-400 -400 1000000000;-100000 10000;-100000 10000;8,98315284119522E-09;0,001;0,001;IsHighPrecision" 3 8_BIT_UNSIGNED NATURAL_COLOR_RGB "Red 630 690;Green 530 570;Blue 440 510"</Process>
<Process Date="20240304" Name="" Time="102705" ToolSource="c:\program files (x86)\arcgis\desktop10.6\ArcToolbox\Toolboxes\Data Management Tools.tbx\BuildFootprints" export="">BuildFootprints "D:\Contenedor\Users\cmartinez\Documents\UAECD\IDECA\Unidad SW\OrtoimagenesGIC\ortoimagenesdron2023.gdb\orthodron2023" # RADIOMETRY 1 255 -1 0 NO_MAINTAIN_EDGES SKIP_DERIVED_IMAGES UPDATE_BOUNDARY 2000 100 NONE # 20 0,05</Process>
<Process Date="20240304" Name="" Time="103801" ToolSource="c:\program files (x86)\arcgis\desktop10.6\ArcToolbox\Toolboxes\Data Management Tools.tbx\DefineOverviews" export="">DefineOverviews "D:\Contenedor\Users\cmartinez\Documents\UAECD\IDECA\Unidad SW\OrtoimagenesGIC\ortoimagenesdron2023.gdb\orthodron2023" "D:\Contenedor\Users\cmartinez\Documents\UAECD\IDECA\Unidad SW\OrtoimagenesGIC\ortoimagenesdron2023.Overviews\orthodron2023.Overviews" # "-74,21539516 4,48680756400006 -74,016720568 4,74040138800006" # -1 5120 5120 3 NO_FORCE_OVERVIEW_TILES BILINEAR JPEG 80</Process>
<Process Date="20240304" Name="" Time="111008" ToolSource="c:\program files (x86)\arcgis\desktop10.6\ArcToolbox\Toolboxes\Data Management Tools.tbx\BuildOverviews" export="">BuildOverviews "D:\Contenedor\Users\cmartinez\Documents\UAECD\IDECA\Unidad SW\OrtoimagenesGIC\ortoimagenesdron2023.gdb\orthodron2023" # DEFINE_MISSING_TILES GENERATE_OVERVIEWS GENERATE_MISSING_IMAGES REGENERATE_STALE_IMAGES</Process>
<Process Date="20240304" Time="113442" ToolSource="c:\program files (x86)\arcgis\desktop10.6\ArcToolbox\Toolboxes\Data Management Tools.tbx\AnalyzeMosaicDataset">AnalyzeMosaicDataset \\prowinarc12\E\Ortodron2023\ortoimagenesdron2023.gdb\orthodron2023 # FOOTPRINT;FUNCTION;RASTER;PATHS;SOURCE_VALIDITY</Process>
</lineage>
<itemProps>
<itemName Sync="TRUE">orthodron2023</itemName>
<itemLocation>
<linkage Sync="TRUE">file://\\10.35.180.47\f\agserver\imagenes\Ortodron2023\ortoimagenesdron2023.gdb</linkage>
<protocol Sync="TRUE">Local Area Network</protocol>
</itemLocation>
<nativeExtBox>
<westBL Sync="TRUE">-74.215401</westBL>
<eastBL Sync="TRUE">-74.016720</eastBL>
<southBL Sync="TRUE">4.486802</southBL>
<northBL Sync="TRUE">4.740401</northBL>
<exTypeCode Sync="TRUE">1</exTypeCode>
</nativeExtBox>
</itemProps>
<coordRef>
<type Sync="TRUE">Geographic</type>
<geogcsn Sync="TRUE">GCS_WGS_1984</geogcsn>
<csUnits Sync="TRUE">Angular Unit: Degree (0.017453)</csUnits>
<peXml Sync="TRUE">&lt;GeographicCoordinateSystem xsi:type='typens:GeographicCoordinateSystem' xmlns:xsi='http://www.w3.org/2001/XMLSchema-instance' xmlns:xs='http://www.w3.org/2001/XMLSchema' xmlns:typens='http://www.esri.com/schemas/ArcGIS/10.8'&gt;&lt;WKT&gt;GEOGCS[&amp;quot;GCS_WGS_1984&amp;quot;,DATUM[&amp;quot;D_WGS_1984&amp;quot;,SPHEROID[&amp;quot;WGS_1984&amp;quot;,6378137.0,298.257223563]],PRIMEM[&amp;quot;Greenwich&amp;quot;,0.0],UNIT[&amp;quot;Degree&amp;quot;,0.0174532925199433],AUTHORITY[&amp;quot;EPSG&amp;quot;,4326]]&lt;/WKT&gt;&lt;XOrigin&gt;-400&lt;/XOrigin&gt;&lt;YOrigin&gt;-400&lt;/YOrigin&gt;&lt;XYScale&gt;11258999068426.238&lt;/XYScale&gt;&lt;ZOrigin&gt;-100000&lt;/ZOrigin&gt;&lt;ZScale&gt;10000&lt;/ZScale&gt;&lt;MOrigin&gt;-100000&lt;/MOrigin&gt;&lt;MScale&gt;10000&lt;/MScale&gt;&lt;XYTolerance&gt;8.983152841195215e-09&lt;/XYTolerance&gt;&lt;ZTolerance&gt;0.001&lt;/ZTolerance&gt;&lt;MTolerance&gt;0.001&lt;/MTolerance&gt;&lt;HighPrecision&gt;true&lt;/HighPrecision&gt;&lt;LeftLongitude&gt;-180&lt;/LeftLongitude&gt;&lt;WKID&gt;4326&lt;/WKID&gt;&lt;LatestWKID&gt;4326&lt;/LatestWKID&gt;&lt;/GeographicCoordinateSystem&gt;</peXml>
</coordRef>
<RasterProperties>
<General>
<PixelDepth Sync="TRUE">8</PixelDepth>
<HasColormap Sync="TRUE">FALSE</HasColormap>
<CompressionType Sync="TRUE">None</CompressionType>
<NumBands Sync="TRUE">3</NumBands>
<Format Sync="TRUE">AMD</Format>
<HasPyramids Sync="TRUE">TRUE</HasPyramids>
<SourceType Sync="TRUE">continuous</SourceType>
<PixelType Sync="TRUE">unsigned integer</PixelType>
<NoDataValue Sync="TRUE"/>
</General>
<Properties>
<MaxImageHeight Sync="TRUE">4100</MaxImageHeight>
<MaxImageWidth Sync="TRUE">15000</MaxImageWidth>
<MaxRecordCount Sync="TRUE">1000</MaxRecordCount>
<MaxDownloadImageCount Sync="TRUE">20</MaxDownloadImageCount>
<MaxDownloadSizeLimit Sync="TRUE">2048</MaxDownloadSizeLimit>
<MaxMosaicImageCount Sync="TRUE">20</MaxMosaicImageCount>
<DefaultCompressionQuality Sync="TRUE">75</DefaultCompressionQuality>
<DefaultCompressionTolerance Sync="TRUE">0.01</DefaultCompressionTolerance>
<BlendWidth Sync="TRUE">10</BlendWidth>
<ViewpointSpacingX Sync="TRUE">600</ViewpointSpacingX>
<ViewpointSpacingY Sync="TRUE">300</ViewpointSpacingY>
<AllowedItemMetadata Sync="TRUE">Basic</AllowedItemMetadata>
<DefaultResamplingMethod Sync="TRUE">1</DefaultResamplingMethod>
<AllowedMosaicMethods Sync="TRUE">NorthWest,Center,LockRaster,ByAttribute,Nadir,Viewpoint,Seamline,None</AllowedMosaicMethods>
<AllowedCompressions Sync="TRUE">None,JPEG,LZ77,LERC</AllowedCompressions>
<AllowedMensurationCapabilities Sync="TRUE">None</AllowedMensurationCapabilities>
<AvailableMensurationCapabilities Sync="TRUE">None,Basic,Base-Top Height,Top-Top Shadow Height,Base-Top Shadow Height,3D</AvailableMensurationCapabilities>
<ClipToBoundary Sync="TRUE">0</ClipToBoundary>
<FootprintMayContainNoData Sync="TRUE">-1</FootprintMayContainNoData>
<CellSizeTolerance Sync="TRUE">0.8</CellSizeTolerance>
<MinimumPixelContribution Sync="TRUE">1</MinimumPixelContribution>
<AvailableMosaicMethods Sync="TRUE">NorthWest,Center,LockRaster,ByAttribute,Nadir,Viewpoint,Seamline,None</AvailableMosaicMethods>
<AvailableCompressionMethods Sync="TRUE">None,JPEG,LZ77,LERC</AvailableCompressionMethods>
<AvailableItemMetadataLevels Sync="TRUE">None,Basic,Full</AvailableItemMetadataLevels>
<BandDefinitionKeyword Sync="TRUE">NaturalColor</BandDefinitionKeyword>
<AllowedFields Sync="TRUE">Name,MinPS,MaxPS,LowPS,HighPS,Tag,GroupName,ProductName,CenterX,CenterY,ZOrder,Shape_Length,Shape_Area,Thumbnail</AllowedFields>
<MaxCellSize Sync="TRUE">8.79392420359661E-02</MaxCellSize>
<LowCellSize Sync="TRUE">2.46865174494657E-07</LowCellSize>
<HighCellSize Sync="TRUE">1.75878484071932E-03</HighCellSize>
<ClipToFootprint Sync="TRUE">-1</ClipToFootprint>
<_docversion_ Sync="TRUE">9</_docversion_>
</Properties>
<Functions Sync="TRUE">
<Function Description="Performs on-the-fly mosaic on a raster catalog." Name="Mosaic Function"/>
</Functions>
</RasterProperties>
</DataProperties>
<SyncDate>20240305</SyncDate>
<SyncTime>11564600</SyncTime>
<ModDate>20240305</ModDate>
<ModTime>11564600</ModTime>
<scaleRange>
<minScale>150000000</minScale>
<maxScale>5000</maxScale>
</scaleRange>
<ArcGISProfile>ISO19139</ArcGISProfile>
</Esri>
<dataIdInfo>
<envirDesc Sync="TRUE"> Version 6.2 (Build 9200) ; Esri ArcGIS 10.8.0.12790</envirDesc>
<dataLang>
<languageCode Sync="TRUE" value="eng"/>
<countryCode Sync="TRUE" value="USA"/>
</dataLang>
<idCitation>
<resTitle Sync="FALSE">Ortoimágenes Dron 2023</resTitle>
<presForm>
<PresFormCd Sync="TRUE" value="005"/>
</presForm>
</idCitation>
<spatRpType>
<SpatRepTypCd Sync="TRUE" value="002"/>
</spatRpType>
<dataExt>
<geoEle>
<GeoBndBox esriExtentType="search">
<exTypeCode Sync="TRUE">1</exTypeCode>
<westBL Sync="TRUE">-74.215401</westBL>
<eastBL Sync="TRUE">-74.016720</eastBL>
<northBL Sync="TRUE">4.740401</northBL>
<southBL Sync="TRUE">4.486802</southBL>
</GeoBndBox>
</geoEle>
</dataExt>
<idPurp>Ortoimágenes en zonas urbanas y rurales de la ciudad de Bogotá D.C. con dinámica de construcciones nuevas. Cuentan con un Ground Sample Distance – GSD de 10cm para generación de cartografía básica y estudios temáticos a escala 1:1.000.</idPurp>
<idAbs>Mosaico de ortoimágenes con cubrimiento de aproximadamente 313 hectáreas en zonas urbanas y rurales de la ciudad de Bogotá D.C. con dinámica de construcciones nuevas. Permite la generación de cartografía básica y estudios temáticos a escala 1:1.000. Su resolución radiométrica es de 8bits y su resolución espectral es de 3 bandas. Las imágenes insumo empleadas para su generación cuentan con un Ground Sample Distance – GSD entre 3cm y 10cm y fueron capturadas en el año 2023 mediante drones Wingtra One Gen II de la Unidad Administrativa Especial de Catastro Distrital – UAECD.Sobre cada Ortoimagen generada se realizó la evaluación de precisión posicional horizontal, tomando 20 puntos sobre la “Ortoimagen para el área urbana de la ciudad de Bogotá D.C 2020” y comparando estadísticamente con las coordenadas de los mismos detalles identificados. Encontrando entre esos datos el valor del error medio cuadrático radial (RMSEr), siendo este en todos los casos conforme respecto a los valores de aceptación de acuerdo con la Resolución 471 de 2020del Instituto Geográfico Agustín Codazzi – IGAC.</idAbs>
<idCredit>Infraestructura de Datos Espaciales para el Distrito Capital – IDECA / Unidad Administrativa Especial de Catastro Distrital – UAECD.</idCredit>
<searchKeys>
<keyword>Ortoimágenes</keyword>
<keyword>Bogotá D.C.</keyword>
<keyword>área urbana</keyword>
<keyword>área rural</keyword>
<keyword>Construcciones nuevas</keyword>
<keyword>Barrancas Oriental</keyword>
<keyword>Bolonia</keyword>
<keyword>Caracolí</keyword>
<keyword>Cedritos de Sur</keyword>
<keyword>Ciudad Bolívar</keyword>
<keyword>Dorado Ramírez</keyword>
<keyword>El Mochuelo</keyword>
<keyword>El Nuevo Portal</keyword>
<keyword>El Pedregal</keyword>
<keyword>Espino</keyword>
<keyword>La Esperanza Sur</keyword>
<keyword>Quiba Bajo</keyword>
<keyword>Quiba Bella Flor</keyword>
<keyword>San Bernardino</keyword>
<keyword>Santa Viviana</keyword>
<keyword>Sierra Morena</keyword>
<keyword>Villas El Diamante.</keyword>
</searchKeys>
<resConst>
<Consts>
<useLimit>CC BY 4.0</useLimit>
</Consts>
</resConst>
</dataIdInfo>
<mdLang>
<languageCode Sync="TRUE" value="eng"/>
<countryCode Sync="TRUE" value="USA"/>
</mdLang>
<refSysInfo>
<RefSystem>
<refSysID>
<identCode Sync="TRUE" code="4326"/>
<idCodeSpace Sync="TRUE">EPSG</idCodeSpace>
<idVersion Sync="TRUE">6.14(3.0.1)</idVersion>
</refSysID>
</RefSystem>
</refSysInfo>
<spatRepInfo>
<Georect>
<cellGeo>
<CellGeoCd Sync="TRUE" value="002"/>
</cellGeo>
<numDims Sync="TRUE">2</numDims>
<tranParaAv Sync="TRUE">1</tranParaAv>
<chkPtAv Sync="TRUE">0</chkPtAv>
<cornerPts>
<pos Sync="TRUE">-74.215401 4.486802</pos>
</cornerPts>
<cornerPts>
<pos Sync="TRUE">-74.215401 4.740401</pos>
</cornerPts>
<cornerPts>
<pos Sync="TRUE">-74.016720 4.740401</pos>
</cornerPts>
<cornerPts>
<pos Sync="TRUE">-74.016720 4.486802</pos>
</cornerPts>
<centerPt>
<pos Sync="TRUE">-74.116061 4.613602</pos>
</centerPt>
<axisDimension type="002">
<dimSize Sync="TRUE">804814</dimSize>
<dimResol>
<value Sync="TRUE" uom="deg">0.000000</value>
</dimResol>
</axisDimension>
<axisDimension type="001">
<dimSize Sync="TRUE">1027278</dimSize>
<dimResol>
<value Sync="TRUE" uom="deg">0.000000</value>
</dimResol>
</axisDimension>
<ptInPixel>
<PixOrientCd Sync="TRUE" value="001"/>
</ptInPixel>
</Georect>
</spatRepInfo>
<contInfo>
<ImgDesc>
<contentTyp>
<ContentTypCd Sync="TRUE" value="001"/>
</contentTyp>
<covDim>
<Band>
<dimDescrp Sync="TRUE">Red</dimDescrp>
<maxVal Sync="TRUE">234.000000</maxVal>
<minVal Sync="TRUE">16.000000</minVal>
<bitsPerVal Sync="TRUE">8</bitsPerVal>
<valUnit>
<UOM type="length"/>
</valUnit>
</Band>
<Band>
<dimDescrp Sync="TRUE">Green</dimDescrp>
<maxVal Sync="TRUE">227.000000</maxVal>
<minVal Sync="TRUE">23.000000</minVal>
<bitsPerVal Sync="TRUE">8</bitsPerVal>
<valUnit>
<UOM type="length"/>
</valUnit>
</Band>
<Band>
<dimDescrp Sync="TRUE">Blue</dimDescrp>
<maxVal Sync="TRUE">225.000000</maxVal>
<minVal Sync="TRUE">6.000000</minVal>
<bitsPerVal Sync="TRUE">8</bitsPerVal>
<valUnit>
<UOM type="length"/>
</valUnit>
</Band>
</covDim>
</ImgDesc>
</contInfo>
<mdDateSt Sync="TRUE">20240305</mdDateSt>
<mdHrLv>
<ScopeCd value="005"/>
</mdHrLv>
</metadata>
