{
 "currentVersion": 11.3,
 "serviceDescription": "Mosaico de ortoimágenes con cubrimiento de aproximadamente 313 hectáreas en zonas urbanas y rurales de la ciudad de Bogotá D.C. con dinámica de construcciones nuevas. Permite la generación de cartografía básica y estudios temáticos a escala 1:1.000. Su resolución radiométrica es de 8bits y su resolución espectral es de 3 bandas. Las imágenes insumo empleadas para su generación cuentan con un Ground Sample Distance \u2013 GSD entre 3cm y 10cm y fueron capturadas en el año 2023 mediante drones Wingtra One Gen II de la Unidad Administrativa Especial de Catastro Distrital \u2013 UAECD.Sobre cada Ortoimagen generada se realizó la evaluación de precisión posicional horizontal, tomando 20 puntos sobre la \u201cOrtoimagen para el área urbana de la ciudad de Bogotá D.C 2020\u201d y comparando estadísticamente con las coordenadas de los mismos detalles identificados. Encontrando entre esos datos el valor del error medio cuadrático radial (RMSEr), siendo este en todos los casos conforme respecto a los valores de aceptación de acuerdo con la Resolución 471 de 2020del Instituto Geográfico Agustín Codazzi \u2013 IGAC.",
 "name": "imagenesfunciones/orthodron2023funcion",
 "description": "Mosaico de ortoimágenes con cubrimiento de aproximadamente 313 hectáreas en zonas urbanas y rurales de la ciudad de Bogotá D.C. con dinámica de construcciones nuevas. Permite la generación de cartografía básica y estudios temáticos a escala 1:1.000. Su resolución radiométrica es de 8bits y su resolución espectral es de 3 bandas. Las imágenes insumo empleadas para su generación cuentan con un Ground Sample Distance \u2013 GSD entre 3cm y 10cm y fueron capturadas en el año 2023 mediante drones Wingtra One Gen II de la Unidad Administrativa Especial de Catastro Distrital \u2013 UAECD.Sobre cada Ortoimagen generada se realizó la evaluación de precisión posicional horizontal, tomando 20 puntos sobre la \u201cOrtoimagen para el área urbana de la ciudad de Bogotá D.C 2020\u201d y comparando estadísticamente con las coordenadas de los mismos detalles identificados. Encontrando entre esos datos el valor del error medio cuadrático radial (RMSEr), siendo este en todos los casos conforme respecto a los valores de aceptación de acuerdo con la Resolución 471 de 2020del Instituto Geográfico Agustín Codazzi \u2013 IGAC.",
 "extent": {
  "xmin": -74.21540100057385,
  "ymin": 4.486802224862231,
  "xmax": -74.01672045202811,
  "ymax": 4.740401387586747,
  "spatialReference": {
   "wkid": 4326,
   "latestWkid": 4326
  }
 },
 "initialExtent": {
  "xmin": -74.21540100057385,
  "ymin": 4.486802224862231,
  "xmax": -74.01672045202811,
  "ymax": 4.740401387586747,
  "spatialReference": {
   "wkid": 4326,
   "latestWkid": 4326
  }
 },
 "fullExtent": {
  "xmin": -74.21540100057385,
  "ymin": 4.486802224862231,
  "xmax": -74.01672045202811,
  "ymax": 4.740401387586747,
  "spatialReference": {
   "wkid": 4326,
   "latestWkid": 4326
  }
 },
 "sortableFields": "MinPS,MaxPS,LowPS,HighPS,CenterX,CenterY,ZOrder,Shape_Length,Shape_Area",
 "bandCount": 3,
 "pixelType": "U8",
 "minValues": [
  16,
  23,
  6
 ],
 "maxValues": [
  234,
  227,
  225
 ],
 "meanValues": [
  118.51401528940656,
  117.47863123407299,
  103.0206771022937
 ],
 "stdvValues": [
  26.89047498058707,
  24.18947565290626,
  28.347797977788854
 ],
 "hasMultidimensions": false,
 "pixelSizeX": 2.468651744946511E-7,
 "pixelSizeY": 2.468651744946509E-7,
 "meanPixelSize": 0.027480905519337174,
 "datasetFormat": "AMD",
 "uncompressedSize": 2480303148876,
 "blockWidth": 2048,
 "blockHeight": 256,
 "compressionType": "None",
 "bandNames": [
  "Red",
  "Green",
  "Blue"
 ],
 "allowCopy": true,
 "allowAnalysis": true,
 "itemAccess": false,
 "inspectionCapabilities": "",
 "minPixelSize": 0,
 "maxPixelSize": 0,
 "copyrightText": "Infraestructura de Datos Espaciales para el Distrito Capital \u2013 IDECA / Unidad Administrativa Especial de Catastro Distrital \u2013 UAECD.",
 "serviceDataType": "esriImageServiceDataTypeRGB",
 "serviceSourceType": "esriImageServiceSourceTypeMosaicDataset",
 "objectIdField": "OBJECTID",
 "fields": [
  {
   "name": "OBJECTID",
   "type": "esriFieldTypeOID",
   "alias": "OBJECTID",
   "domain": null
  },
  {
   "name": "Shape",
   "type": "esriFieldTypeGeometry",
   "alias": "Shape",
   "domain": null
  },
  {
   "name": "Name",
   "type": "esriFieldTypeString",
   "alias": "Name",
   "domain": null,
   "length": 200
  },
  {
   "name": "MinPS",
   "type": "esriFieldTypeDouble",
   "alias": "MinPS",
   "domain": null
  },
  {
   "name": "MaxPS",
   "type": "esriFieldTypeDouble",
   "alias": "MaxPS",
   "domain": null
  },
  {
   "name": "LowPS",
   "type": "esriFieldTypeDouble",
   "alias": "LowPS",
   "domain": null
  },
  {
   "name": "HighPS",
   "type": "esriFieldTypeDouble",
   "alias": "HighPS",
   "domain": null
  },
  {
   "name": "Category",
   "type": "esriFieldTypeInteger",
   "alias": "Category",
   "domain": {
    "type": "codedValue",
    "name": "MosaicCatalogItemCategoryDomain",
    "description": "Catalog item categories.",
    "codedValues": [
     {
      "name": "Unknown",
      "code": 0
     },
     {
      "name": "Primary",
      "code": 1
     },
     {
      "name": "Overview",
      "code": 2
     },
     {
      "name": "Unprocessed Overview",
      "code": 3
     },
     {
      "name": "Partial Overview",
      "code": 4
     },
     {
      "name": "Inactive",
      "code": 5
     },
     {
      "name": "Uploaded",
      "code": 253
     },
     {
      "name": "Incomplete",
      "code": 254
     },
     {
      "name": "Custom",
      "code": 255
     }
    ],
    "mergePolicy": "esriMPTDefaultValue",
    "splitPolicy": "esriSPTDefaultValue"
   }
  },
  {
   "name": "Tag",
   "type": "esriFieldTypeString",
   "alias": "Tag",
   "domain": null,
   "length": 100
  },
  {
   "name": "GroupName",
   "type": "esriFieldTypeString",
   "alias": "GroupName",
   "domain": null,
   "length": 100
  },
  {
   "name": "ProductName",
   "type": "esriFieldTypeString",
   "alias": "ProductName",
   "domain": null,
   "length": 100
  },
  {
   "name": "CenterX",
   "type": "esriFieldTypeDouble",
   "alias": "CenterX",
   "domain": null
  },
  {
   "name": "CenterY",
   "type": "esriFieldTypeDouble",
   "alias": "CenterY",
   "domain": null
  },
  {
   "name": "ZOrder",
   "type": "esriFieldTypeInteger",
   "alias": "ZOrder",
   "domain": null
  },
  {
   "name": "Shape_Length",
   "type": "esriFieldTypeDouble",
   "alias": "Shape_Length",
   "domain": null
  },
  {
   "name": "Shape_Area",
   "type": "esriFieldTypeDouble",
   "alias": "Shape_Area",
   "domain": null
  }
 ],
 "capabilities": "Catalog,Image,Metadata",
 "defaultMosaicMethod": "Northwest",
 "allowedMosaicMethods": "NorthWest,Center,LockRaster,ByAttribute,Nadir,Viewpoint,Seamline,None",
 "sortField": "",
 "sortValue": null,
 "sortAscending": true,
 "mosaicOperator": "First",
 "maxDownloadSizeLimit": 2048,
 "defaultCompressionQuality": 75,
 "defaultResamplingMethod": "Bilinear",
 "maxImageHeight": 4100,
 "maxImageWidth": 15000,
 "maxRecordCount": 1000,
 "maxDownloadImageCount": 0,
 "maxMosaicImageCount": 20,
 "allowRasterFunction": true,
 "rasterFunctionInfos": [
  {
   "name": "2023dron_clip",
   "description": "A raster function template.",
   "help": ""
  },
  {
   "name": "2023dron_strech_standesv",
   "description": "A raster function template.",
   "help": ""
  },
  {
   "name": "2023dron_strech_minmax.rft",
   "description": "A raster function template.",
   "help": ""
  },
  {
   "name": "2023dron_strech_percclip",
   "description": "A raster function template.",
   "help": ""
  },
  {
   "name": "2023dron_strech_sigmoid",
   "description": "A raster function template.",
   "help": ""
  },
  {
   "name": "None",
   "description": "",
   "help": ""
  }
 ],
 "rasterTypeInfos": [
  {
   "name": "Raster Dataset",
   "description": "Supports all ArcGIS Raster Datasets",
   "help": ""
  }
 ],
 "mensurationCapabilities": "None",
 "hasHistograms": true,
 "hasColormap": false,
 "hasRasterAttributeTable": false,
 "minScale": 0,
 "maxScale": 0,
 "exportTilesAllowed": false,
 "supportsStatistics": true,
 "supportsAdvancedQueries": true,
 "editFieldsInfo": null,
 "ownershipBasedAccessControlForRasters": null,
 "allowComputeTiePoints": false,
 "useStandardizedQueries": true,
 "advancedQueryCapabilities": {
  "useStandardizedQueries": true,
  "supportsStatistics": true,
  "supportsOrderBy": true,
  "supportsDistinct": true,
  "supportsPagination": true
 },
 "spatialReference": {
  "wkid": 4326,
  "latestWkid": 4326
 },
 "resampling": false
}
