<?xml version="1.0" encoding="UTF-8" standalone="no"?>
<metadata xml:lang="es">
<Esri>
<CreaDate>20250505</CreaDate>
<CreaTime>11064200</CreaTime>
<ArcGISFormat>1.0</ArcGISFormat>
<SyncOnce>FALSE</SyncOnce>
<DataProperties>
<lineage>
<Process Date="20250505" Name="" Time="110642" ToolSource="c:\program files\arcgis\pro\Resources\ArcToolbox\toolboxes\Data Management Tools.tbx\CreateMosaicDataset" export="">CreateMosaicDataset D:\2024Orto\orto2024.gdb orto2024 GEOGCS['GCS_WGS_1984',DATUM['D_WGS_1984',SPHEROID['WGS_1984',6378137.0,298.257223563]],PRIMEM['Greenwich',0.0],UNIT['Degree',0.0174532925199433]] # # None #</Process>
<Process Date="20250505" Name="" Time="110821" ToolSource="c:\program files\arcgis\pro\Resources\ArcToolbox\toolboxes\Data Management Tools.tbx\AddRastersToMosaicDataset" export="">AddRastersToMosaicDataset D:\2024Orto\orto2024.gdb\orto2024 "Raster Dataset" D:\2024Orto\barrancasoriental.tif;D:\2024Orto\campoverde.tif;D:\2024Orto\centrousme.tif;D:\2024Orto\elbosquesurorientalruralIII.tif;D:\2024Orto\eltriangulo.tif;D:\2024Orto\galanrurallasacaciasrural.tif;D:\2024Orto\ingemarorientali.tif;D:\2024Orto\laesperanzasuri.tif;D:\2024Orto\laestrellita.tif;D:\2024Orto\lagunitas.tif;D:\2024Orto\lamadelenai.tif;D:\2024Orto\mochueloaltourbano.tif;D:\2024Orto\pasquillaurbana.tif;D:\2024Orto\quibarural.tif;D:\2024Orto\sanbernardinoxix.tif;D:\2024Orto\sanluisaltosdelcaboruralii.tif;D:\2024Orto\siberiaIIpardorubiosiberiarural.tif;D:\2024Orto\tocaimitaoriental.tif;D:\2024Orto\veredaeltintal.tif;D:\2024Orto\veredaeltintalurbano.tif UPDATE_CELL_SIZES UPDATE_BOUNDARY NO_OVERVIEWS # 0 1 # # SUBFOLDERS "Allow duplicates" BUILD_PYRAMIDS CALCULATE_STATISTICS NO_THUMBNAILS # NO_FORCE_SPATIAL_REFERENCE ESTIMATE_STATISTICS # NO_PIXEL_CACHE D:\Contenedor\Users\fguzman\AppData\Local\Temp\ArcGISProTemp16672\orto2024</Process>
<Process Date="20250505" Name="" Time="142406" ToolSource="c:\program files\arcgis\pro\Resources\ArcToolbox\toolboxes\Data Management Tools.tbx\CalculateStatistics" export="">CalculateStatistics D:\2024Orto\orto2024.gdb\orto2024 1 1 # OVERWRITE "Feature Set"</Process>
</lineage>
<itemProps>
<itemName Sync="TRUE">orto2024</itemName>
<itemLocation>
<linkage Sync="TRUE">file://\\IDCAM75SAP1M\D$\Ortodron2024\orto2024.gdb</linkage>
<protocol Sync="TRUE">Local Area Network</protocol>
</itemLocation>
<nativeExtBox>
<westBL Sync="TRUE">-74.216535</westBL>
<eastBL Sync="TRUE">-74.006376</eastBL>
<southBL Sync="TRUE">4.442435</southBL>
<northBL Sync="TRUE">4.765002</northBL>
<exTypeCode Sync="TRUE">1</exTypeCode>
</nativeExtBox>
</itemProps>
<coordRef>
<type Sync="TRUE">Geographic</type>
<geogcsn Sync="TRUE">GCS_WGS_1984</geogcsn>
<csUnits Sync="TRUE">Angular Unit: Degree (0.017453)</csUnits>
<peXml Sync="TRUE">&lt;GeographicCoordinateSystem xsi:type='typens:GeographicCoordinateSystem' xmlns:xsi='http://www.w3.org/2001/XMLSchema-instance' xmlns:xs='http://www.w3.org/2001/XMLSchema' xmlns:typens='http://www.esri.com/schemas/ArcGIS/10.6'&gt;&lt;WKT&gt;GEOGCS[&amp;quot;GCS_WGS_1984&amp;quot;,DATUM[&amp;quot;D_WGS_1984&amp;quot;,SPHEROID[&amp;quot;WGS_1984&amp;quot;,6378137.0,298.257223563]],PRIMEM[&amp;quot;Greenwich&amp;quot;,0.0],UNIT[&amp;quot;Degree&amp;quot;,0.0174532925199433],AUTHORITY[&amp;quot;EPSG&amp;quot;,4326]]&lt;/WKT&gt;&lt;XOrigin&gt;-399.99999999999989&lt;/XOrigin&gt;&lt;YOrigin&gt;-399.99999999999989&lt;/YOrigin&gt;&lt;XYScale&gt;11258999068426.24&lt;/XYScale&gt;&lt;ZOrigin&gt;-100000&lt;/ZOrigin&gt;&lt;ZScale&gt;10000&lt;/ZScale&gt;&lt;MOrigin&gt;-100000&lt;/MOrigin&gt;&lt;MScale&gt;10000&lt;/MScale&gt;&lt;XYTolerance&gt;8.9831528411952133e-09&lt;/XYTolerance&gt;&lt;ZTolerance&gt;0.001&lt;/ZTolerance&gt;&lt;MTolerance&gt;0.001&lt;/MTolerance&gt;&lt;HighPrecision&gt;true&lt;/HighPrecision&gt;&lt;LeftLongitude&gt;-180&lt;/LeftLongitude&gt;&lt;WKID&gt;4326&lt;/WKID&gt;&lt;LatestWKID&gt;4326&lt;/LatestWKID&gt;&lt;/GeographicCoordinateSystem&gt;</peXml>
</coordRef>
<RasterProperties>
<General>
<PixelDepth Sync="TRUE">16</PixelDepth>
<HasColormap Sync="TRUE">FALSE</HasColormap>
<CompressionType Sync="TRUE">None</CompressionType>
<NumBands Sync="TRUE">3</NumBands>
<Format Sync="TRUE">AMD</Format>
<HasPyramids Sync="TRUE">TRUE</HasPyramids>
<SourceType Sync="TRUE">continuous</SourceType>
<PixelType Sync="TRUE">unsigned integer</PixelType>
<NoDataValue Sync="TRUE"/>
</General>
<Properties>
<MaxImageHeight Sync="TRUE">4100</MaxImageHeight>
<MaxImageWidth Sync="TRUE">15000</MaxImageWidth>
<MaxRecordCount Sync="TRUE">1000</MaxRecordCount>
<MaxDownloadImageCount Sync="TRUE">20</MaxDownloadImageCount>
<MaxDownloadSizeLimit Sync="TRUE">2048</MaxDownloadSizeLimit>
<MaxMosaicImageCount Sync="TRUE">20</MaxMosaicImageCount>
<DefaultCompressionQuality Sync="TRUE">75</DefaultCompressionQuality>
<DefaultCompressionTolerance Sync="TRUE">0,01</DefaultCompressionTolerance>
<BlendWidth Sync="TRUE">10</BlendWidth>
<ViewpointSpacingX Sync="TRUE">600</ViewpointSpacingX>
<ViewpointSpacingY Sync="TRUE">300</ViewpointSpacingY>
<AllowedItemMetadata Sync="TRUE">Basic</AllowedItemMetadata>
<DefaultResamplingMethod Sync="TRUE">1</DefaultResamplingMethod>
<AllowedMosaicMethods Sync="TRUE">NorthWest,Center,LockRaster,ByAttribute,Nadir,Viewpoint,Seamline,None</AllowedMosaicMethods>
<AllowedCompressions Sync="TRUE">None,JPEG,LZ77,LERC</AllowedCompressions>
<AllowedMensurationCapabilities Sync="TRUE">None</AllowedMensurationCapabilities>
<AvailableMensurationCapabilities Sync="TRUE">None,Basic,Base-Top Height,Top-Top Shadow Height,Base-Top Shadow Height,3D</AvailableMensurationCapabilities>
<ClipToBoundary Sync="TRUE">-1</ClipToBoundary>
<FootprintMayContainNoData Sync="TRUE">-1</FootprintMayContainNoData>
<CellSizeTolerance Sync="TRUE">0,8</CellSizeTolerance>
<MinimumPixelContribution Sync="TRUE">1</MinimumPixelContribution>
<AvailableMosaicMethods Sync="TRUE">NorthWest,Center,LockRaster,ByAttribute,Nadir,Viewpoint,Seamline,None</AvailableMosaicMethods>
<AvailableCompressionMethods Sync="TRUE">None,JPEG,LZ77,LERC</AvailableCompressionMethods>
<AvailableItemMetadataLevels Sync="TRUE">None,Basic,Full</AvailableItemMetadataLevels>
<BandDefinitionKeyword Sync="TRUE">NONE</BandDefinitionKeyword>
<_docversion_ Sync="TRUE">10</_docversion_>
<AllowedFields Sync="TRUE">Name,MinPS,MaxPS,LowPS,HighPS,Tag,GroupName,ProductName,CenterX,CenterY,ZOrder,Shape_Length,Shape_Area</AllowedFields>
<MaxCellSize Sync="TRUE">5,20869244900634E-02</MaxCellSize>
<LowCellSize Sync="TRUE">1,80829615177683E-07</LowCellSize>
<HighCellSize Sync="TRUE">1,04173848980127E-03</HighCellSize>
<PixelCacheLocation Sync="TRUE">D:\Contenedor\Users\fguzman\AppData\Local\Temp\ArcGISProTemp16672\orto2024</PixelCacheLocation>
<ClipToFootprint Sync="TRUE">-1</ClipToFootprint>
</Properties>
<Functions Sync="TRUE">
<Function Description="Performs on-the-fly mosaic on a raster catalog." Name="Mosaic Function"/>
</Functions>
</RasterProperties>
</DataProperties>
<SyncDate>20250519</SyncDate>
<SyncTime>06331200</SyncTime>
<ModDate>20250519</ModDate>
<ModTime>06331200</ModTime>
<scaleRange>
<minScale>150000000</minScale>
<maxScale>5000</maxScale>
</scaleRange>
<ArcGISProfile>ItemDescription</ArcGISProfile>
</Esri>
<dataIdInfo>
<envirDesc Sync="TRUE"> Version 6.2 (Build 9200) ; Esri ArcGIS 10.6.1.9270</envirDesc>
<dataLang>
<languageCode Sync="TRUE" value="spa"/>
<countryCode Sync="TRUE" value="COL"/>
</dataLang>
<idCitation>
<resTitle Sync="FALSE">orthodron2024funcion</resTitle>
<presForm>
<PresFormCd Sync="TRUE" value="005"/>
</presForm>
</idCitation>
<spatRpType>
<SpatRepTypCd Sync="TRUE" value="002"/>
</spatRpType>
<dataExt>
<geoEle>
<GeoBndBox esriExtentType="search">
<exTypeCode Sync="TRUE">1</exTypeCode>
<westBL Sync="TRUE">-74.216535</westBL>
<eastBL Sync="TRUE">-74.006376</eastBL>
<northBL Sync="TRUE">4.765002</northBL>
<southBL Sync="TRUE">4.442435</southBL>
</GeoBndBox>
</geoEle>
</dataExt>
<idPurp>Ortoimágenes en zonas urbanas y rurales de la ciudad de Bogotá D.C. con dinámica de construcciones nuevas. Cuentan con un Ground Sample Distance – GSD menor a 10cm para generación de cartografía básica y estudios temáticos a escala 1:1.000.</idPurp>
<idAbs>Mosaico de ortoimágenes que abarca aproximadamente 941 hectáreas en zonas urbanas y rurales de Bogotá D.C., documentando la dinámica de construcciones nuevas. Este material permite la creación de cartografía básica y estudios temáticos a escala 1:1.000, con una resolución radiométrica de 8 bits y espectral de 3 bandas. Las imágenes base utilizadas presentan un Ground Sample Distance (GSD) entre 3 cm y 10 cm, capturadas durante 2024 mediante drones Wingtra One Gen II operados por la Unidad Administrativa Especial de Catastro Distrital (UAECD). La evaluación de precisión posicional horizontal se realizó sobre cada ortoimagen generada, mediante la comparación de 20 puntos de control con la "Ortoimagen para el área urbana de la ciudad de Bogotá D.C. 2020". El análisis estadístico permitió determinar el error medio cuadrático radial (RMSEr), verificando en todos los casos el cumplimiento de los valores de aceptación establecidos por la Resolución 471 de 2020 del Instituto Geográfico Agustín Codazzi (IGAC).</idAbs>
<idCredit>Infraestructura de Datos Espaciales para el Distrito Capital – IDECA / Unidad Administrativa Especial de Catastro Distrital – UAECD.</idCredit>
<searchKeys>
<keyword>Ortoimágenes</keyword>
<keyword>Bogotá D.C.</keyword>
<keyword>área urbana</keyword>
<keyword>área rural</keyword>
<keyword>Barrancas Oriental</keyword>
<keyword>Campo Verde</keyword>
<keyword>Centro Sur</keyword>
<keyword>El Bosque Sur Oriental</keyword>
<keyword>El Triángulo</keyword>
<keyword>Galán Rural Las Acacias Rural</keyword>
<keyword>Ingemar Oriental</keyword>
<keyword>La Esperanza Sur</keyword>
<keyword>Las Trelita</keyword>
<keyword>Lagunitas</keyword>
<keyword>Mochuelo Alto Urbano</keyword>
<keyword>Pasquilla Urbana</keyword>
<keyword>Quiba Rural</keyword>
<keyword>San Bernardino IX</keyword>
<keyword>San Luis Altos del Cabo Rural</keyword>
<keyword>Siberia II Pardo Rubio Siberia Rural</keyword>
<keyword>Tocaimita Oriental</keyword>
<keyword>Vereda el Tintal</keyword>
<keyword>Vereda El Tintal Urbano.</keyword>
</searchKeys>
<resConst>
<Consts>
<useLimit>CC BY 4.0</useLimit>
</Consts>
</resConst>
</dataIdInfo>
<mdLang>
<languageCode Sync="TRUE" value="spa"/>
<countryCode Sync="TRUE" value="COL"/>
</mdLang>
<refSysInfo>
<RefSystem>
<refSysID>
<identCode Sync="TRUE" code="4326"/>
<idCodeSpace Sync="TRUE">EPSG</idCodeSpace>
<idVersion Sync="TRUE">6.14(3.0.1)</idVersion>
</refSysID>
</RefSystem>
</refSysInfo>
<spatRepInfo>
<Georect>
<cellGeo>
<CellGeoCd Sync="TRUE" value="002"/>
</cellGeo>
<numDims Sync="TRUE">2</numDims>
<tranParaAv Sync="TRUE">1</tranParaAv>
<chkPtAv Sync="TRUE">0</chkPtAv>
<cornerPts>
<pos Sync="TRUE">-74.216535 4.442435</pos>
</cornerPts>
<cornerPts>
<pos Sync="TRUE">-74.216535 4.765002</pos>
</cornerPts>
<cornerPts>
<pos Sync="TRUE">-74.006376 4.765002</pos>
</cornerPts>
<cornerPts>
<pos Sync="TRUE">-74.006376 4.442435</pos>
</cornerPts>
<centerPt>
<pos Sync="TRUE">-74.111456 4.603718</pos>
</centerPt>
<axisDimension type="002">
<dimSize Sync="TRUE">1162197</dimSize>
<dimResol>
<value Sync="TRUE" uom="grados">0.000000</value>
</dimResol>
</axisDimension>
<axisDimension type="001">
<dimSize Sync="TRUE">1783818</dimSize>
<dimResol>
<value Sync="TRUE" uom="grados">0.000000</value>
</dimResol>
</axisDimension>
<ptInPixel>
<PixOrientCd Sync="TRUE" value="001"/>
</ptInPixel>
</Georect>
</spatRepInfo>
<contInfo>
<ImgDesc>
<contentTyp>
<ContentTypCd Sync="TRUE" value="001"/>
</contentTyp>
<covDim>
<Band>
<dimDescrp Sync="TRUE">Band_1</dimDescrp>
<maxVal Sync="TRUE">255.000000</maxVal>
<minVal Sync="TRUE">0.000000</minVal>
<bitsPerVal Sync="TRUE">16</bitsPerVal>
<valUnit>
<UOM type="length"/>
</valUnit>
</Band>
<Band>
<dimDescrp Sync="TRUE">Band_2</dimDescrp>
<maxVal Sync="TRUE">255.000000</maxVal>
<minVal Sync="TRUE">0.000000</minVal>
<bitsPerVal Sync="TRUE">16</bitsPerVal>
<valUnit>
<UOM type="length"/>
</valUnit>
</Band>
<Band>
<dimDescrp Sync="TRUE">Band_3</dimDescrp>
<maxVal Sync="TRUE">255.000000</maxVal>
<minVal Sync="TRUE">0.000000</minVal>
<bitsPerVal Sync="TRUE">16</bitsPerVal>
<valUnit>
<UOM type="length"/>
</valUnit>
</Band>
</covDim>
</ImgDesc>
</contInfo>
<mdDateSt Sync="TRUE">20250519</mdDateSt>
<mdHrLv>
<ScopeCd value="005"/>
</mdHrLv>
</metadata>
