{
 "currentVersion": 11.3,
 "serviceDescription": "Mosaico de ortoimágenes que abarca aproximadamente 941 hectáreas en zonas urbanas y rurales de Bogotá D.C., documentando la dinámica de construcciones nuevas. Este material permite la creación de cartografía básica y estudios temáticos a escala 1:1.000, con una resolución radiométrica de 8 bits y espectral de 3 bandas. Las imágenes base utilizadas presentan un Ground Sample Distance (GSD) entre 3 cm y 10 cm, capturadas durante 2024 mediante drones Wingtra One Gen II operados por la Unidad Administrativa Especial de Catastro Distrital (UAECD). La evaluación de precisión posicional horizontal se realizó sobre cada ortoimagen generada, mediante la comparación de 20 puntos de control con la \"Ortoimagen para el área urbana de la ciudad de Bogotá D.C. 2020\". El análisis estadístico permitió determinar el error medio cuadrático radial (RMSEr), verificando en todos los casos el cumplimiento de los valores de aceptación establecidos por la Resolución 471 de 2020 del Instituto Geográfico Agustín Codazzi (IGAC).",
 "name": "imagenesfunciones/orthodron2024funcion",
 "description": "Mosaico de ortoimágenes que abarca aproximadamente 941 hectáreas en zonas urbanas y rurales de Bogotá D.C., documentando la dinámica de construcciones nuevas. Este material permite la creación de cartografía básica y estudios temáticos a escala 1:1.000, con una resolución radiométrica de 8 bits y espectral de 3 bandas. Las imágenes base utilizadas presentan un Ground Sample Distance (GSD) entre 3 cm y 10 cm, capturadas durante 2024 mediante drones Wingtra One Gen II operados por la Unidad Administrativa Especial de Catastro Distrital (UAECD). La evaluación de precisión posicional horizontal se realizó sobre cada ortoimagen generada, mediante la comparación de 20 puntos de control con la \"Ortoimagen para el área urbana de la ciudad de Bogotá D.C. 2020\". El análisis estadístico permitió determinar el error medio cuadrático radial (RMSEr), verificando en todos los casos el cumplimiento de los valores de aceptación establecidos por la Resolución 471 de 2020 del Instituto Geográfico Agustín Codazzi (IGAC).",
 "extent": {
  "xmin": -74.21653538574536,
  "ymin": 4.4424347842952985,
  "xmax": -74.0063757494747,
  "ymax": 4.765001906782322,
  "spatialReference": {
   "wkid": 4326,
   "latestWkid": 4326
  }
 },
 "initialExtent": {
  "xmin": -74.21653538574536,
  "ymin": 4.4424347842952985,
  "xmax": -74.0063757494747,
  "ymax": 4.765001906782322,
  "spatialReference": {
   "wkid": 4326,
   "latestWkid": 4326
  }
 },
 "fullExtent": {
  "xmin": -74.21653538574536,
  "ymin": 4.4424347842952985,
  "xmax": -74.0063757494747,
  "ymax": 4.765001906782322,
  "spatialReference": {
   "wkid": 4326,
   "latestWkid": 4326
  }
 },
 "sortableFields": "MinPS,MaxPS,LowPS,HighPS,CenterX,CenterY,ZOrder,Shape_Length,Shape_Area",
 "bandCount": 3,
 "pixelType": "U16",
 "minValues": [
  0,
  0,
  0
 ],
 "maxValues": [
  255,
  255,
  255
 ],
 "meanValues": [
  119.24694468484873,
  123.39899626524137,
  106.3367900122526
 ],
 "stdvValues": [
  49.60044279229764,
  45.19996090798096,
  49.40624170124296
 ],
 "hasMultidimensions": false,
 "pixelSizeX": 1.8082961517768514E-7,
 "pixelSizeY": 1.8082961517768262E-7,
 "meanPixelSize": 0.020129860681923385,
 "datasetFormat": "AMD",
 "uncompressedSize": 12438887568876,
 "blockWidth": 2048,
 "blockHeight": 256,
 "compressionType": "None",
 "bandNames": [
  "Band_1",
  "Band_2",
  "Band_3"
 ],
 "allowCopy": true,
 "allowAnalysis": true,
 "itemAccess": false,
 "inspectionCapabilities": "",
 "minPixelSize": 0,
 "maxPixelSize": 0,
 "copyrightText": "Infraestructura de Datos Espaciales para el Distrito Capital \u2013 IDECA / Unidad Administrativa Especial de Catastro Distrital \u2013 UAECD.",
 "serviceDataType": "esriImageServiceDataTypeGeneric",
 "serviceSourceType": "esriImageServiceSourceTypeMosaicDataset",
 "objectIdField": "OBJECTID",
 "fields": [
  {
   "name": "OBJECTID",
   "type": "esriFieldTypeOID",
   "alias": "OBJECTID",
   "domain": null
  },
  {
   "name": "Shape",
   "type": "esriFieldTypeGeometry",
   "alias": "Shape",
   "domain": null
  },
  {
   "name": "Name",
   "type": "esriFieldTypeString",
   "alias": "Name",
   "domain": null,
   "length": 200
  },
  {
   "name": "MinPS",
   "type": "esriFieldTypeDouble",
   "alias": "MinPS",
   "domain": null
  },
  {
   "name": "MaxPS",
   "type": "esriFieldTypeDouble",
   "alias": "MaxPS",
   "domain": null
  },
  {
   "name": "LowPS",
   "type": "esriFieldTypeDouble",
   "alias": "LowPS",
   "domain": null
  },
  {
   "name": "HighPS",
   "type": "esriFieldTypeDouble",
   "alias": "HighPS",
   "domain": null
  },
  {
   "name": "Category",
   "type": "esriFieldTypeInteger",
   "alias": "Category",
   "domain": {
    "type": "codedValue",
    "name": "MosaicCatalogItemCategoryDomain",
    "description": "Catalog item categories.",
    "codedValues": [
     {
      "name": "Unknown",
      "code": 0
     },
     {
      "name": "Primary",
      "code": 1
     },
     {
      "name": "Overview",
      "code": 2
     },
     {
      "name": "Unprocessed Overview",
      "code": 3
     },
     {
      "name": "Partial Overview",
      "code": 4
     },
     {
      "name": "Inactive",
      "code": 5
     },
     {
      "name": "Uploaded",
      "code": 253
     },
     {
      "name": "Incomplete",
      "code": 254
     },
     {
      "name": "Custom",
      "code": 255
     }
    ],
    "mergePolicy": "esriMPTDefaultValue",
    "splitPolicy": "esriSPTDefaultValue"
   }
  },
  {
   "name": "Tag",
   "type": "esriFieldTypeString",
   "alias": "Tag",
   "domain": null,
   "length": 100
  },
  {
   "name": "GroupName",
   "type": "esriFieldTypeString",
   "alias": "GroupName",
   "domain": null,
   "length": 100
  },
  {
   "name": "ProductName",
   "type": "esriFieldTypeString",
   "alias": "ProductName",
   "domain": null,
   "length": 100
  },
  {
   "name": "CenterX",
   "type": "esriFieldTypeDouble",
   "alias": "CenterX",
   "domain": null
  },
  {
   "name": "CenterY",
   "type": "esriFieldTypeDouble",
   "alias": "CenterY",
   "domain": null
  },
  {
   "name": "ZOrder",
   "type": "esriFieldTypeInteger",
   "alias": "ZOrder",
   "domain": null
  },
  {
   "name": "Shape_Length",
   "type": "esriFieldTypeDouble",
   "alias": "Shape_Length",
   "domain": null
  },
  {
   "name": "Shape_Area",
   "type": "esriFieldTypeDouble",
   "alias": "Shape_Area",
   "domain": null
  }
 ],
 "capabilities": "Catalog,Image,Metadata",
 "defaultMosaicMethod": "Northwest",
 "allowedMosaicMethods": "NorthWest,Center,LockRaster,ByAttribute,Nadir,Viewpoint,Seamline,None",
 "sortField": "",
 "sortValue": null,
 "sortAscending": true,
 "mosaicOperator": "First",
 "maxDownloadSizeLimit": 2048,
 "defaultCompressionQuality": 75,
 "defaultResamplingMethod": "Bilinear",
 "maxImageHeight": 4100,
 "maxImageWidth": 15000,
 "maxRecordCount": 1000,
 "maxDownloadImageCount": 0,
 "maxMosaicImageCount": 20,
 "allowRasterFunction": true,
 "rasterFunctionInfos": [
  {
   "name": "2024dron_clip",
   "description": "A raster function template.",
   "help": ""
  },
  {
   "name": "2024dron_strech_standesv",
   "description": "A raster function template.",
   "help": ""
  },
  {
   "name": "2024dron_strech_minmax",
   "description": "A raster function template.",
   "help": ""
  },
  {
   "name": "2024dron_strech_percminmax",
   "description": "A raster function template.",
   "help": ""
  },
  {
   "name": "2024dron_strech_sigmoid",
   "description": "A raster function template.",
   "help": ""
  },
  {
   "name": "None",
   "description": "",
   "help": ""
  }
 ],
 "rasterTypeInfos": [
  {
   "name": "Raster Dataset",
   "description": "Supports all ArcGIS Raster Datasets",
   "help": ""
  }
 ],
 "mensurationCapabilities": "None",
 "hasHistograms": true,
 "hasColormap": false,
 "hasRasterAttributeTable": false,
 "minScale": 0,
 "maxScale": 0,
 "exportTilesAllowed": false,
 "supportsStatistics": true,
 "supportsAdvancedQueries": true,
 "editFieldsInfo": null,
 "ownershipBasedAccessControlForRasters": null,
 "allowComputeTiePoints": false,
 "useStandardizedQueries": true,
 "advancedQueryCapabilities": {
  "useStandardizedQueries": true,
  "supportsStatistics": true,
  "supportsOrderBy": true,
  "supportsDistinct": true,
  "supportsPagination": true
 },
 "spatialReference": {
  "wkid": 4326,
  "latestWkid": 4326
 },
 "resampling": false
}
