{ "currentVersion": 11.3, "serviceDescription": "
La Ortoimagen Satelital de la Zona Rural de Bogotá D.C. es un producto cartográfico básico en formato ráster, procesado geométricamente para corregir las distorsiones inherentes a la captura y topografía, formando una representación cartográfica precisa.<\/span><\/p> Características técnicas del producto:<\/span><\/p> - Extensión: ~107.304 Ha (Zona rural al sur de Bogotá D.C.).<\/span><\/p> - Escala de aplicación: 1:10.000.<\/span><\/p> - Resolución espacial (GSD/Pixel): 0.50 m.<\/span><\/p> - Bandas espectrales: 4 bandas (Rojo, Verde, Azul e Infrarrojo Cercano - RGB+NIR).<\/span><\/p> - Sensores satelitales: EarthScanner y Pléiades 1A/1B.<\/span><\/p> - Total de imágenes que conforman el mosaico: 32 imágenes satelitales obtenidas en 2024 y/o 2025.<\/span><\/p> - Control Terrestre: Se utilizaron un total de 1.235 Tie Points automáticos y 144 puntos de control y/o chequeo.<\/span><\/p> - Precisión de la Aerotriangulación (RMS): X=0.107 m, Y=0.130 m, Z=0.015 m.<\/span><\/p> - Método de ajuste radiométrico: Lineal (con edición exhaustiva de líneas de costura debido a nubosidad).<\/span><\/p> Generado por: SIGLA S.A.S. \u2014 Sistemas de Información Geográfica de Latinoamérica<\/span><\/p> Contrato/Autoridad: Unidad Administrativa Especial de Catastro Distrital (UAECD).<\/span><\/p> Normas aplicadas: Resoluciones IGAC 471/2020, 529/2020, 1421/2021, 197/2022 y 1040/2023.<\/span><\/p> <\/p><\/div><\/div><\/div>",
"name": "imagenesfunciones/orthorural2025funcion",
"description": " La Ortoimagen Satelital de la Zona Rural de Bogotá D.C. es un producto cartográfico básico en formato ráster, procesado geométricamente para corregir las distorsiones inherentes a la captura y topografía, formando una representación cartográfica precisa.<\/span><\/p> Características técnicas del producto:<\/span><\/p> - Extensión: ~107.304 Ha (Zona rural al sur de Bogotá D.C.).<\/span><\/p> - Escala de aplicación: 1:10.000.<\/span><\/p> - Resolución espacial (GSD/Pixel): 0.50 m.<\/span><\/p> - Bandas espectrales: 4 bandas (Rojo, Verde, Azul e Infrarrojo Cercano - RGB+NIR).<\/span><\/p> - Sensores satelitales: EarthScanner y Pléiades 1A/1B.<\/span><\/p> - Total de imágenes que conforman el mosaico: 32 imágenes satelitales obtenidas en 2024 y/o 2025.<\/span><\/p> - Control Terrestre: Se utilizaron un total de 1.235 Tie Points automáticos y 144 puntos de control y/o chequeo.<\/span><\/p> - Precisión de la Aerotriangulación (RMS): X=0.107 m, Y=0.130 m, Z=0.015 m.<\/span><\/p> - Método de ajuste radiométrico: Lineal (con edición exhaustiva de líneas de costura debido a nubosidad).<\/span><\/p> Generado por: SIGLA S.A.S. \u2014 Sistemas de Información Geográfica de Latinoamérica<\/span><\/p> Contrato/Autoridad: Unidad Administrativa Especial de Catastro Distrital (UAECD).<\/span><\/p> Normas aplicadas: Resoluciones IGAC 471/2020, 529/2020, 1421/2021, 197/2022 y 1040/2023.<\/span><\/p> <\/p><\/div><\/div><\/div>",
"extent": {
"xmin": -74.45112818299998,
"ymin": 3.7296725277327405,
"xmax": -74.07525510181868,
"ymax": 4.54071648200005,
"spatialReference": {
"wkid": 4326,
"latestWkid": 4326
}
},
"initialExtent": {
"xmin": -74.45112818299998,
"ymin": 3.7296725277327405,
"xmax": -74.07525510181868,
"ymax": 4.54071648200005,
"spatialReference": {
"wkid": 4326,
"latestWkid": 4326
}
},
"fullExtent": {
"xmin": -74.45112818299998,
"ymin": 3.7296725277327405,
"xmax": -74.07525510181868,
"ymax": 4.54071648200005,
"spatialReference": {
"wkid": 4326,
"latestWkid": 4326
}
},
"sortableFields": "MinPS,MaxPS,LowPS,HighPS,CenterX,CenterY,ZOrder,Shape_Length,Shape_Area",
"bandCount": 4,
"pixelType": "U8",
"minValues": [
1,
1,
1,
7
],
"maxValues": [
249,
245,
250,
178
],
"meanValues": [
65.04036802560113,
65.508285793794,
60.19037150410415,
87.47150062612825
],
"stdvValues": [
23.60408650986278,
20.972269460744762,
21.210524619858624,
13.012607985358704
],
"hasMultidimensions": false,
"pixelSizeX": 4.491576420597685E-6,
"pixelSizeY": 4.491576420597606E-6,
"meanPixelSize": 0.5000000000000043,
"datasetFormat": "AMD",
"uncompressedSize": 60443279520,
"blockWidth": 2048,
"blockHeight": 256,
"compressionType": "None",
"bandNames": [
"Band_1",
"Band_2",
"Band_3",
"Band_4"
],
"allowCopy": true,
"allowAnalysis": true,
"itemAccess": false,
"inspectionCapabilities": "",
"noDataValue": 0,
"noDataValues": [
0,
0,
0,
0
],
"minPixelSize": 0,
"maxPixelSize": 0,
"copyrightText": "Unidad Administrativa Especial de Catastro Distrital - UAECD",
"serviceDataType": "esriImageServiceDataTypeGeneric",
"serviceSourceType": "esriImageServiceSourceTypeMosaicDataset",
"objectIdField": "OBJECTID",
"fields": [
{
"name": "OBJECTID",
"type": "esriFieldTypeOID",
"alias": "OBJECTID",
"domain": null
},
{
"name": "Shape",
"type": "esriFieldTypeGeometry",
"alias": "Shape",
"domain": null
},
{
"name": "Name",
"type": "esriFieldTypeString",
"alias": "Name",
"domain": null,
"length": 200
},
{
"name": "MinPS",
"type": "esriFieldTypeDouble",
"alias": "MinPS",
"domain": null
},
{
"name": "MaxPS",
"type": "esriFieldTypeDouble",
"alias": "MaxPS",
"domain": null
},
{
"name": "LowPS",
"type": "esriFieldTypeDouble",
"alias": "LowPS",
"domain": null
},
{
"name": "HighPS",
"type": "esriFieldTypeDouble",
"alias": "HighPS",
"domain": null
},
{
"name": "Category",
"type": "esriFieldTypeInteger",
"alias": "Category",
"domain": {
"type": "codedValue",
"name": "MosaicCatalogItemCategoryDomain",
"description": "Catalog item categories.",
"codedValues": [
{
"name": "Unknown",
"code": 0
},
{
"name": "Primary",
"code": 1
},
{
"name": "Overview",
"code": 2
},
{
"name": "Unprocessed Overview",
"code": 3
},
{
"name": "Partial Overview",
"code": 4
},
{
"name": "Inactive",
"code": 5
},
{
"name": "Uploaded",
"code": 253
},
{
"name": "Incomplete",
"code": 254
},
{
"name": "Custom",
"code": 255
}
],
"mergePolicy": "esriMPTDefaultValue",
"splitPolicy": "esriSPTDefaultValue"
}
},
{
"name": "Tag",
"type": "esriFieldTypeString",
"alias": "Tag",
"domain": null,
"length": 100
},
{
"name": "GroupName",
"type": "esriFieldTypeString",
"alias": "GroupName",
"domain": null,
"length": 100
},
{
"name": "ProductName",
"type": "esriFieldTypeString",
"alias": "ProductName",
"domain": null,
"length": 100
},
{
"name": "CenterX",
"type": "esriFieldTypeDouble",
"alias": "CenterX",
"domain": null
},
{
"name": "CenterY",
"type": "esriFieldTypeDouble",
"alias": "CenterY",
"domain": null
},
{
"name": "ZOrder",
"type": "esriFieldTypeInteger",
"alias": "ZOrder",
"domain": null
},
{
"name": "Shape_Length",
"type": "esriFieldTypeDouble",
"alias": "Shape_Length",
"domain": null
},
{
"name": "Shape_Area",
"type": "esriFieldTypeDouble",
"alias": "Shape_Area",
"domain": null
}
],
"capabilities": "Catalog,Mensuration,Image,Metadata",
"defaultMosaicMethod": "Center",
"allowedMosaicMethods": "Center",
"sortField": "",
"sortValue": null,
"sortAscending": true,
"mosaicOperator": "First",
"maxDownloadSizeLimit": 2048,
"defaultCompressionQuality": 75,
"defaultResamplingMethod": "Bilinear",
"maxImageHeight": 4100,
"maxImageWidth": 15000,
"maxRecordCount": 1000,
"maxDownloadImageCount": 0,
"maxMosaicImageCount": 20,
"allowRasterFunction": true,
"rasterFunctionInfos": [
{
"name": "None",
"description": "Make a Raster or Raster Dataset into a Function Raster Dataset.",
"help": ""
},
{
"name": "ColorBalance_Rural",
"description": "Vista natural RGB para el mosaico Rural tras balance de color.",
"help": ""
},
{
"name": "FalseColor_CIR",
"description": "Falso color infrarrojo Rural con R=NIR (B4), G=Rojo (B1) y B=Verde (B2).",
"help": ""
},
{
"name": "NDVI_Colorized_Rural",
"description": "Calcula NDVI Rural usando rojo=B1 (0) y NIR=B4 (3).",
"help": ""
},
{
"name": "Stretch_SD_Rural",
"description": "Stretch por 2 desviaciones estandar con DRA sobre la vista RGB natural del mosaico Rural.",
"help": ""
}
],
"rasterTypeInfos": [
{
"name": "Raster Dataset",
"description": "Supports all ArcGIS Raster Datasets",
"help": ""
}
],
"mensurationCapabilities": "Basic",
"hasHistograms": true,
"hasColormap": false,
"hasRasterAttributeTable": false,
"minScale": 0,
"maxScale": 0,
"exportTilesAllowed": false,
"supportsStatistics": true,
"supportsAdvancedQueries": true,
"editFieldsInfo": null,
"ownershipBasedAccessControlForRasters": null,
"allowComputeTiePoints": false,
"useStandardizedQueries": true,
"advancedQueryCapabilities": {
"useStandardizedQueries": true,
"supportsStatistics": true,
"supportsOrderBy": true,
"supportsDistinct": true,
"supportsPagination": true
},
"spatialReference": {
"wkid": 4326,
"latestWkid": 4326
},
"resampling": false
}