<?xml version="1.0" encoding="UTF-8" standalone="no"?>
<metadata xml:lang="en">
<Esri>
<CreaDate>20260420</CreaDate>
<CreaTime>16270000</CreaTime>
<ArcGISFormat>1.0</ArcGISFormat>
<SyncOnce>FALSE</SyncOnce>
<DataProperties>
<lineage>
<Process Date="20260420" Time="162700" ToolSource="c:\program files\arcgis\pro\Resources\ArcToolbox\toolboxes\Data Management Tools.tbx\CreateMosaicDataset">CreateMosaicDataset \\idecafs1\imagenes2\ProductosRaster\Ortoimagenes\OrtoUrbana2025\OrtoUrbana2025.gdb ortourbana_2025 GEOGCS["GCS_WGS_1984",DATUM["D_WGS_1984",SPHEROID["WGS_1984",6378137.0,298.257223563]],PRIMEM["Greenwich",0.0],UNIT["Degree",0.0174532925199433]] 4 8_BIT_UNSIGNED NATURAL_COLOR_RGBI "Red 630 690;Green 530 570;Blue 440 510;Infrared 770 830"</Process>
<Process Date="20260420" Time="163103" ToolSource="c:\program files\arcgis\pro\Resources\ArcToolbox\toolboxes\Data Management Tools.tbx\AddRastersToMosaicDataset">AddRastersToMosaicDataset \\idecafs1\imagenes2\ProductosRaster\Ortoimagenes\OrtoUrbana2025\OrtoUrbana2025.gdb\ortourbana_2025 "Raster Dataset" \\idecafs1\imagenes2\ProductosRaster\Ortoimagenes\OrtoUrbana2025\OrtoUrbana2025.tif UPDATE_CELL_SIZES UPDATE_BOUNDARY NO_OVERVIEWS # 0 1500 # # SUBFOLDERS ALLOW_DUPLICATES NO_PYRAMIDS NO_STATISTICS NO_THUMBNAILS # NO_FORCE_SPATIAL_REFERENCE NO_STATISTICS # NO_PIXEL_CACHE C:\Users\agslocal\AppData\Local\ESRI\rasterproxies\ortourbana_2025</Process>
<Process Date="20260421" Time="203517" ToolSource="c:\program files\arcgis\pro\Resources\ArcToolbox\toolboxes\Data Management Tools.tbx\SetRasterProperties">SetRasterProperties \\idecafs1\imagenes2\ProductosRaster\Ortoimagenes\OrtoUrbana2025\OrtoUrbana2025.gdb\ortourbana_2025 # # # "1 255;2 255;3 255;4 255" # #</Process>
<Process Date="20260421" Time="212054" ToolSource="c:\program files\arcgis\pro\Resources\ArcToolbox\toolboxes\Data Management Tools.tbx\SetRasterProperties">SetRasterProperties \\idecafs1\imagenes2\ProductosRaster\Ortoimagenes\OrtoUrbana2025\OrtoUrbana2025.gdb\ortourbana_2025 # # # "1 255;2 255;3 255;4 255" # #</Process>
</lineage>
<itemProps>
<itemName Sync="TRUE">ortourbana_2025</itemName>
<itemLocation>
<linkage Sync="TRUE">file://\\idecafs1\imagenes2\ProductosRaster\Ortoimagenes\OrtoUrbana2025\OrtoUrbana2025.gdb</linkage>
<protocol Sync="TRUE">Local Area Network</protocol>
</itemLocation>
<nativeExtBox>
<westBL Sync="TRUE">-74.224958</westBL>
<eastBL Sync="TRUE">-74.018942</eastBL>
<southBL Sync="TRUE">4.486154</southBL>
<northBL Sync="TRUE">4.837964</northBL>
<exTypeCode Sync="TRUE">1</exTypeCode>
</nativeExtBox>
</itemProps>
<coordRef>
<type Sync="TRUE">Geographic</type>
<geogcsn Sync="TRUE">GCS_WGS_1984</geogcsn>
<csUnits Sync="TRUE">Angular Unit: Degree (0.017453)</csUnits>
<peXml Sync="TRUE">&lt;GeographicCoordinateSystem xsi:type='typens:GeographicCoordinateSystem' xmlns:xsi='http://www.w3.org/2001/XMLSchema-instance' xmlns:xs='http://www.w3.org/2001/XMLSchema' xmlns:typens='http://www.esri.com/schemas/ArcGIS/3.4.0'&gt;&lt;WKT&gt;GEOGCS[&amp;quot;GCS_WGS_1984&amp;quot;,DATUM[&amp;quot;D_WGS_1984&amp;quot;,SPHEROID[&amp;quot;WGS_1984&amp;quot;,6378137.0,298.257223563]],PRIMEM[&amp;quot;Greenwich&amp;quot;,0.0],UNIT[&amp;quot;Degree&amp;quot;,0.0174532925199433],AUTHORITY[&amp;quot;EPSG&amp;quot;,4326]]&lt;/WKT&gt;&lt;XOrigin&gt;-400&lt;/XOrigin&gt;&lt;YOrigin&gt;-400&lt;/YOrigin&gt;&lt;XYScale&gt;11258999068426.238&lt;/XYScale&gt;&lt;ZOrigin&gt;-100000&lt;/ZOrigin&gt;&lt;ZScale&gt;10000&lt;/ZScale&gt;&lt;MOrigin&gt;-100000&lt;/MOrigin&gt;&lt;MScale&gt;10000&lt;/MScale&gt;&lt;XYTolerance&gt;8.983152841195215e-09&lt;/XYTolerance&gt;&lt;ZTolerance&gt;0.001&lt;/ZTolerance&gt;&lt;MTolerance&gt;0.001&lt;/MTolerance&gt;&lt;HighPrecision&gt;true&lt;/HighPrecision&gt;&lt;LeftLongitude&gt;-180&lt;/LeftLongitude&gt;&lt;WKID&gt;4326&lt;/WKID&gt;&lt;LatestWKID&gt;4326&lt;/LatestWKID&gt;&lt;/GeographicCoordinateSystem&gt;</peXml>
</coordRef>
<RasterProperties>
<General>
<PixelDepth Sync="TRUE">8</PixelDepth>
<HasColormap Sync="TRUE">FALSE</HasColormap>
<CompressionType Sync="TRUE">None</CompressionType>
<NumBands Sync="TRUE">4</NumBands>
<Format Sync="TRUE">AMD</Format>
<HasPyramids Sync="TRUE">TRUE</HasPyramids>
<SourceType Sync="TRUE">continuous</SourceType>
<PixelType Sync="TRUE">unsigned integer</PixelType>
<NoDataValue Sync="TRUE">255</NoDataValue>
</General>
<Properties>
<MaxImageHeight Sync="TRUE">4100</MaxImageHeight>
<MaxImageWidth Sync="TRUE">15000</MaxImageWidth>
<MaxRecordCount Sync="TRUE">1000</MaxRecordCount>
<MaxDownloadImageCount Sync="TRUE">20</MaxDownloadImageCount>
<MaxDownloadSizeLimit Sync="TRUE">2048</MaxDownloadSizeLimit>
<MaxMosaicImageCount Sync="TRUE">20</MaxMosaicImageCount>
<DefaultCompressionQuality Sync="TRUE">75</DefaultCompressionQuality>
<DefaultCompressionTolerance Sync="TRUE">0.01</DefaultCompressionTolerance>
<BlendWidth Sync="TRUE">10</BlendWidth>
<ViewpointSpacingX Sync="TRUE">600</ViewpointSpacingX>
<ViewpointSpacingY Sync="TRUE">300</ViewpointSpacingY>
<AllowedItemMetadata Sync="TRUE">Basic</AllowedItemMetadata>
<DefaultResamplingMethod Sync="TRUE">1</DefaultResamplingMethod>
<AllowedMosaicMethods Sync="TRUE">NorthWest,Center,LockRaster,ByAttribute,Nadir,Viewpoint,Seamline,None</AllowedMosaicMethods>
<AllowedCompressions Sync="TRUE">None,JPEG,LZ77,LERC</AllowedCompressions>
<AllowedMensurationCapabilities Sync="TRUE">Basic</AllowedMensurationCapabilities>
<AvailableMensurationCapabilities Sync="TRUE">None,Basic,Base-Top Height,Top-Top Shadow Height,Base-Top Shadow Height,3D</AvailableMensurationCapabilities>
<ClipToBoundary Sync="TRUE">0</ClipToBoundary>
<FootprintMayContainNoData Sync="TRUE">-1</FootprintMayContainNoData>
<CellSizeTolerance Sync="TRUE">0.8</CellSizeTolerance>
<MinimumPixelContribution Sync="TRUE">1</MinimumPixelContribution>
<AvailableMosaicMethods Sync="TRUE">NorthWest,Center,LockRaster,ByAttribute,Nadir,Viewpoint,Seamline,None</AvailableMosaicMethods>
<AvailableCompressionMethods Sync="TRUE">None,JPEG,LZ77,LERC</AvailableCompressionMethods>
<AvailableItemMetadataLevels Sync="TRUE">None,Basic,Full</AvailableItemMetadataLevels>
<BandDefinitionKeyword Sync="TRUE">NaturalColorRGBI</BandDefinitionKeyword>
<_docversion_ Sync="TRUE">10</_docversion_>
<AllowedFields Sync="TRUE">Name,MinPS,MaxPS,LowPS,HighPS,Tag,GroupName,ProductName,CenterX,CenterY,ZOrder,Shape_Length,Shape_Area</AllowedFields>
<MaxCellSize Sync="TRUE">1.14984356367288E-03</MaxCellSize>
<LowCellSize Sync="TRUE">4.49157642059717E-07</LowCellSize>
<HighCellSize Sync="TRUE">1.14984356367288E-04</HighCellSize>
<ClipToFootprint Sync="TRUE">-1</ClipToFootprint>
</Properties>
<Functions Sync="TRUE">
<Function Description="Performs on-the-fly mosaic on a raster catalog." Name="Mosaic Function"/>
</Functions>
</RasterProperties>
</DataProperties>
<SyncDate>20260423</SyncDate>
<SyncTime>14565300</SyncTime>
<ModDate>20260423</ModDate>
<ModTime>14565300</ModTime>
</Esri>
<mdLang>
<languageCode value="spa"/>
<countryCode Sync="TRUE" value="USA"/>
</mdLang>
<mdChar>
<CharSetCd value="004"/>
</mdChar>
<mdHrLv>
<ScopeCd value="005"/>
</mdHrLv>
<mdHrLvName>dataset</mdHrLvName>
<mdContact>
<rpIndName>Soporte IDECA</rpIndName>
<rpOrgName>Unidad Administrativa Especial de Catastro Distrital (UAECD) - IDECA</rpOrgName>
<rpPosName>Gerente IDECA</rpPosName>
<role>
<RoleCd value="007"/>
</role>
</mdContact>
<mdDateSt>20260312</mdDateSt>
<mdStanName>ArcGIS Metadata</mdStanName>
<mdStanVer>1.0</mdStanVer>
<dataIdInfo>
<idCitation>
<resTitle>orthourbana2025funcion</resTitle>
<date>
<createDate>2026-03-12</createDate>
</date>
<presForm>
<PresFormCd Sync="TRUE" value="005"/>
</presForm>
</idCitation>
<idAbs>Ortofotomosaico de alta resolución de la zona urbana de Bogotá D.C. Este producto cartográfico provee información base de alta precisión (imagen óptica y multiespectral) para la planificación urbana, actualización catastral, análisis espacial, cálculo de índices de vegetación y toma de decisiones en el Distrito Capital, especialmente las asociadas al Plan de Ordenamiento Territorial (POT).Especificaciones Técnicas:Resolución Espacial (GSD): 5 cm (0.05 metros) por píxel.Composición Espectral: Imagen multiespectral de 4 bandas:Banda 1: Rojo (Red)Banda 2: Verde (Green)Banda 3: Azul (Blue)Banda 4: Infrarrojo Cercano (NIR)Plantillas de Visualización (Raster Functions): El servicio incluye capacidades de procesamiento al vuelo para: Vista RGB con Balance de Color, Mejora de Contraste (2 desviaciones estándar con DRA), Falso Color Infrarrojo (CIR) y cálculo automático del Índice de Vegetación de Diferencia Normalizada (NDVI colorizado).</idAbs>
<idPurp>Ortofotomosaico multiespectral (RGB e Infrarrojo Cercano) del área urbana de Bogotá D.C. capturado en 2025. Cuenta con una resolución espacial (GSD) de 5 cm y es un insumo oficial generado para el desarrollo de procesos técnicos, misionales y de planeación territorial del Distrito.</idPurp>
<idCredit>Secretaría Distrital de Planeación (SDP) - Subsecretaría de Información (Propietario/Contratante). Producto generado por SIGLA S.A.S. (Contrato 1047 de 2024). Publicado y distribuido por IDECA - Unidad Administrativa Especial de Catastro Distrital (UAECD).</idCredit>
<otherKeys>
<keyword>Bogotá D.C.</keyword>
<keyword>Ortoimagen</keyword>
<keyword>Ortofotomosaico</keyword>
<keyword>Cartografía Básica</keyword>
<keyword>SDP</keyword>
<keyword>Secretaría Distrital de Planeación</keyword>
<keyword>IDECA</keyword>
<keyword>Alta Resolución</keyword>
<keyword>5cm</keyword>
<keyword>Multiespectral</keyword>
<keyword>NIR</keyword>
<keyword>NDVI</keyword>
<keyword>2025</keyword>
<keyword>POT</keyword>
<keyword>Vuelo Fotogramétrico</keyword>
<keyword>Imágenes Aéreas.</keyword>
</otherKeys>
<searchKeys>
<keyword>Bogotá D.C.</keyword>
<keyword>Ortoimagen</keyword>
<keyword>Ortofotomosaico</keyword>
<keyword>Cartografía Básica</keyword>
<keyword>SDP</keyword>
<keyword>Secretaría Distrital de Planeación</keyword>
<keyword>IDECA</keyword>
<keyword>Alta Resolución</keyword>
<keyword>5cm</keyword>
<keyword>Multiespectral</keyword>
<keyword>NIR</keyword>
<keyword>NDVI</keyword>
<keyword>2025</keyword>
<keyword>POT</keyword>
<keyword>Vuelo Fotogramétrico</keyword>
<keyword>Imágenes Aéreas.</keyword>
</searchKeys>
<dataLang>
<languageCode value="spa"/>
<countryCode Sync="TRUE" value="USA"/>
</dataLang>
<dataChar>
<CharSetCd value="004"/>
</dataChar>
<tpCat>
<TopicCatCd value="007"/>
</tpCat>
<tpCat>
<TopicCatCd value="010"/>
</tpCat>
<tpCat>
<TopicCatCd value="015"/>
</tpCat>
<dataExt>
<geoEle>
<GeoBndBox>
<westBL>-74.224939</westBL>
<eastBL>-74.018961</eastBL>
<southBL>4.486164</southBL>
<northBL>4.83796</northBL>
</GeoBndBox>
</geoEle>
</dataExt>
<envirDesc Sync="TRUE">Microsoft Windows Server 2016 Technical Preview Version 10.0 (Build 20348) ; Esri ArcGIS 13.4.0.55405</envirDesc>
<spatRpType>
<SpatRepTypCd Sync="TRUE" value="002"/>
</spatRpType>
<dataExt>
<geoEle>
<GeoBndBox esriExtentType="search">
<exTypeCode Sync="TRUE">1</exTypeCode>
<westBL Sync="TRUE">-74.224958</westBL>
<eastBL Sync="TRUE">-74.018942</eastBL>
<northBL Sync="TRUE">4.837964</northBL>
<southBL Sync="TRUE">4.486154</southBL>
</GeoBndBox>
</geoEle>
</dataExt>
<resConst>
<Consts>
<useLimit/>
</Consts>
</resConst>
</dataIdInfo>
<refSysInfo>
<RefSystem>
<refSysID>
<identCode Sync="TRUE" code="4326"/>
<idCodeSpace Sync="TRUE">EPSG</idCodeSpace>
<idVersion Sync="TRUE">6.2(3.0.1)</idVersion>
</refSysID>
</RefSystem>
</refSysInfo>
<spatRepInfo>
<Georect>
<cellGeo>
<CellGeoCd Sync="TRUE" value="002"/>
</cellGeo>
<numDims Sync="TRUE">2</numDims>
<tranParaAv Sync="TRUE">1</tranParaAv>
<chkPtAv Sync="TRUE">0</chkPtAv>
<cornerPts>
<pos Sync="TRUE">-74.224958 4.486154</pos>
</cornerPts>
<cornerPts>
<pos Sync="TRUE">-74.224958 4.837964</pos>
</cornerPts>
<cornerPts>
<pos Sync="TRUE">-74.018942 4.837964</pos>
</cornerPts>
<cornerPts>
<pos Sync="TRUE">-74.018942 4.486154</pos>
</cornerPts>
<centerPt>
<pos Sync="TRUE">-74.121950 4.662059</pos>
</centerPt>
<axisDimension type="002">
<dimSize Sync="TRUE">458671</dimSize>
<dimResol>
<value Sync="TRUE" uom="deg">0.000000</value>
</dimResol>
</axisDimension>
<axisDimension type="001">
<dimSize Sync="TRUE">783266</dimSize>
<dimResol>
<value Sync="TRUE" uom="deg">0.000000</value>
</dimResol>
</axisDimension>
<ptInPixel>
<PixOrientCd Sync="TRUE" value="001"/>
</ptInPixel>
</Georect>
</spatRepInfo>
<contInfo>
<ImgDesc>
<contentTyp>
<ContentTypCd Sync="TRUE" value="001"/>
</contentTyp>
<covDim>
<Band>
<dimDescrp Sync="TRUE">Red</dimDescrp>
<bitsPerVal Sync="TRUE">8</bitsPerVal>
<valUnit>
<UOM type="length"/>
</valUnit>
</Band>
<Band>
<dimDescrp Sync="TRUE">Green</dimDescrp>
<bitsPerVal Sync="TRUE">8</bitsPerVal>
<valUnit>
<UOM type="length"/>
</valUnit>
</Band>
<Band>
<dimDescrp Sync="TRUE">Blue</dimDescrp>
<bitsPerVal Sync="TRUE">8</bitsPerVal>
<valUnit>
<UOM type="length"/>
</valUnit>
</Band>
<Band>
<dimDescrp Sync="TRUE">Infrared</dimDescrp>
<bitsPerVal Sync="TRUE">8</bitsPerVal>
<valUnit>
<UOM type="length"/>
</valUnit>
</Band>
</covDim>
</ImgDesc>
</contInfo>
</metadata>
