{
 "currentVersion": 11.3,
 "serviceDescription": "Ortofotomosaico de alta resolución de la zona urbana de Bogotá D.C. Este producto cartográfico provee información base de alta precisión (imagen óptica y multiespectral) para la planificación urbana, actualización catastral, análisis espacial, cálculo de índices de vegetación y toma de decisiones en el Distrito Capital, especialmente las asociadas al Plan de Ordenamiento Territorial (POT).Especificaciones Técnicas:Resolución Espacial (GSD): 5 cm (0.05 metros) por píxel.Composición Espectral: Imagen multiespectral de 4 bandas:Banda 1: Rojo (Red)Banda 2: Verde (Green)Banda 3: Azul (Blue)Banda 4: Infrarrojo Cercano (NIR)Plantillas de Visualización (Raster Functions): El servicio incluye capacidades de procesamiento al vuelo para: Vista RGB con Balance de Color, Mejora de Contraste (2 desviaciones estándar con DRA), Falso Color Infrarrojo (CIR) y cálculo automático del Índice de Vegetación de Diferencia Normalizada (NDVI colorizado).",
 "name": "imagenesfunciones/orthourbana2025funcion",
 "description": "Ortofotomosaico de alta resolución de la zona urbana de Bogotá D.C. Este producto cartográfico provee información base de alta precisión (imagen óptica y multiespectral) para la planificación urbana, actualización catastral, análisis espacial, cálculo de índices de vegetación y toma de decisiones en el Distrito Capital, especialmente las asociadas al Plan de Ordenamiento Territorial (POT).Especificaciones Técnicas:Resolución Espacial (GSD): 5 cm (0.05 metros) por píxel.Composición Espectral: Imagen multiespectral de 4 bandas:Banda 1: Rojo (Red)Banda 2: Verde (Green)Banda 3: Azul (Blue)Banda 4: Infrarrojo Cercano (NIR)Plantillas de Visualización (Raster Functions): El servicio incluye capacidades de procesamiento al vuelo para: Vista RGB con Balance de Color, Mejora de Contraste (2 desviaciones estándar con DRA), Falso Color Infrarrojo (CIR) y cálculo automático del Índice de Vegetación de Diferencia Normalizada (NDVI colorizado).",
 "extent": {
  "xmin": -74.22495775999994,
  "ymin": 4.486153902334516,
  "xmax": -74.01894217515877,
  "ymax": 4.837963812000055,
  "spatialReference": {
   "wkid": 4326,
   "latestWkid": 4326
  }
 },
 "initialExtent": {
  "xmin": -74.22495775999994,
  "ymin": 4.486153902334516,
  "xmax": -74.01894217515877,
  "ymax": 4.837963812000055,
  "spatialReference": {
   "wkid": 4326,
   "latestWkid": 4326
  }
 },
 "fullExtent": {
  "xmin": -74.22495775999994,
  "ymin": 4.486153902334516,
  "xmax": -74.01894217515877,
  "ymax": 4.837963812000055,
  "spatialReference": {
   "wkid": 4326,
   "latestWkid": 4326
  }
 },
 "sortableFields": "MinPS,MaxPS,LowPS,HighPS,CenterX,CenterY,ZOrder,Shape_Length,Shape_Area",
 "bandCount": 4,
 "pixelType": "U8",
 "minValues": [],
 "maxValues": [],
 "meanValues": [],
 "stdvValues": [],
 "hasMultidimensions": false,
 "pixelSizeX": 4.491576420597078E-7,
 "pixelSizeY": 4.491576420597073E-7,
 "meanPixelSize": 0.04999999999999408,
 "datasetFormat": "AMD",
 "uncompressedSize": 1437045597944,
 "blockWidth": 2048,
 "blockHeight": 256,
 "compressionType": "None",
 "bandNames": [
  "Red",
  "Green",
  "Blue",
  "Infrared"
 ],
 "allowCopy": true,
 "allowAnalysis": true,
 "itemAccess": false,
 "inspectionCapabilities": "",
 "noDataValue": 255,
 "noDataValues": [
  255,
  255,
  255,
  255
 ],
 "minPixelSize": 0,
 "maxPixelSize": 0,
 "copyrightText": "Secretaría Distrital de Planeación (SDP) - Subsecretaría de Información (Propietario/Contratante). Producto generado por SIGLA S.A.S. (Contrato 1047 de 2024). Publicado y distribuido por IDECA - Unidad Administrativa Especial de Catastro Distrital (UAECD).",
 "serviceDataType": "esriImageServiceDataTypeGeneric",
 "serviceSourceType": "esriImageServiceSourceTypeMosaicDataset",
 "objectIdField": "OBJECTID",
 "fields": [
  {
   "name": "OBJECTID",
   "type": "esriFieldTypeOID",
   "alias": "OBJECTID",
   "domain": null
  },
  {
   "name": "Shape",
   "type": "esriFieldTypeGeometry",
   "alias": "Shape",
   "domain": null
  },
  {
   "name": "Name",
   "type": "esriFieldTypeString",
   "alias": "Name",
   "domain": null,
   "length": 200
  },
  {
   "name": "MinPS",
   "type": "esriFieldTypeDouble",
   "alias": "MinPS",
   "domain": null
  },
  {
   "name": "MaxPS",
   "type": "esriFieldTypeDouble",
   "alias": "MaxPS",
   "domain": null
  },
  {
   "name": "LowPS",
   "type": "esriFieldTypeDouble",
   "alias": "LowPS",
   "domain": null
  },
  {
   "name": "HighPS",
   "type": "esriFieldTypeDouble",
   "alias": "HighPS",
   "domain": null
  },
  {
   "name": "Category",
   "type": "esriFieldTypeInteger",
   "alias": "Category",
   "domain": {
    "type": "codedValue",
    "name": "MosaicCatalogItemCategoryDomain",
    "description": "Catalog item categories.",
    "codedValues": [
     {
      "name": "Unknown",
      "code": 0
     },
     {
      "name": "Primary",
      "code": 1
     },
     {
      "name": "Overview",
      "code": 2
     },
     {
      "name": "Unprocessed Overview",
      "code": 3
     },
     {
      "name": "Partial Overview",
      "code": 4
     },
     {
      "name": "Inactive",
      "code": 5
     },
     {
      "name": "Uploaded",
      "code": 253
     },
     {
      "name": "Incomplete",
      "code": 254
     },
     {
      "name": "Custom",
      "code": 255
     }
    ],
    "mergePolicy": "esriMPTDefaultValue",
    "splitPolicy": "esriSPTDefaultValue"
   }
  },
  {
   "name": "Tag",
   "type": "esriFieldTypeString",
   "alias": "Tag",
   "domain": null,
   "length": 100
  },
  {
   "name": "GroupName",
   "type": "esriFieldTypeString",
   "alias": "GroupName",
   "domain": null,
   "length": 100
  },
  {
   "name": "ProductName",
   "type": "esriFieldTypeString",
   "alias": "ProductName",
   "domain": null,
   "length": 100
  },
  {
   "name": "CenterX",
   "type": "esriFieldTypeDouble",
   "alias": "CenterX",
   "domain": null
  },
  {
   "name": "CenterY",
   "type": "esriFieldTypeDouble",
   "alias": "CenterY",
   "domain": null
  },
  {
   "name": "ZOrder",
   "type": "esriFieldTypeInteger",
   "alias": "ZOrder",
   "domain": null
  },
  {
   "name": "Shape_Length",
   "type": "esriFieldTypeDouble",
   "alias": "Shape_Length",
   "domain": null
  },
  {
   "name": "Shape_Area",
   "type": "esriFieldTypeDouble",
   "alias": "Shape_Area",
   "domain": null
  }
 ],
 "capabilities": "Catalog,Mensuration,Image,Metadata",
 "defaultMosaicMethod": "Northwest",
 "allowedMosaicMethods": "NorthWest,Center,LockRaster,ByAttribute,Nadir,Viewpoint,Seamline,None",
 "sortField": "",
 "sortValue": null,
 "sortAscending": true,
 "mosaicOperator": "First",
 "maxDownloadSizeLimit": 2048,
 "defaultCompressionQuality": 75,
 "defaultResamplingMethod": "Bilinear",
 "maxImageHeight": 4100,
 "maxImageWidth": 15000,
 "maxRecordCount": 1000,
 "maxDownloadImageCount": 0,
 "maxMosaicImageCount": 20,
 "allowRasterFunction": true,
 "rasterFunctionInfos": [
  {
   "name": "None",
   "description": "Make a Raster or Raster Dataset into a Function Raster Dataset.",
   "help": ""
  },
  {
   "name": "ColorBalance",
   "description": "Vista natural RGB para el mosaic dataset despues de ejecutar el balance de color con la herramienta Color Balance Mosaic Dataset.",
   "help": ""
  },
  {
   "name": "FalseColor_CIR",
   "description": "Falso color infrarrojo con R=NIR (B4), G=Rojo (B1) y B=Verde (B2).",
   "help": ""
  },
  {
   "name": "NDVI_Colorized",
   "description": "Calcula NDVI usando rojo=B1 y NIR=B4, y coloriza el resultado con el colormap NDVI3 de Esri.",
   "help": ""
  },
  {
   "name": "Stretch_SD",
   "description": "Stretch por 2 desviaciones estandar con DRA sobre la vista RGB natural.",
   "help": ""
  }
 ],
 "rasterTypeInfos": [
  {
   "name": "Raster Dataset",
   "description": "Supports all ArcGIS Raster Datasets",
   "help": ""
  }
 ],
 "mensurationCapabilities": "Basic",
 "hasHistograms": false,
 "hasColormap": false,
 "hasRasterAttributeTable": false,
 "minScale": 0,
 "maxScale": 0,
 "exportTilesAllowed": false,
 "supportsStatistics": true,
 "supportsAdvancedQueries": true,
 "editFieldsInfo": null,
 "ownershipBasedAccessControlForRasters": null,
 "allowComputeTiePoints": false,
 "useStandardizedQueries": true,
 "advancedQueryCapabilities": {
  "useStandardizedQueries": true,
  "supportsStatistics": true,
  "supportsOrderBy": true,
  "supportsDistinct": true,
  "supportsPagination": true
 },
 "spatialReference": {
  "wkid": 4326,
  "latestWkid": 4326
 },
 "resampling": false
}
