View In:
ArcGIS JavaScript
ArcGIS Online Map Viewer
ArcGIS Earth
Service Description: Mosaico del área urbana con un GSD de 20cm de los municipios de Cajicá, Chía, Chipaque, Choachí, Cota, El Rosal, Facatativá, Funza, Gachancipá, Gutiérrez, La Calera, Madrid, Mosquera, Pasca, Soacha, Sopo, Tenjo, Tocancipá, Ubaque, Une y Zipaquirá. El insumo de las ortoimágenes permite realizar estudios para cartografía 1:2.000, de acuerdo con la resolución 1392 - 2016 del IGAC. Su resolución radiométrica es de 8bit y su resolución espectral es de 4 bandas, contando con las bandas del azul, verde, roja e infrarroja cercana (RGB-NIR). Las imágenes insumo empleadas para su generación fueron tomadas con un sensor aerotransportado de gran formato en el año 2020. Presentan 0% de cobertura nubosa. El área de cubrimiento es de 34.090 hectáreas aproximadamente. El contacto directo para acceder a los datos es a través de la Gerencia Comercial y de Atención al Usuario de la UAECD.
Name: Imagenes/municipioscundinamarcaurbano
Description: Mosaico del área urbana con un GSD de 20cm de los municipios de Cajicá, Chía, Chipaque, Choachí, Cota, El Rosal, Facatativá, Funza, Gachancipá, Gutiérrez, La Calera, Madrid, Mosquera, Pasca, Soacha, Sopo, Tenjo, Tocancipá, Ubaque, Une y Zipaquirá. El insumo de las ortoimágenes permite realizar estudios para cartografía 1:2.000, de acuerdo con la resolución 1392 - 2016 del IGAC. Su resolución radiométrica es de 8bit y su resolución espectral es de 4 bandas, contando con las bandas del azul, verde, roja e infrarroja cercana (RGB-NIR). Las imágenes insumo empleadas para su generación fueron tomadas con un sensor aerotransportado de gran formato en el año 2020. Presentan 0% de cobertura nubosa. El área de cubrimiento es de 34.090 hectáreas aproximadamente. El contacto directo para acceder a los datos es a través de la Gerencia Comercial y de Atención al Usuario de la UAECD.
Single Fused Map Cache: true
Tile Info:
- Height: 256
- Width: 256
- DPI: 96
-
Levels of Detail: 24
-
Level ID: 1
[ Start Tile, End Tile ]
- Resolution: 78271.5169639999
- Scale: 2.95828763795777E8
-
Level ID: 2
[ Start Tile, End Tile ]
- Resolution: 39135.7584820001
- Scale: 1.47914381897889E8
-
Level ID: 3
[ Start Tile, End Tile ]
- Resolution: 19567.8792409999
- Scale: 7.3957190948944E7
-
Level ID: 4
[ Start Tile, End Tile ]
- Resolution: 9783.93962049996
- Scale: 3.6978595474472E7
-
Level ID: 5
[ Start Tile, End Tile ]
- Resolution: 4891.96981024998
- Scale: 1.8489297737236E7
- Format: MIXED
- Compression Quality: 75.0
- LERC Error: NaN
- Origin: X: -2.0037508342787E7
Y: 2.0037508342787E7
- Spatial Reference: 102100
(3857)
LatestVCSWkid(0)
Storage Info:
- Storage Format: esriMapCacheStorageModeCompactV2
- Packet Size: 128
Extent:
XMin: -8278715.472753815
YMin: 473722.6502816114
XMax: -8222436.776730401
YMax: 561965.8947969143
Spatial Reference: 102100
(3857)
LatestVCSWkid(0)
Initial Extent:
XMin: -8278715.472753815
YMin: 473722.6502816114
XMax: -8222436.776730401
YMax: 561965.8947969143
Spatial Reference: 102100
(3857)
LatestVCSWkid(0)
Full Extent:
XMin: -8278715.472753815
YMin: 473722.6502816114
XMax: -8222436.776730401
YMax: 561965.8947969143
Spatial Reference: 102100
(3857)
LatestVCSWkid(0)
Pixel Size X: 0.19999999999996712
Pixel Size Y: 0.199999999999967
Band Count: 4
Pixel Type: U8
RasterFunction Infos: {"rasterFunctionInfos": [{
"name": "None",
"description": "",
"help": ""
}]}
Mensuration Capabilities: None
Inspection Capabilities:
Has Histograms: true
Has Colormap: false
Has Multi Dimensions : false
Rendering Rule:
Min Scale: 5.91657527591555E8
Max Scale: 70.5310735
Resampling: false
Copyright Text: Contrato 235-2018 Unidad Administrativa Especial de Catastro Distrital — UAECD
Service Data Type: esriImageServiceDataTypeGeneric
Min Values: 0, 0, 0, 0
Max Values: 255, 255, 255, 255
Mean Values: 34.03785224979841, 31.89670889224066, 28.870322809151475, 24.46127561185884
Standard Deviation Values: 62.98060673372665, 56.8635020144753, 51.553408117750784, 42.854521980680325
Object ID Field: OBJECTID
Fields:
-
OBJECTID
(
type: esriFieldTypeOID, alias: OBJECTID
)
-
Shape
(
type: esriFieldTypeGeometry, alias: Shape
)
-
Name
(
type: esriFieldTypeString, alias: Name, length: 200
)
-
MinPS
(
type: esriFieldTypeDouble, alias: MinPS
)
-
MaxPS
(
type: esriFieldTypeDouble, alias: MaxPS
)
-
LowPS
(
type: esriFieldTypeDouble, alias: LowPS
)
-
HighPS
(
type: esriFieldTypeDouble, alias: HighPS
)
-
Category
(
type: esriFieldTypeInteger, alias: Category
, Coded Values:
[0: Unknown]
, [1: Primary]
, [2: Overview]
, ...6 more...
)
-
Tag
(
type: esriFieldTypeString, alias: Tag, length: 100
)
-
GroupName
(
type: esriFieldTypeString, alias: GroupName, length: 100
)
-
ProductName
(
type: esriFieldTypeString, alias: ProductName, length: 100
)
-
CenterX
(
type: esriFieldTypeDouble, alias: CenterX
)
-
CenterY
(
type: esriFieldTypeDouble, alias: CenterY
)
-
ZOrder
(
type: esriFieldTypeInteger, alias: ZOrder
)
-
Shape_Length
(
type: esriFieldTypeDouble, alias: Shape_Length
)
-
Shape_Area
(
type: esriFieldTypeDouble, alias: Shape_Area
)
Default Mosaic Method: Northwest
Allowed Mosaic Methods: NorthWest,Center,LockRaster,ByAttribute,Nadir,Viewpoint,Seamline,None
SortField:
SortValue: null
Mosaic Operator: First
Default Compression Quality: 75
Default Resampling Method: Bilinear
Max Record Count: 0
Max Image Height: 4100
Max Image Width: 15000
Max Download Image Count: 0
Max Mosaic Image Count: 20
Allow Raster Function: true
Allow Copy: true
Allow Analysis: true
Allow Compute TiePoints: false
Supports Statistics: true
Supports Advanced Queries: true
Use StandardizedQueries: true
Raster Type Infos:
Name: Raster Dataset
Description: Supports all ArcGIS Raster Datasets
Help:
Has Raster Attribute Table: false
Edit Fields Info: null
Ownership Based AccessControl For Rasters: null
Child Resources:
Info
Histograms
Statistics
Key Properties
Legend
Raster Function Infos
Supported Operations:
Export Image
Identify
Compute Histograms
Compute Statistics Histograms
Get Samples
Compute Class Statistics
Query Boundary
Compute Pixel Location
Compute Angles
Validate
Project