View In:
ArcGIS JavaScript
ArcGIS Online Map Viewer
ArcGIS Earth
Service Description: densidad árboles
Name: ambiente/densidadarboles
Description: densidad árboles
Single Fused Map Cache: false
Extent:
XMin: -8261926.14434769
YMin: 497910.51957138954
XMax: -8238865.9732618
YMax: 537899.7845112375
Spatial Reference: 102100
(3857)
LatestVCSWkid(0)
Initial Extent:
XMin: -8261926.14434769
YMin: 497910.51957138954
XMax: -8238865.9732618
YMax: 537899.7845112375
Spatial Reference: 102100
(3857)
LatestVCSWkid(0)
Full Extent:
XMin: -8261926.14434769
YMin: 497910.51957138954
XMax: -8238865.9732618
YMax: 537899.7845112375
Spatial Reference: 102100
(3857)
LatestVCSWkid(0)
Pixel Size X: 91.50861542019993
Pixel Size Y: 91.5086154229931
Band Count: 1
Pixel Type: F32
RasterFunction Infos: {"rasterFunctionInfos": [{
"name": "None",
"description": "",
"help": ""
}]}
Mensuration Capabilities: Basic
Inspection Capabilities:
Has Histograms: true
Has Colormap: false
Has Multi Dimensions : false
Rendering Rule:
Min Scale: 0
Max Scale: 0
Resampling: false
Copyright Text:
Service Data Type: esriImageServiceDataTypeGeneric
Min Values: 0
Max Values: 275263328
Mean Values: 3.347286518767843E7
Standard Deviation Values: 3.1770939790505577E7
Object ID Field:
Fields:
None
Default Mosaic Method: Center
Allowed Mosaic Methods:
SortField:
SortValue: null
Mosaic Operator: First
Default Compression Quality: 75
Default Resampling Method: Bilinear
Max Record Count: null
Max Image Height: 4100
Max Image Width: 15000
Max Download Image Count: null
Max Mosaic Image Count: null
Allow Raster Function: true
Allow Copy: true
Allow Analysis: true
Allow Compute TiePoints: false
Supports Statistics: false
Supports Advanced Queries: false
Use StandardizedQueries: true
Raster Type Infos:
Name: Raster Dataset
Description: Supports all ArcGIS Raster Datasets
Help:
Has Raster Attribute Table: false
Edit Fields Info: null
Ownership Based AccessControl For Rasters: null
Child Resources:
Info
Histograms
Statistics
Key Properties
Legend
Raster Function Infos
Supported Operations:
Export Image
Identify
Measure
Compute Histograms
Compute Statistics Histograms
Get Samples
Compute Class Statistics
Query Boundary
Compute Pixel Location
Compute Angles
Validate
Project