View In:
ArcGIS JavaScript
ArcGIS Online Map Viewer
ArcGIS Earth
Service Description: Densidad de personas por UPZ
Name: social/densidadpersonasUPZ
Description: Densidad de personas por UPZ
Single Fused Map Cache: false
Extent:
XMin: -8261077.6423265
YMin: 499116.197352709
XMax: -8239727.6423265
YMax: 536966.197352709
Spatial Reference: 102100
(3857)
LatestVCSWkid(0)
Initial Extent:
XMin: -8261077.6423265
YMin: 499116.197352709
XMax: -8239727.6423265
YMax: 536966.197352709
Spatial Reference: 102100
(3857)
LatestVCSWkid(0)
Full Extent:
XMin: -8261077.6423265
YMin: 499116.197352709
XMax: -8239727.6423265
YMax: 536966.197352709
Spatial Reference: 102100
(3857)
LatestVCSWkid(0)
Pixel Size X: 50.0
Pixel Size Y: 50.0
Band Count: 1
Pixel Type: F32
RasterFunction Infos: {"rasterFunctionInfos": [{
"name": "None",
"description": "",
"help": ""
}]}
Mensuration Capabilities: Basic
Inspection Capabilities:
Has Histograms: true
Has Colormap: false
Has Multi Dimensions : false
Rendering Rule:
Min Scale: 0
Max Scale: 0
Resampling: false
Copyright Text:
Service Data Type: esriImageServiceDataTypeGeneric
Min Values: 1038.451904296875
Max Values: 379818.75
Mean Values: 80489.590750004
Standard Deviation Values: 54010.3719692292
Object ID Field:
Fields:
None
Default Mosaic Method: Center
Allowed Mosaic Methods:
SortField:
SortValue: null
Mosaic Operator: First
Default Compression Quality: 75
Default Resampling Method: Bilinear
Max Record Count: null
Max Image Height: 4100
Max Image Width: 15000
Max Download Image Count: null
Max Mosaic Image Count: null
Allow Raster Function: true
Allow Copy: true
Allow Analysis: true
Allow Compute TiePoints: false
Supports Statistics: false
Supports Advanced Queries: false
Use StandardizedQueries: true
Raster Type Infos:
Name: Raster Dataset
Description: Supports all ArcGIS Raster Datasets
Help:
Has Raster Attribute Table: false
Edit Fields Info: null
Ownership Based AccessControl For Rasters: null
Child Resources:
Info
Histograms
Statistics
Key Properties
Legend
Raster Function Infos
Supported Operations:
Export Image
Identify
Measure
Compute Histograms
Compute Statistics Histograms
Get Samples
Compute Class Statistics
Query Boundary
Compute Pixel Location
Compute Angles
Validate
Project