View In:
ArcGIS JavaScript
ArcGIS Online Map Viewer
ArcGIS Earth
Service Description: El Mosaico de Modelos Digitales de Terreno (MDT) de Bogotá D.C. 2025 es un producto cartográfico básico en formato ráster que representa la superficie del terreno desnudo (sin vegetación ni edificaciones) del Distrito Capital. Está compuesto por tres rásteres DEM integrados en un Mosaic Dataset de ArcGIS:
1. DEM URBANO (Área urbana y de expansión de Bogotá D.C.)
Extensión: ~44.500 Ha
Escala: 1:1.000 | Resolución espacial (pixel): 1 m (GSD 10 cm en vuelo)Fuente: LiDAR aerotransportado con sensor Riegl VQ-580II montado en aeronave Cessna 402B (Montaje 1) y sensor Riegl VQ-480i en helicóptero Hughes (Montaje 2).
Período de captura: enero – agosto de 2025.
Proyección: MAGNA-SIRGAS Origen Único Nacional (EPSG: 9377), época IGAC 2018.0.
Altura: Ortométrica mediante modelo geoidal GEOCOL2004.
RMSE Z (Bogotá): diferencias promedio 0,100 m; máximas +0,183 m / -0,177m.
2. DEM CERROS ORIENTALES (Área de Cerros Orientales de Bogotá D.C.)
Extensión: ~15.215 Ha
Escala: 1:5.000 | Resolución espacial (pixel): 5 m
Fuente: LiDAR aerotransportado con sensor Riegl VQ-580II en aeronave Cessna 402B.
Período de captura: enero – febrero de 2025.RMSE XY: 0,238 m | NSSDA 95% XY: 0,47 m (cumple Resolución IGAC 197/2022, escala 1:5.000: RMSE Z < 3 m, NSSDA < 6 m).
Diferencias altimétricas promedio: 0,114 m; máximas +0,667 m / -0,436 m.
3. DEM RURAL (Zona rural de Bogotá D.C.)
Extensión: ~107.304 Ha — al sur de Bogotá D.C.
Escala: 1:10.000 | Resolución espacial (pixel): 10 mFuente: Imágenes estereoscópicas 3D satelitales ZY3 (Airbus).Fechas de imágenes: 08/01/2024, 31/08/2024, 11/12/2024.Método de interpolación: Binning (media por celda).Puntos de ajuste: 153 puntos topográficos convencionales (22 GCP + 131 chequeo).RMSE XY Puntos de Control: 0,087 m | NSSDA 95% XY: 0,171 m.RMSE XY Puntos de Chequeo: 0,67 m | NSSDA 95% XY: 1,31 m.(Cumple Resolución IGAC 197/2022: RMSE Z < 3 m, NSSDA < 6 m para 1:10.000).Contrato: UAECD No. 369-2025. Objeto: Adquisición de productos de cartografía básica.
Sistema de referencia común del mosaico: - Datum geodésico: MAGNA-SIRGAS - Proyección: Origen Único Nacional (EPSG: 9377) - Época: IGAC 2018.0 - Alturas: Ortométricas (modelo GEOCOL2004)
Contratos:- DEM Urbano y Cerros Orientales: Contrato SDP No. 1047/2024 Secretaría Distrital de Planeación (SDP)- DEM Rural: Contrato UAECD No. 369-2025 Unidad Administrativa Especial de Catastro Distrital (UAECD)
Normas aplicadas: Resoluciones IGAC 471/2020, 529/2020, 1421/2021, 197/2022, 1040/2023.
Name: Imagenes/modelodigitalterreno2025funcion
Description: El Mosaico de Modelos Digitales de Terreno (MDT) de Bogotá D.C. 2025 es un producto cartográfico básico en formato ráster que representa la superficie del terreno desnudo (sin vegetación ni edificaciones) del Distrito Capital. Está compuesto por tres rásteres DEM integrados en un Mosaic Dataset de ArcGIS:
1. DEM URBANO (Área urbana y de expansión de Bogotá D.C.)
Extensión: ~44.500 Ha
Escala: 1:1.000 | Resolución espacial (pixel): 1 m (GSD 10 cm en vuelo)Fuente: LiDAR aerotransportado con sensor Riegl VQ-580II montado en aeronave Cessna 402B (Montaje 1) y sensor Riegl VQ-480i en helicóptero Hughes (Montaje 2).
Período de captura: enero – agosto de 2025.
Proyección: MAGNA-SIRGAS Origen Único Nacional (EPSG: 9377), época IGAC 2018.0.
Altura: Ortométrica mediante modelo geoidal GEOCOL2004.
RMSE Z (Bogotá): diferencias promedio 0,100 m; máximas +0,183 m / -0,177m.
2. DEM CERROS ORIENTALES (Área de Cerros Orientales de Bogotá D.C.)
Extensión: ~15.215 Ha
Escala: 1:5.000 | Resolución espacial (pixel): 5 m
Fuente: LiDAR aerotransportado con sensor Riegl VQ-580II en aeronave Cessna 402B.
Período de captura: enero – febrero de 2025.RMSE XY: 0,238 m | NSSDA 95% XY: 0,47 m (cumple Resolución IGAC 197/2022, escala 1:5.000: RMSE Z < 3 m, NSSDA < 6 m).
Diferencias altimétricas promedio: 0,114 m; máximas +0,667 m / -0,436 m.
3. DEM RURAL (Zona rural de Bogotá D.C.)
Extensión: ~107.304 Ha — al sur de Bogotá D.C.
Escala: 1:10.000 | Resolución espacial (pixel): 10 mFuente: Imágenes estereoscópicas 3D satelitales ZY3 (Airbus).Fechas de imágenes: 08/01/2024, 31/08/2024, 11/12/2024.Método de interpolación: Binning (media por celda).Puntos de ajuste: 153 puntos topográficos convencionales (22 GCP + 131 chequeo).RMSE XY Puntos de Control: 0,087 m | NSSDA 95% XY: 0,171 m.RMSE XY Puntos de Chequeo: 0,67 m | NSSDA 95% XY: 1,31 m.(Cumple Resolución IGAC 197/2022: RMSE Z < 3 m, NSSDA < 6 m para 1:10.000).Contrato: UAECD No. 369-2025. Objeto: Adquisición de productos de cartografía básica.
Sistema de referencia común del mosaico: - Datum geodésico: MAGNA-SIRGAS - Proyección: Origen Único Nacional (EPSG: 9377) - Época: IGAC 2018.0 - Alturas: Ortométricas (modelo GEOCOL2004)
Contratos:- DEM Urbano y Cerros Orientales: Contrato SDP No. 1047/2024 Secretaría Distrital de Planeación (SDP)- DEM Rural: Contrato UAECD No. 369-2025 Unidad Administrativa Especial de Catastro Distrital (UAECD)
Normas aplicadas: Resoluciones IGAC 471/2020, 529/2020, 1421/2021, 197/2022, 1040/2023.
Single Fused Map Cache: false
Extent:
XMin: -74.45212263299999
YMin: 3.730017599037147
XMax: -73.9899217940972
YMax: 4.837963824000042
Spatial Reference: 4326
(4326)
LatestVCSWkid(0)
Initial Extent:
XMin: -74.45212263299999
YMin: 3.730017599037147
XMax: -73.9899217940972
YMax: 4.837963824000042
Spatial Reference: 4326
(4326)
LatestVCSWkid(0)
Full Extent:
XMin: -74.45212263299999
YMin: 3.730017599037147
XMax: -73.9899217940972
YMax: 4.837963824000042
Spatial Reference: 4326
(4326)
LatestVCSWkid(0)
Pixel Size X: 9.025597322842966E-6
Pixel Size Y: 9.025597322842832E-6
Band Count: 1
Pixel Type: U32
RasterFunction Infos: {"rasterFunctionInfos": [
{
"name": "None",
"description": "Make a Raster or Raster Dataset into a Function Raster Dataset.",
"help": ""
},
{
"name": "Aspecto",
"description": "Muestra la orientacion de la ladera para cada pixel del MDT, medida en grados azimutales desde el norte.",
"help": ""
},
{
"name": "Aspecto Pendiente",
"description": "Combina orientacion y pendiente en una sola vista sintetica para lectura rapida de exposicion y abruptosidad.",
"help": ""
},
{
"name": "Curvas de Nivel 1m (Urbano)",
"description": "Genera una visualizacion dinamica de curvas de nivel cada 1 metro para zonas urbanas.",
"help": ""
},
{
"name": "Curvas de Nivel Visualizacion",
"description": "Genera una visualizacion dinamica de curvas de nivel cada 10 metros para consulta rapida dentro del mosaic dataset.",
"help": ""
},
{
"name": "Elevacion Hipsometrica",
"description": "Aplica una rampa hipsometrica al MDT para resaltar los cambios altitudinales sin sombreado.",
"help": ""
},
{
"name": "Hillshade Multidireccional",
"description": "Genera un sombreado multidireccional para resaltar mejor las formas del relieve en distintas orientaciones.",
"help": ""
},
{
"name": "Hillshade Tradicional",
"description": "Genera un sombreado tradicional del relieve con azimut 315 y altura solar 45 grados.",
"help": ""
},
{
"name": "Pendiente Grados",
"description": "Calcula la pendiente continua del terreno en grados para analisis geomorfologico y control visual.",
"help": ""
},
{
"name": "Pendiente IGAC",
"description": "Clasifica la pendiente en porcentaje segun rangos IGAC y aplica una simbologia fija de siete clases.",
"help": ""
},
{
"name": "Relieve Sombreado",
"description": "Combina hipsometria y sombreado del relieve para una visualizacion topografica continua del MDT.",
"help": ""
}
]}
Mensuration Capabilities: Basic,Base-Top Height,Top-Top Shadow Height,Base-Top Shadow Height
Inspection Capabilities:
Has Histograms: true
Has Colormap: false
Has Multi Dimensions : false
Rendering Rule:
Min Scale: 0
Max Scale: 0
Resampling: false
Copyright Text: Productos cartográficos generados por SIGLA S.A.S. — Sistemas de Información Geográfica de Latinoamérica, bajo los Contratos No. 1047/2024 (Secretaría Distrital de Planeación — DEM Urbano y Cerros Orientales) y No. 369-2025 (Unidad Administrativa Especial de Catastro Distrital — DEM Zona Rural). Supervisor UAECD: Pedro Alberto Pinzón Montero.
Service Data Type: esriImageServiceDataTypeGeneric
Min Values: 2288
Max Values: 4144
Mean Values: 3224.8501990602417
Standard Deviation Values: 485.98858773163636
Object ID Field: OBJECTID
Fields:
-
OBJECTID
(
type: esriFieldTypeOID, alias: OBJECTID
)
-
Shape
(
type: esriFieldTypeGeometry, alias: Shape
)
-
Name
(
type: esriFieldTypeString, alias: Name, length: 200
)
-
MinPS
(
type: esriFieldTypeDouble, alias: MinPS
)
-
MaxPS
(
type: esriFieldTypeDouble, alias: MaxPS
)
-
LowPS
(
type: esriFieldTypeDouble, alias: LowPS
)
-
HighPS
(
type: esriFieldTypeDouble, alias: HighPS
)
-
Category
(
type: esriFieldTypeInteger, alias: Category
, Coded Values:
[0: Unknown]
, [1: Primary]
, [2: Overview]
, ...6 more...
)
-
Tag
(
type: esriFieldTypeString, alias: Tag, length: 100
)
-
GroupName
(
type: esriFieldTypeString, alias: GroupName, length: 100
)
-
ProductName
(
type: esriFieldTypeString, alias: ProductName, length: 100
)
-
CenterX
(
type: esriFieldTypeDouble, alias: CenterX
)
-
CenterY
(
type: esriFieldTypeDouble, alias: CenterY
)
-
ZOrder
(
type: esriFieldTypeInteger, alias: ZOrder
)
-
Shape_Length
(
type: esriFieldTypeDouble, alias: Shape_Length
)
-
Shape_Area
(
type: esriFieldTypeDouble, alias: Shape_Area
)
Default Mosaic Method: Northwest
Allowed Mosaic Methods: NorthWest,Center,LockRaster,ByAttribute,Nadir,Viewpoint,Seamline,None
SortField:
SortValue: null
Mosaic Operator: First
Default Compression Quality: 75
Default Resampling Method: Bilinear
Max Record Count: 1000
Max Image Height: 4100
Max Image Width: 15000
Max Download Image Count: 20
Max Mosaic Image Count: 20
Allow Raster Function: true
Allow Copy: true
Allow Analysis: true
Allow Compute TiePoints: false
Supports Statistics: true
Supports Advanced Queries: true
Use StandardizedQueries: true
Raster Type Infos:
Name: Raster Dataset
Description: Supports all ArcGIS Raster Datasets
Help:
Has Raster Attribute Table: false
Edit Fields Info: null
Ownership Based AccessControl For Rasters: null
Child Resources:
Info
Histograms
Statistics
Key Properties
Legend
Raster Function Infos
Supported Operations:
Export Image
Query
Identify
Download Rasters
Get Image Url
Measure
Compute Histograms
Compute Statistics Histograms
Get Samples
Compute Class Statistics
Query GPS Info
Find Images
Image to Map
Map to Image
Measure from Image
Image to Map Multiray
Query Boundary
Compute Pixel Location
Compute Angles
Validate
Project