View In:
ArcGIS JavaScript
ArcGIS Online Map Viewer
ArcGIS Earth
Service Description: Este conjunto de datos contiene el mosaic dataset de la ortoimagen del centro poblado Altos de Serrezuela, localidad de Usaquén en Bogotá D.C. El producto corresponde a una true ortho RGB de 5 cm de tamaño de pixel, 3 bandas de 8 bits, escala de referencia 1:500 y cobertura aproximada de 40 hectáreas. Las imágenes fueron capturadas el 20 de abril de 2026 mediante cámara Sony RX1 RII de 42 megapíxeles con lente de 35 mm. El procesamiento se realizó entre el 5 y el 20 de mayo de 2026. El sistema de referencia original y de publicación es GCS WGS 1984 (EPSG:4326). Para la publicación se agrego el GeoTIFF como único ítem del mosaic dataset.
Name: Imagenes/orthodronaltosserrezuela2026
Description: Este conjunto de datos contiene el mosaic dataset de la ortoimagen del centro poblado Altos de Serrezuela, localidad de Usaquén en Bogotá D.C. El producto corresponde a una true ortho RGB de 5 cm de tamaño de pixel, 3 bandas de 8 bits, escala de referencia 1:500 y cobertura aproximada de 40 hectáreas. Las imágenes fueron capturadas el 20 de abril de 2026 mediante cámara Sony RX1 RII de 42 megapíxeles con lente de 35 mm. El procesamiento se realizó entre el 5 y el 20 de mayo de 2026. El sistema de referencia original y de publicación es GCS WGS 1984 (EPSG:4326). Para la publicación se agrego el GeoTIFF como único ítem del mosaic dataset.
Single Fused Map Cache: false
Extent:
XMin: -74.02066166834099
YMin: 4.758116761282009
XMax: -74.011699889889
YMax: 4.766610259317
Spatial Reference: 4326
(4326)
LatestVCSWkid(0)
Initial Extent:
XMin: -74.02066166834099
YMin: 4.758116761282009
XMax: -74.011699889889
YMax: 4.766610259317
Spatial Reference: 4326
(4326)
LatestVCSWkid(0)
Full Extent:
XMin: -74.02066166834099
YMin: 4.758116761282009
XMax: -74.011699889889
YMax: 4.766610259317
Spatial Reference: 4326
(4326)
LatestVCSWkid(0)
Pixel Size X: 4.507029999995071E-7
Pixel Size Y: 4.5070299999950465E-7
Band Count: 3
Pixel Type: U8
RasterFunction Infos: {"rasterFunctionInfos": [{
"name": "None",
"description": "Make a Raster or Raster Dataset into a Function Raster Dataset.",
"help": ""
}]}
Mensuration Capabilities: Basic
Inspection Capabilities:
Has Histograms: false
Has Colormap: false
Has Multi Dimensions : false
Rendering Rule:
Min Scale: 0
Max Scale: 0
Copyright Text: Producto generado por la Unidad Administrativa Especial de Catastro Distrital (UAECD) / IDECA - Subgerencia de Operaciones.
Service Data Type: esriImageServiceDataTypeRGB
Min Values: N/A
Max Values: N/A
Mean Values: N/A
Standard Deviation Values: N/A
Object ID Field: OBJECTID
Fields:
-
OBJECTID
(
type: esriFieldTypeOID, alias: OBJECTID
)
-
Shape
(
type: esriFieldTypeGeometry, alias: Shape
)
-
Name
(
type: esriFieldTypeString, alias: Name, length: 200
)
-
MinPS
(
type: esriFieldTypeDouble, alias: MinPS
)
-
MaxPS
(
type: esriFieldTypeDouble, alias: MaxPS
)
-
LowPS
(
type: esriFieldTypeDouble, alias: LowPS
)
-
HighPS
(
type: esriFieldTypeDouble, alias: HighPS
)
-
Category
(
type: esriFieldTypeInteger, alias: Category
, Coded Values:
[0: Unknown]
, [1: Primary]
, [2: Overview]
, ...6 more...
)
-
Tag
(
type: esriFieldTypeString, alias: Tag, length: 100
)
-
GroupName
(
type: esriFieldTypeString, alias: GroupName, length: 100
)
-
ProductName
(
type: esriFieldTypeString, alias: ProductName, length: 100
)
-
CenterX
(
type: esriFieldTypeDouble, alias: CenterX
)
-
CenterY
(
type: esriFieldTypeDouble, alias: CenterY
)
-
ZOrder
(
type: esriFieldTypeInteger, alias: ZOrder
)
-
Shape_Length
(
type: esriFieldTypeDouble, alias: Shape_Length
)
-
Shape_Area
(
type: esriFieldTypeDouble, alias: Shape_Area
)
Default Mosaic Method: Northwest
Allowed Mosaic Methods: NorthWest,Center,LockRaster,ByAttribute,Nadir,Viewpoint,Seamline,None
SortField:
SortValue: null
Mosaic Operator: First
Default Compression Quality: 75
Default Resampling Method: Bilinear
Max Record Count: 1000
Max Image Height: 4100
Max Image Width: 15000
Max Download Image Count: 0
Max Mosaic Image Count: 20
Allow Raster Function: true
Allow Copy: true
Allow Analysis: true
Allow Compute TiePoints: false
Supports Statistics: true
Supports Advanced Queries: true
Use StandardizedQueries: true
Raster Type Infos:
Name: Raster Dataset
Description: Supports all ArcGIS Raster Datasets
Help:
Has Raster Attribute Table: false
Edit Fields Info: null
Ownership Based AccessControl For Rasters: null
Child Resources:
Info
Statistics
Key Properties
Legend
Raster Function Infos
Supported Operations:
Export Image
Query
Identify
Measure
Compute Histograms
Compute Statistics Histograms
Get Samples
Compute Class Statistics
Query GPS Info
Find Images
Image to Map
Map to Image
Measure from Image
Image to Map Multiray
Query Boundary
Compute Pixel Location
Compute Angles
Validate
Project