View In:
ArcGIS JavaScript
ArcGIS Online Map Viewer
ArcGIS Earth
Service Description: Este conjunto de datos contiene el mosaic dataset de ortoimagenes del area urbana de Bogota D.C. El producto se publico a partir del archivo OrtoUrbana2025_COG.tif, un Cloud Optimized GeoTIFF de 4 bandas de 8 bits (RGBI), comprimido con JPEG calidad 85 y con piramides internas. El raster final tiene tamano de pixel de 0,05 m (5 cm de tamano de pixel en el COG final). La informacion tecnica de referencia indica captura durante 2024 - 2025, segun informe tecnico de entrega mediante sistema combinado Riegl VQ580II y camara Phase One iXM-RS 150F, segun documentacion tecnica. El sistema de referencia original corresponde a MAGNA Ciudad Bogota / Transverse Mercator local; el mosaic dataset fue creado en GCS WGS 1984 (EPSG:4326). El valor NoData del producto es blanco 255 en las 4 bandas. El footprint y boundary del mosaic dataset fue validado en EPSG:4326.
Name: Imagenes/orthourbana2025prueba
Description: Este conjunto de datos contiene el mosaic dataset de ortoimagenes del area urbana de Bogota D.C. El producto se publico a partir del archivo OrtoUrbana2025_COG.tif, un Cloud Optimized GeoTIFF de 4 bandas de 8 bits (RGBI), comprimido con JPEG calidad 85 y con piramides internas. El raster final tiene tamano de pixel de 0,05 m (5 cm de tamano de pixel en el COG final). La informacion tecnica de referencia indica captura durante 2024 - 2025, segun informe tecnico de entrega mediante sistema combinado Riegl VQ580II y camara Phase One iXM-RS 150F, segun documentacion tecnica. El sistema de referencia original corresponde a MAGNA Ciudad Bogota / Transverse Mercator local; el mosaic dataset fue creado en GCS WGS 1984 (EPSG:4326). El valor NoData del producto es blanco 255 en las 4 bandas. El footprint y boundary del mosaic dataset fue validado en EPSG:4326.
Single Fused Map Cache: false
Extent:
XMin: -74.22493386799994
YMin: 4.486165315694294
XMax: -74.0189605039771
YMax: 4.837959954000041
Spatial Reference: 4326
(4326)
LatestVCSWkid(0)
Initial Extent:
XMin: -74.22493386799994
YMin: 4.486165315694294
XMax: -74.0189605039771
YMax: 4.837959954000041
Spatial Reference: 4326
(4326)
LatestVCSWkid(0)
Full Extent:
XMin: -74.22493386799994
YMin: 4.486165315694294
XMax: -74.0189605039771
YMax: 4.837959954000041
Spatial Reference: 4326
(4326)
LatestVCSWkid(0)
Pixel Size X: 4.4915764205976035E-7
Pixel Size Y: 4.4915764205975606E-7
Band Count: 4
Pixel Type: U8
RasterFunction Infos: {"rasterFunctionInfos": [
{
"name": "None",
"description": "Make a Raster or Raster Dataset into a Function Raster Dataset.",
"help": ""
},
{
"name": "Stretch_SD",
"description": "Stretch por 2 Desviaciones Estandar con DRA.",
"help": ""
},
{
"name": "ColorBalance",
"description": "Balance de color entre mosaicos.",
"help": ""
},
{
"name": "FalseColor_CIR",
"description": "Falso Color Infrarrojo: R=NIR(B4), G=Rojo(B1), B=Verde(B2).",
"help": ""
},
{
"name": "NDVI_Colorized",
"description": "NDVI coloreado automaticamente usando el colormap NDVI3 de Esri.",
"help": ""
}
]}
Mensuration Capabilities: Basic
Inspection Capabilities:
Has Histograms: false
Has Colormap: false
Has Multi Dimensions : false
Rendering Rule:
Min Scale: 0
Max Scale: 0
Resampling: false
Copyright Text: Producto entregado por la Secretaria Distrital de Planeacion (SDP) y gestionado para publicacion en el ecosistema IDECA/UAECD. Procesamiento tecnico reportado por Sistemas de Informacion Geografica de Latinoamerica (SIGLA S.A.S.).
Service Data Type: esriImageServiceDataTypeGeneric
Min Values: N/A
Max Values: N/A
Mean Values: N/A
Standard Deviation Values: N/A
Object ID Field: OBJECTID
Fields:
-
OBJECTID
(
type: esriFieldTypeOID, alias: OBJECTID
)
-
Shape
(
type: esriFieldTypeGeometry, alias: Shape
)
-
Name
(
type: esriFieldTypeString, alias: Name, length: 200
)
-
MinPS
(
type: esriFieldTypeDouble, alias: MinPS
)
-
MaxPS
(
type: esriFieldTypeDouble, alias: MaxPS
)
-
LowPS
(
type: esriFieldTypeDouble, alias: LowPS
)
-
HighPS
(
type: esriFieldTypeDouble, alias: HighPS
)
-
Category
(
type: esriFieldTypeInteger, alias: Category
, Coded Values:
[0: Unknown]
, [1: Primary]
, [2: Overview]
, ...6 more...
)
-
Tag
(
type: esriFieldTypeString, alias: Tag, length: 100
)
-
GroupName
(
type: esriFieldTypeString, alias: GroupName, length: 100
)
-
ProductName
(
type: esriFieldTypeString, alias: ProductName, length: 100
)
-
CenterX
(
type: esriFieldTypeDouble, alias: CenterX
)
-
CenterY
(
type: esriFieldTypeDouble, alias: CenterY
)
-
ZOrder
(
type: esriFieldTypeInteger, alias: ZOrder
)
-
Shape_Length
(
type: esriFieldTypeDouble, alias: Shape_Length
)
-
Shape_Area
(
type: esriFieldTypeDouble, alias: Shape_Area
)
Default Mosaic Method: Center
Allowed Mosaic Methods: Center
SortField:
SortValue: null
Mosaic Operator: First
Default Compression Quality: 85
Default Resampling Method: Bilinear
Max Record Count: 2000
Max Image Height: 4100
Max Image Width: 15000
Max Download Image Count: 0
Max Mosaic Image Count: 30
Allow Raster Function: true
Allow Copy: true
Allow Analysis: true
Allow Compute TiePoints: false
Supports Statistics: true
Supports Advanced Queries: true
Use StandardizedQueries: true
Raster Type Infos:
Name: Raster Dataset
Description: Supports all ArcGIS Raster Datasets
Help:
Has Raster Attribute Table: false
Edit Fields Info: null
Ownership Based AccessControl For Rasters: null
Child Resources:
Info
Statistics
Key Properties
Legend
Raster Function Infos
Supported Operations:
Export Image
Query
Identify
Measure
Compute Histograms
Compute Statistics Histograms
Get Samples
Compute Class Statistics
Query GPS Info
Find Images
Image to Map
Map to Image
Measure from Image
Image to Map Multiray
Query Boundary
Compute Pixel Location
Compute Angles
Validate
Project