View In:
ArcGIS JavaScript
ArcGIS Online Map Viewer
ArcGIS Earth
Service Description: Este producto contiene un mosaico raster ortorectificado de la zona rural de AMCO cubriendo parte de los municipios de Pereira y Dos Quebradas, correspondientes a 57.000 hectáreas aproximadamente. Cuenta con tres bandas del espectro electromagnético: Rojo, Verde, Azul.
Name: amco/RuralAMCO
Description: Este producto contiene un mosaico raster ortorectificado de la zona rural de AMCO cubriendo parte de los municipios de Pereira y Dos Quebradas, correspondientes a 57.000 hectáreas aproximadamente. Cuenta con tres bandas del espectro electromagnético: Rojo, Verde, Azul.
Single Fused Map Cache: false
Extent:
XMin: 4673845.979082
YMin: 2072499.9480559998
XMax: 4737372.229082
YMax: 2104898.698056
Spatial Reference: 9377
(9377)
LatestVCSWkid(0)
Initial Extent:
XMin: 4673845.979082
YMin: 2072499.9480559998
XMax: 4737372.229082
YMax: 2104898.698056
Spatial Reference: 9377
(9377)
LatestVCSWkid(0)
Full Extent:
XMin: 4673845.979082
YMin: 2072499.9480559998
XMax: 4737372.229082
YMax: 2104898.698056
Spatial Reference: 9377
(9377)
LatestVCSWkid(0)
Pixel Size X: 0.25
Pixel Size Y: 0.25
Band Count: 4
Pixel Type: U8
RasterFunction Infos: {"rasterFunctionInfos": [{
"name": "None",
"description": "",
"help": ""
}]}
Mensuration Capabilities: Basic
Inspection Capabilities:
Has Histograms: true
Has Colormap: false
Has Multi Dimensions : false
Rendering Rule:
Min Scale: 0
Max Scale: 0
Resampling: false
Copyright Text: UAECD - IDECA - GO CATASTRAL
Service Data Type: esriImageServiceDataTypeProcessed
Min Values: 0, 0, 0, 0
Max Values: 255, 255, 255, 255
Mean Values: 31.295863362497, 34.581157963781, 31.056004560197, 42.287558429237
Standard Deviation Values: 56.850349655747, 60.336340221297, 53.684970880446, 71.63191805281
Object ID Field:
Fields:
None
Default Mosaic Method: Center
Allowed Mosaic Methods:
SortField:
SortValue: null
Mosaic Operator: First
Default Compression Quality: 75
Default Resampling Method: Bilinear
Max Record Count: null
Max Image Height: 4100
Max Image Width: 15000
Max Download Image Count: null
Max Mosaic Image Count: null
Allow Raster Function: true
Allow Copy: true
Allow Analysis: true
Allow Compute TiePoints: false
Supports Statistics: false
Supports Advanced Queries: false
Use StandardizedQueries: true
Raster Type Infos:
Name: Raster Dataset
Description: Supports all ArcGIS Raster Datasets
Help:
Has Raster Attribute Table: false
Edit Fields Info: null
Ownership Based AccessControl For Rasters: null
Child Resources:
Info
Histograms
Statistics
Key Properties
Legend
Raster Function Infos
Supported Operations:
Export Image
Identify
Measure
Compute Histograms
Compute Statistics Histograms
Get Samples
Compute Class Statistics
Query Boundary
Compute Pixel Location
Compute Angles
Validate
Project