View In:
ArcGIS JavaScript
ArcGIS Online Map Viewer
ArcGIS Earth
Service Description: Servicio web que contiene un mosaico raster orthorectificado del distrito capital de Bogotá a partir de las fotografías aéreas tomadas en el año 2004.
Name: imagenesfunciones/ortho2004funcion
Description: Servicio web que contiene un mosaico raster orthorectificado del distrito capital de Bogotá a partir de las fotografías aéreas tomadas en el año 2004.
Single Fused Map Cache: false
Extent:
XMin: -8262539.7997990325
YMin: 495529.08543463825
XMax: -8236129.497253402
YMax: 539077.4423482122
Spatial Reference: 102100
(3857)
LatestVCSWkid(0)
Initial Extent:
XMin: -8262539.7997990325
YMin: 495529.08543463825
XMax: -8236129.497253402
YMax: 539077.4423482122
Spatial Reference: 102100
(3857)
LatestVCSWkid(0)
Full Extent:
XMin: -8262539.7997990325
YMin: 495529.08543463825
XMax: -8236129.497253402
YMax: 539077.4423482122
Spatial Reference: 102100
(3857)
LatestVCSWkid(0)
Pixel Size X: 1.0067587597922607
Pixel Size Y: 1.0067587597922596
Band Count: 3
Pixel Type: S16
RasterFunction Infos: {"rasterFunctionInfos": [
{
"name": "2004_clip",
"description": "A raster function template.",
"help": ""
},
{
"name": "2004_strech_mm",
"description": "A raster function template.",
"help": ""
},
{
"name": "2004_strech_pc",
"description": "A raster function template.",
"help": ""
},
{
"name": "2004_strech_sd",
"description": "A raster function template.",
"help": ""
},
{
"name": "2004_strech_sig",
"description": "A raster function template.",
"help": ""
},
{
"name": "None",
"description": "",
"help": ""
}
]}
Mensuration Capabilities: Basic
Inspection Capabilities:
Has Histograms: true
Has Colormap: false
Has Multi Dimensions : false
Rendering Rule:
Min Scale: 0
Max Scale: 0
Resampling: false
Copyright Text: Alcaldia Mayor de Bogotá D.C. - SHD - SDP - UAECD - IDECA
Service Data Type: esriImageServiceDataTypeGeneric
Min Values: 0, 0, 0
Max Values: 255, 255, 255
Mean Values: 78.199079043503, 80.249376210905, 78.569582313133
Standard Deviation Values: 82.987985724122, 84.062857315495, 81.097945297587
Object ID Field:
Fields:
None
Default Mosaic Method: Center
Allowed Mosaic Methods:
SortField:
SortValue: null
Mosaic Operator: First
Default Compression Quality: 75
Default Resampling Method: Bilinear
Max Record Count: null
Max Image Height: 4100
Max Image Width: 15000
Max Download Image Count: null
Max Mosaic Image Count: null
Allow Raster Function: true
Allow Copy: true
Allow Analysis: true
Allow Compute TiePoints: false
Supports Statistics: false
Supports Advanced Queries: false
Use StandardizedQueries: true
Raster Type Infos:
Name: Raster Dataset
Description: Supports all ArcGIS Raster Datasets
Help:
Has Raster Attribute Table: false
Edit Fields Info: null
Ownership Based AccessControl For Rasters: null
Child Resources:
Info
Histograms
Statistics
Key Properties
Legend
Raster Function Infos
Supported Operations:
Export Image
Identify
Measure
Compute Histograms
Compute Statistics Histograms
Get Samples
Compute Class Statistics
Query Boundary
Compute Pixel Location
Compute Angles
Validate
Project