View In:
ArcGIS JavaScript
ArcGIS Online Map Viewer
ArcGIS Earth
Service Description: Servicio web que contiene un mosaico raster ortorectificado del Distrito Capital de Bogotá a partir de fotografías aéreas tomadas en el año 2007 con funciones de procesamiento
Name: imagenesfunciones/ortho2007funcion
Description: Servicio web que contiene un mosaico raster ortorectificado del Distrito Capital de Bogotá a partir de fotografías aéreas tomadas en el año 2007 con funciones de procesamiento
Single Fused Map Cache: false
Extent:
XMin: -8258308.418487233
YMin: 498067.01326330076
XMax: -8240253.20000576
YMax: 534412.0324455297
Spatial Reference: 102100
(3857)
LatestVCSWkid(0)
Initial Extent:
XMin: -8258308.418487233
YMin: 498067.01326330076
XMax: -8240253.20000576
YMax: 534412.0324455297
Spatial Reference: 102100
(3857)
LatestVCSWkid(0)
Full Extent:
XMin: -8258308.418487233
YMin: 498067.01326330076
XMax: -8240253.20000576
YMax: 534412.0324455297
Spatial Reference: 102100
(3857)
LatestVCSWkid(0)
Pixel Size X: 0.20032640417038572
Pixel Size Y: 0.20032640417038594
Band Count: 3
Pixel Type: S16
RasterFunction Infos: {"rasterFunctionInfos": [
{
"name": "2007_clip",
"description": "A raster function template.",
"help": ""
},
{
"name": "2007_strech_sig",
"description": "A raster function template.",
"help": ""
},
{
"name": "2007_strech_mm",
"description": "A raster function template.",
"help": ""
},
{
"name": "2007_strech_pc",
"description": "A raster function template.",
"help": ""
},
{
"name": "2007_strech_sd",
"description": "A raster function template.",
"help": ""
},
{
"name": "None",
"description": "",
"help": ""
}
]}
Mensuration Capabilities: Basic
Inspection Capabilities:
Has Histograms: true
Has Colormap: false
Has Multi Dimensions : false
Rendering Rule:
Min Scale: 0
Max Scale: 0
Resampling: false
Copyright Text: Alcaldía Mayor de Bogotá D.C. - SHD – SDP – UAECD – IDECA
Service Data Type: esriImageServiceDataTypeGeneric
Min Values: 0, 0, 0
Max Values: 255, 255, 255
Mean Values: 51.576330303109, 47.12047878506, 44.020722278489
Standard Deviation Values: 49.776489008083, 45.59454470562, 44.803005553298
Object ID Field:
Fields:
None
Default Mosaic Method: Center
Allowed Mosaic Methods:
SortField:
SortValue: null
Mosaic Operator: First
Default Compression Quality: 75
Default Resampling Method: Bilinear
Max Record Count: null
Max Image Height: 4100
Max Image Width: 15000
Max Download Image Count: null
Max Mosaic Image Count: null
Allow Raster Function: true
Allow Copy: true
Allow Analysis: true
Allow Compute TiePoints: false
Supports Statistics: false
Supports Advanced Queries: false
Use StandardizedQueries: true
Raster Type Infos:
Name: Raster Dataset
Description: Supports all ArcGIS Raster Datasets
Help:
Has Raster Attribute Table: false
Edit Fields Info: null
Ownership Based AccessControl For Rasters: null
Child Resources:
Info
Histograms
Statistics
Key Properties
Legend
Raster Function Infos
Supported Operations:
Export Image
Identify
Measure
Compute Histograms
Compute Statistics Histograms
Get Samples
Compute Class Statistics
Query Boundary
Compute Pixel Location
Compute Angles
Validate
Project