View In:
ArcGIS JavaScript
ArcGIS Online Map Viewer
ArcGIS Earth
Service Description: Servicio web que contiene un mosaico raster ortorectificado del Distrito Capital de Bogotá a partir de fotografías aéreas tomadas en el año 2010 con funciones de procesamiento
Name: imagenesfunciones/ortho2010funcion
Description: Servicio web que contiene un mosaico raster ortorectificado del Distrito Capital de Bogotá a partir de fotografías aéreas tomadas en el año 2010 con funciones de procesamiento
Single Fused Map Cache: false
Extent:
XMin: -8262270.182560167
YMin: 498206.2326370834
XMax: -8238584.842603588
YMax: 540403.6787467829
Spatial Reference: 102100
(3857)
LatestVCSWkid(0)
Initial Extent:
XMin: -8262270.182560167
YMin: 498206.2326370834
XMax: -8238584.842603588
YMax: 540403.6787467829
Spatial Reference: 102100
(3857)
LatestVCSWkid(0)
Full Extent:
XMin: -8262270.182560167
YMin: 498206.2326370834
XMax: -8238584.842603588
YMax: 540403.6787467829
Spatial Reference: 102100
(3857)
LatestVCSWkid(0)
Pixel Size X: 0.4988172599999943
Pixel Size Y: 0.4988172599999947
Band Count: 3
Pixel Type: S16
RasterFunction Infos: {"rasterFunctionInfos": [
{
"name": "2010_clip",
"description": "A raster function template.",
"help": ""
},
{
"name": "2010_strech_sig",
"description": "A raster function template.",
"help": ""
},
{
"name": "2010_strech_mm",
"description": "A raster function template.",
"help": ""
},
{
"name": "2010_strech_pc",
"description": "A raster function template.",
"help": ""
},
{
"name": "2010_strech_sd",
"description": "A raster function template.",
"help": ""
},
{
"name": "None",
"description": "",
"help": ""
}
]}
Mensuration Capabilities: Basic
Inspection Capabilities:
Has Histograms: true
Has Colormap: false
Has Multi Dimensions : false
Rendering Rule:
Min Scale: 0
Max Scale: 0
Resampling: false
Copyright Text: Alcaldía Mayor de Bogotá D.C. - SHD – SDP – UAECD – IDECA
Service Data Type: esriImageServiceDataTypeGeneric
Min Values: 0, 0, 0
Max Values: 1578, 2047, 2047
Mean Values: 88.52574887246, 227.28857366368, 167.34082238729
Standard Deviation Values: 105.11571031596, 246.67301737345, 175.89355884875
Object ID Field:
Fields:
None
Default Mosaic Method: Center
Allowed Mosaic Methods:
SortField:
SortValue: null
Mosaic Operator: First
Default Compression Quality: 75
Default Resampling Method: Bilinear
Max Record Count: null
Max Image Height: 4100
Max Image Width: 15000
Max Download Image Count: null
Max Mosaic Image Count: null
Allow Raster Function: true
Allow Copy: true
Allow Analysis: true
Allow Compute TiePoints: false
Supports Statistics: false
Supports Advanced Queries: false
Use StandardizedQueries: true
Raster Type Infos:
Name: Raster Dataset
Description: Supports all ArcGIS Raster Datasets
Help:
Has Raster Attribute Table: false
Edit Fields Info: null
Ownership Based AccessControl For Rasters: null
Child Resources:
Info
Histograms
Statistics
Key Properties
Legend
Raster Function Infos
Supported Operations:
Export Image
Identify
Measure
Compute Histograms
Compute Statistics Histograms
Get Samples
Compute Class Statistics
Query Boundary
Compute Pixel Location
Compute Angles
Validate
Project