View In:
ArcGIS JavaScript
ArcGIS Online Map Viewer
ArcGIS Earth
Service Description: Servicio web que contiene un mosaico raster ortorectificado del Distrito Capital de Bogotá a partir de fotografías aéreas tomadas en el año 2014 con funciones de procesamiento
Name: imagenesfunciones/ortho2014funcion
Description: Servicio web que contiene un mosaico raster ortorectificado del Distrito Capital de Bogotá a partir de fotografías aéreas tomadas en el año 2014 con funciones de procesamiento
Single Fused Map Cache: false
Extent:
XMin: -8263029.4951462485
YMin: 496395.9414022188
XMax: -8238217.253341
YMax: 539464.0291383651
Spatial Reference: 102100
(3857)
LatestVCSWkid(0)
Initial Extent:
XMin: -8263029.4951462485
YMin: 496395.9414022188
XMax: -8238217.253341
YMax: 539464.0291383651
Spatial Reference: 102100
(3857)
LatestVCSWkid(0)
Full Extent:
XMin: -8263029.4951462485
YMin: 496395.9414022188
XMax: -8238217.253341
YMax: 539464.0291383651
Spatial Reference: 102100
(3857)
LatestVCSWkid(0)
Pixel Size X: 0.07547886206426803
Pixel Size Y: 0.07547886206426632
Band Count: 3
Pixel Type: U8
RasterFunction Infos: {"rasterFunctionInfos": [
{
"name": "2014_clip",
"description": "A raster function template.",
"help": ""
},
{
"name": "2014_strech_sig",
"description": "A raster function template.",
"help": ""
},
{
"name": "2014_strech_mm",
"description": "A raster function template.",
"help": ""
},
{
"name": "2014_strech_pc",
"description": "A raster function template.",
"help": ""
},
{
"name": "2014_strech_sd",
"description": "A raster function template.",
"help": ""
},
{
"name": "None",
"description": "",
"help": ""
}
]}
Mensuration Capabilities: Basic
Inspection Capabilities:
Has Histograms: true
Has Colormap: false
Has Multi Dimensions : false
Rendering Rule:
Min Scale: 0
Max Scale: 0
Resampling: false
Copyright Text: Alcaldía Mayor de Bogotá D.C. - SHD – SDP – UAECD – IDECA
Service Data Type: esriImageServiceDataTypeRGB
Min Values: 0, 0, 0
Max Values: 255, 255, 255
Mean Values: 43.780347338624, 42.472568322528, 34.780020259254
Standard Deviation Values: 57.142630367156, 53.877419149064, 47.862249812155
Object ID Field:
Fields:
None
Default Mosaic Method: Center
Allowed Mosaic Methods:
SortField:
SortValue: null
Mosaic Operator: First
Default Compression Quality: 75
Default Resampling Method: Bilinear
Max Record Count: null
Max Image Height: 4100
Max Image Width: 15000
Max Download Image Count: null
Max Mosaic Image Count: null
Allow Raster Function: true
Allow Copy: true
Allow Analysis: true
Allow Compute TiePoints: false
Supports Statistics: false
Supports Advanced Queries: false
Use StandardizedQueries: true
Raster Type Infos:
Name: Raster Dataset
Description: Supports all ArcGIS Raster Datasets
Help:
Has Raster Attribute Table: false
Edit Fields Info: null
Ownership Based AccessControl For Rasters: null
Child Resources:
Info
Histograms
Statistics
Key Properties
Legend
Raster Function Infos
Supported Operations:
Export Image
Identify
Measure
Compute Histograms
Compute Statistics Histograms
Get Samples
Compute Class Statistics
Query Boundary
Compute Pixel Location
Compute Angles
Validate
Project