View In:
ArcGIS JavaScript
ArcGIS Online Map Viewer
ArcGIS Earth
Service Description: Servicio web que contiene un mosaico raster ortorectificado del Distrito Capital de Bogotá a partir de fotografías aéreas tomadas en el año 2015 con funciones de procesamiento
Name: imagenesfunciones/ortho2015funcion
Description: Servicio web que contiene un mosaico raster ortorectificado del Distrito Capital de Bogotá a partir de fotografías aéreas tomadas en el año 2015 con funciones de procesamiento
Single Fused Map Cache: false
Extent:
XMin: -8290693.09331546
YMin: 413908.6413447453
XMax: -8235905.09331546
YMax: 539622.6413447453
Spatial Reference: 102100
(3857)
LatestVCSWkid(0)
Initial Extent:
XMin: -8290693.09331546
YMin: 413908.6413447453
XMax: -8235905.09331546
YMax: 539622.6413447453
Spatial Reference: 102100
(3857)
LatestVCSWkid(0)
Full Extent:
XMin: -8290693.09331546
YMin: 413908.6413447453
XMax: -8235905.09331546
YMax: 539622.6413447453
Spatial Reference: 102100
(3857)
LatestVCSWkid(0)
Pixel Size X: 0.5
Pixel Size Y: 0.5
Band Count: 4
Pixel Type: U16
RasterFunction Infos: {"rasterFunctionInfos": [
{
"name": "2015_clip",
"description": "A raster function template.",
"help": ""
},
{
"name": "2015_NDVI",
"description": "A raster function template.",
"help": ""
},
{
"name": "2015_strech_sig",
"description": "A raster function template.",
"help": ""
},
{
"name": "2015_strech_mm",
"description": "A raster function template.",
"help": ""
},
{
"name": "2015_strech_pc",
"description": "A raster function template.",
"help": ""
},
{
"name": "2015_strech_sd",
"description": "A raster function template.",
"help": ""
},
{
"name": "None",
"description": "",
"help": ""
}
]}
Mensuration Capabilities: Basic
Inspection Capabilities:
Has Histograms: true
Has Colormap: false
Has Multi Dimensions : false
Rendering Rule:
Min Scale: 0
Max Scale: 0
Resampling: false
Copyright Text: Alcaldía Mayor de Bogotá D.C. - SHD – SDP – UAECD – IDECA
Service Data Type: esriImageServiceDataTypeGeneric
Min Values: 1, 1, 1, 1
Max Values: 2965, 3728, 3443, 6738
Mean Values: 135.11613704646, 183.30454737681, 235.4491004978, 513.73728604321
Standard Deviation Values: 92.39050579656, 113.1164749267, 95.796958764685, 243.34684176227
Object ID Field:
Fields:
None
Default Mosaic Method: Center
Allowed Mosaic Methods:
SortField:
SortValue: null
Mosaic Operator: First
Default Compression Quality: 75
Default Resampling Method: Bilinear
Max Record Count: null
Max Image Height: 4100
Max Image Width: 15000
Max Download Image Count: null
Max Mosaic Image Count: null
Allow Raster Function: true
Allow Copy: true
Allow Analysis: true
Allow Compute TiePoints: false
Supports Statistics: false
Supports Advanced Queries: false
Use StandardizedQueries: true
Raster Type Infos:
Name: Raster Dataset
Description: Supports all ArcGIS Raster Datasets
Help:
Has Raster Attribute Table: false
Edit Fields Info: null
Ownership Based AccessControl For Rasters: null
Child Resources:
Info
Histograms
Statistics
Key Properties
Legend
Raster Function Infos
Supported Operations:
Export Image
Identify
Measure
Compute Histograms
Compute Statistics Histograms
Get Samples
Compute Class Statistics
Query Boundary
Compute Pixel Location
Compute Angles
Validate
Project