View In:
ArcGIS JavaScript
ArcGIS Online Map Viewer
ArcGIS Earth
Service Description: Servicio web que contiene un mosaico raster ortorectificado del Distrito Capital de Bogotá a partir de fotografías aéreas tomadas en el año 2017 con funciones de procesamiento
Name: imagenesfunciones/ortho2017funcion
Description: Servicio web que contiene un mosaico raster ortorectificado del Distrito Capital de Bogotá a partir de fotografías aéreas tomadas en el año 2017 con funciones de procesamiento
Single Fused Map Cache: false
Extent:
XMin: -8263539.570336958
YMin: 494573.77899896726
XMax: -8235755.570336958
YMax: 540078.2789989673
Spatial Reference: 102100
(3857)
LatestVCSWkid(0)
Initial Extent:
XMin: -8263539.570336958
YMin: 494573.77899896726
XMax: -8235755.570336958
YMax: 540078.2789989673
Spatial Reference: 102100
(3857)
LatestVCSWkid(0)
Full Extent:
XMin: -8263539.570336958
YMin: 494573.77899896726
XMax: -8235755.570336958
YMax: 540078.2789989673
Spatial Reference: 102100
(3857)
LatestVCSWkid(0)
Pixel Size X: 0.25
Pixel Size Y: 0.25
Band Count: 4
Pixel Type: U16
RasterFunction Infos: {"rasterFunctionInfos": [
{
"name": "2017_clip",
"description": "A raster function template.",
"help": ""
},
{
"name": "2017_NDVI",
"description": "A raster function template.",
"help": ""
},
{
"name": "2017_strech_mm",
"description": "A raster function template.",
"help": ""
},
{
"name": "2017_strech_pc",
"description": "A raster function template.",
"help": ""
},
{
"name": "2017_strech_sd",
"description": "A raster function template.",
"help": ""
},
{
"name": "2017_strech_sig",
"description": "A raster function template.",
"help": ""
},
{
"name": "None",
"description": "",
"help": ""
}
]}
Mensuration Capabilities: Basic
Inspection Capabilities:
Has Histograms: true
Has Colormap: false
Has Multi Dimensions : false
Rendering Rule:
Min Scale: 0
Max Scale: 0
Resampling: false
Copyright Text: Alcaldía Mayor de Bogotá D.C. - SHD – SDP – UAECD – IDECA
Service Data Type: esriImageServiceDataTypeGeneric
Min Values: 1, 1, 1, 1
Max Values: 35420, 23564, 19535, 65385
Mean Values: 643.32158799728, 649.07012608667, 510.21497534427, 1368.012393644
Standard Deviation Values: 554.89507509641, 492.42125511867, 356.8250173989, 867.35141549042
Object ID Field:
Fields:
None
Default Mosaic Method: Center
Allowed Mosaic Methods:
SortField:
SortValue: null
Mosaic Operator: First
Default Compression Quality: 75
Default Resampling Method: Bilinear
Max Record Count: null
Max Image Height: 4100
Max Image Width: 15000
Max Download Image Count: null
Max Mosaic Image Count: null
Allow Raster Function: true
Allow Copy: true
Allow Analysis: true
Allow Compute TiePoints: false
Supports Statistics: false
Supports Advanced Queries: false
Use StandardizedQueries: true
Raster Type Infos:
Name: Raster Dataset
Description: Supports all ArcGIS Raster Datasets
Help:
Has Raster Attribute Table: false
Edit Fields Info: null
Ownership Based AccessControl For Rasters: null
Child Resources:
Info
Histograms
Statistics
Key Properties
Legend
Raster Function Infos
Supported Operations:
Export Image
Identify
Measure
Compute Histograms
Compute Statistics Histograms
Get Samples
Compute Class Statistics
Query Boundary
Compute Pixel Location
Compute Angles
Validate
Project