View In:
ArcGIS JavaScript
ArcGIS Online Map Viewer
ArcGIS Earth
Service Description: Mosaico del área urbana de la ciudad de Bogotá D.C. y del municipio de Soacha. El mosaico tiene un GSD de 8cm. Permite realizar estudios para cartografía 1:1.000 y 1:2.000. Su resolución radiométrica es de 8bit y su resolución espectral es de 4 bandas, contando con las bandas del azul, verde, roja e infrarroja cercana (RGB-NIR). Las imágenes insumo empleadas para su generación fueron tomadas con un sensor aerotransportado de gran formato en el año 2020. Presentan 0% de cobertura nubosa. El área de cubrimiento es de 60.000ha.
Name: imagenesfunciones/ortho2020funcion
Description: Mosaico del área urbana de la ciudad de Bogotá D.C. y del municipio de Soacha. El mosaico tiene un GSD de 8cm. Permite realizar estudios para cartografía 1:1.000 y 1:2.000. Su resolución radiométrica es de 8bit y su resolución espectral es de 4 bandas, contando con las bandas del azul, verde, roja e infrarroja cercana (RGB-NIR). Las imágenes insumo empleadas para su generación fueron tomadas con un sensor aerotransportado de gran formato en el año 2020. Presentan 0% de cobertura nubosa. El área de cubrimiento es de 60.000ha.
Single Fused Map Cache: false
Extent:
XMin: 979950.5999958067
YMin: 984602.8400003732
XMax: 1008934.9999958067
YMax: 1026933.4800003732
Spatial Reference: 3116
(3116)
LatestVCSWkid(0)
Initial Extent:
XMin: 979950.5999958067
YMin: 984602.8400003732
XMax: 1008934.9999958067
YMax: 1026933.4800003732
Spatial Reference: 3116
(3116)
LatestVCSWkid(0)
Full Extent:
XMin: 979950.5999958067
YMin: 984602.8400003732
XMax: 1008934.9999958067
YMax: 1026933.4800003732
Spatial Reference: 3116
(3116)
LatestVCSWkid(0)
Pixel Size X: 0.08000000000000007
Pixel Size Y: 0.08000000000000003
Band Count: 4
Pixel Type: U8
RasterFunction Infos: {"rasterFunctionInfos": [
{
"name": "None",
"description": "A No-Op Function.",
"help": ""
},
{
"name": "2020_strech_sd",
"description": "A raster function template.",
"help": ""
},
{
"name": "2020_NDVI",
"description": "A raster function template.",
"help": ""
},
{
"name": "2020_strech_mm",
"description": "A raster function template.",
"help": ""
},
{
"name": "2020_strech_pc",
"description": "A raster function template.",
"help": ""
},
{
"name": "2020_strech_sig",
"description": "A raster function template.",
"help": ""
}
]}
Mensuration Capabilities: None
Inspection Capabilities:
Has Histograms: true
Has Colormap: false
Has Multi Dimensions : false
Rendering Rule:
Min Scale: 0
Max Scale: 0
Resampling: false
Copyright Text: Empresa de Acueducto y Alcantarillado de Bogotá ESP - EAAB.
Service Data Type: esriImageServiceDataTypeGeneric
Min Values: 1, 1, 1, 1
Max Values: 236, 222, 216, 253
Mean Values: 104.13170753403031, 109.16841437059439, 93.68990738887224, 108.55274346051446
Standard Deviation Values: 37.392294864849376, 29.371021838843372, 28.224067217955607, 29.921529057397592
Object ID Field: OBJECTID
Fields:
-
OBJECTID
(
type: esriFieldTypeOID, alias: OBJECTID
)
-
Shape
(
type: esriFieldTypeGeometry, alias: Shape
)
-
Name
(
type: esriFieldTypeString, alias: Name, length: 200
)
-
MinPS
(
type: esriFieldTypeDouble, alias: MinPS
)
-
MaxPS
(
type: esriFieldTypeDouble, alias: MaxPS
)
-
LowPS
(
type: esriFieldTypeDouble, alias: LowPS
)
-
HighPS
(
type: esriFieldTypeDouble, alias: HighPS
)
-
Category
(
type: esriFieldTypeInteger, alias: Category
, Coded Values:
[0: Unknown]
, [1: Primary]
, [2: Overview]
, ...6 more...
)
-
Tag
(
type: esriFieldTypeString, alias: Tag, length: 100
)
-
GroupName
(
type: esriFieldTypeString, alias: GroupName, length: 100
)
-
ProductName
(
type: esriFieldTypeString, alias: ProductName, length: 100
)
-
CenterX
(
type: esriFieldTypeDouble, alias: CenterX
)
-
CenterY
(
type: esriFieldTypeDouble, alias: CenterY
)
-
ZOrder
(
type: esriFieldTypeInteger, alias: ZOrder
)
-
Shape_Length
(
type: esriFieldTypeDouble, alias: Shape_Length
)
-
Shape_Area
(
type: esriFieldTypeDouble, alias: Shape_Area
)
Default Mosaic Method: Northwest
Allowed Mosaic Methods: NorthWest,Center,LockRaster,ByAttribute,Nadir,Viewpoint,Seamline,None
SortField:
SortValue: null
Mosaic Operator: First
Default Compression Quality: 75
Default Resampling Method: Bilinear
Max Record Count: 0
Max Image Height: 4100
Max Image Width: 15000
Max Download Image Count: 0
Max Mosaic Image Count: 20
Allow Raster Function: true
Allow Copy: true
Allow Analysis: true
Allow Compute TiePoints: false
Supports Statistics: true
Supports Advanced Queries: true
Use StandardizedQueries: true
Raster Type Infos:
Name: Raster Dataset
Description: Supports all ArcGIS Raster Datasets
Help:
Has Raster Attribute Table: false
Edit Fields Info: null
Ownership Based AccessControl For Rasters: null
Child Resources:
Info
Histograms
Statistics
Key Properties
Legend
Raster Function Infos
Supported Operations:
Export Image
Query
Identify
Measure
Compute Histograms
Compute Statistics Histograms
Get Samples
Compute Class Statistics
Query GPS Info
Find Images
Image to Map
Map to Image
Measure from Image
Image to Map Multiray
Query Boundary
Compute Pixel Location
Compute Angles
Validate
Project