View In:
ArcGIS JavaScript
ArcGIS Online Map Viewer
ArcGIS Earth
Service Description: Este producto contiene un mosaico raster ortorectificado de la zona rural de Bogotá cubriendo parte de las localidades de Usme, Ciudad Bolívar y Sumapaz, correspondientes a 103.000 hectáreas aproximadamente. Cuenta con 4 bandas del espectro electromagnético: Rojo, Verde, Azul e Infrarrojo Cercano, permitiendo crear un falso color para aplicaciones forestales.
Name: imagenesfunciones/orthoRural2020funcion
Description: Este producto contiene un mosaico raster ortorectificado de la zona rural de Bogotá cubriendo parte de las localidades de Usme, Ciudad Bolívar y Sumapaz, correspondientes a 103.000 hectáreas aproximadamente. Cuenta con 4 bandas del espectro electromagnético: Rojo, Verde, Azul e Infrarrojo Cercano, permitiendo crear un falso color para aplicaciones forestales.
Single Fused Map Cache: false
Extent:
XMin: -8288497.743181088
YMin: 414659.2709561636
XMax: -8246805.743181088
YMax: 496610.67095616314
Spatial Reference: 102100
(3857)
LatestVCSWkid(0)
Initial Extent:
XMin: -8288497.743181088
YMin: 414659.2709561636
XMax: -8246805.743181088
YMax: 496610.67095616314
Spatial Reference: 102100
(3857)
LatestVCSWkid(0)
Full Extent:
XMin: -8288497.743181088
YMin: 414659.2709561636
XMax: -8246805.743181088
YMax: 496610.67095616314
Spatial Reference: 102100
(3857)
LatestVCSWkid(0)
Pixel Size X: 0.2
Pixel Size Y: 0.19999999999999893
Band Count: 4
Pixel Type: U8
RasterFunction Infos: {"rasterFunctionInfos": [
{
"name": "sumapaz_clip",
"description": "A raster function template.",
"help": ""
},
{
"name": "sumapaz_NDVI",
"description": "A raster function template.",
"help": ""
},
{
"name": "sumapaz_strech_mm",
"description": "A raster function template.",
"help": ""
},
{
"name": "sumapaz_strech_pc",
"description": "A raster function template.",
"help": ""
},
{
"name": "sumapaz_strech_sd",
"description": "A raster function template.",
"help": ""
},
{
"name": "sumapaz_strech_sig",
"description": "A raster function template.",
"help": ""
},
{
"name": "None",
"description": "",
"help": ""
}
]}
Mensuration Capabilities: Basic
Inspection Capabilities:
Has Histograms: false
Has Colormap: false
Has Multi Dimensions : false
Rendering Rule:
Min Scale: 0
Max Scale: 0
Resampling: false
Copyright Text: Alcaldía Mayor de Bogotá D.C.
Service Data Type: esriImageServiceDataTypeGeneric
Min Values: N/A
Max Values: N/A
Mean Values: N/A
Standard Deviation Values: N/A
Object ID Field:
Fields:
None
Default Mosaic Method: Center
Allowed Mosaic Methods:
SortField:
SortValue: null
Mosaic Operator: First
Default Compression Quality: 75
Default Resampling Method: Bilinear
Max Record Count: null
Max Image Height: 4100
Max Image Width: 15000
Max Download Image Count: null
Max Mosaic Image Count: null
Allow Raster Function: true
Allow Copy: true
Allow Analysis: true
Allow Compute TiePoints: false
Supports Statistics: false
Supports Advanced Queries: false
Use StandardizedQueries: true
Raster Type Infos:
Name: Raster Dataset
Description: Supports all ArcGIS Raster Datasets
Help:
Has Raster Attribute Table: false
Edit Fields Info: null
Ownership Based AccessControl For Rasters: null
Child Resources:
Info
Statistics
Key Properties
Legend
Raster Function Infos
Supported Operations:
Export Image
Identify
Measure
Compute Histograms
Compute Statistics Histograms
Get Samples
Compute Class Statistics
Query Boundary
Compute Pixel Location
Compute Angles
Validate
Project