View In:
ArcGIS JavaScript
ArcGIS Online Map Viewer
ArcGIS Earth
Service Description: Este conjunto de datos contiene ortofotoimágenes de alta resolución espacial (GSD 10 cm) para los centros poblados de la ruralidad de Bogotá. DETALLES TÉCNICOS: Fechas de toma: 23 de septiembre de 2025 al 27 de septiembre de 2025. Sensor: Riegl VQ-580II. Resolución GSD: 10 cm. Sistema de Coordenadas: GCS WGS 1984 (EPSG: 4326). Bandas: 4 (RGBI). COBERTURA: Nazareth, Pasquilla, San Juan, Betania, La Unión, Mochuelo Alto, El Destino, Nueva Granada, Quiba Bajo.
Name: imagenesfunciones/orthocentrospoblados2025funcion
Description: Este conjunto de datos contiene ortofotoimágenes de alta resolución espacial (GSD 10 cm) para los centros poblados de la ruralidad de Bogotá. DETALLES TÉCNICOS: Fechas de toma: 23 de septiembre de 2025 al 27 de septiembre de 2025. Sensor: Riegl VQ-580II. Resolución GSD: 10 cm. Sistema de Coordenadas: GCS WGS 1984 (EPSG: 4326). Bandas: 4 (RGBI). COBERTURA: Nazareth, Pasquilla, San Juan, Betania, La Unión, Mochuelo Alto, El Destino, Nueva Granada, Quiba Bajo.
Single Fused Map Cache: false
Extent:
XMin: -74.36722748234266
YMin: 3.8864129883522245
XMax: -74.13563181527138
YMax: 4.532454167572469
Spatial Reference: 4326
(4326)
LatestVCSWkid(0)
Initial Extent:
XMin: -74.36722748234266
YMin: 3.8864129883522245
XMax: -74.13563181527138
YMax: 4.532454167572469
Spatial Reference: 4326
(4326)
LatestVCSWkid(0)
Full Extent:
XMin: -74.36722748234266
YMin: 3.8864129883522245
XMax: -74.13563181527138
YMax: 4.532454167572469
Spatial Reference: 4326
(4326)
LatestVCSWkid(0)
Pixel Size X: 4.5213306367127806E-7
Pixel Size Y: 4.5213306367128574E-7
Band Count: 4
Pixel Type: U8
RasterFunction Infos: {"rasterFunctionInfos": [
{
"name": "None",
"description": "Make a Raster or Raster Dataset into a Function Raster Dataset.",
"help": ""
},
{
"name": "ColorBalance",
"description": "Balance de color entre mosaicos.",
"help": ""
},
{
"name": "FalseColor_CIR",
"description": "Falso Color Infrarrojo: R=NIR(B4), G=Rojo(B1), B=Verde(B2).",
"help": ""
},
{
"name": "NDVI_Colorized",
"description": "NDVI coloreado automaticamente usando el colormap NDVI3 de Esri.",
"help": ""
},
{
"name": "Stretch_SD",
"description": "Stretch por 2 Desviaciones Estandar con DRA.",
"help": ""
}
]}
Mensuration Capabilities: NONE
Inspection Capabilities:
Has Histograms: true
Has Colormap: false
Has Multi Dimensions : false
Rendering Rule:
Min Scale: 0
Max Scale: 0
Resampling: false
Copyright Text: Unidad Administrativa Especial de Catastro Distrital - UAECD
Service Data Type: esriImageServiceDataTypeGeneric
Min Values: 0, 0, 0, 0
Max Values: 254, 254, 254, 242
Mean Values: 75.32749492938622, 73.22330728721765, 44.38912641879675, 95.21964754870964
Standard Deviation Values: 32.79145343159378, 28.65432397805297, 28.96116919640704, 26.34253037599989
Object ID Field: OBJECTID
Fields:
-
OBJECTID
(
type: esriFieldTypeOID, alias: OBJECTID
)
-
Shape
(
type: esriFieldTypeGeometry, alias: Shape
)
-
Name
(
type: esriFieldTypeString, alias: Name, length: 200
)
-
MinPS
(
type: esriFieldTypeDouble, alias: MinPS
)
-
MaxPS
(
type: esriFieldTypeDouble, alias: MaxPS
)
-
LowPS
(
type: esriFieldTypeDouble, alias: LowPS
)
-
HighPS
(
type: esriFieldTypeDouble, alias: HighPS
)
-
Category
(
type: esriFieldTypeInteger, alias: Category
, Coded Values:
[0: Unknown]
, [1: Primary]
, [2: Overview]
, ...6 more...
)
-
Tag
(
type: esriFieldTypeString, alias: Tag, length: 100
)
-
GroupName
(
type: esriFieldTypeString, alias: GroupName, length: 100
)
-
ProductName
(
type: esriFieldTypeString, alias: ProductName, length: 100
)
-
CenterX
(
type: esriFieldTypeDouble, alias: CenterX
)
-
CenterY
(
type: esriFieldTypeDouble, alias: CenterY
)
-
ZOrder
(
type: esriFieldTypeInteger, alias: ZOrder
)
-
Shape_Length
(
type: esriFieldTypeDouble, alias: Shape_Length
)
-
Shape_Area
(
type: esriFieldTypeDouble, alias: Shape_Area
)
Default Mosaic Method: Center
Allowed Mosaic Methods: Center,NorthWest,Nadir,LockRaster,ByAttribute,Seamline,None
SortField:
SortValue: null
Mosaic Operator: First
Default Compression Quality: 75
Default Resampling Method: Bilinear
Max Record Count: 2000
Max Image Height: 10000
Max Image Width: 10000
Max Download Image Count: 0
Max Mosaic Image Count: 30
Allow Raster Function: true
Allow Copy: true
Allow Analysis: true
Allow Compute TiePoints: false
Supports Statistics: true
Supports Advanced Queries: true
Use StandardizedQueries: true
Raster Type Infos:
Name: Raster Dataset
Description: Supports all ArcGIS Raster Datasets
Help:
Has Raster Attribute Table: false
Edit Fields Info: null
Ownership Based AccessControl For Rasters: null
Child Resources:
Info
Histograms
Statistics
Key Properties
Legend
Raster Function Infos
Supported Operations:
Export Image
Query
Identify
Measure
Compute Histograms
Compute Statistics Histograms
Get Samples
Compute Class Statistics
Query GPS Info
Find Images
Image to Map
Map to Image
Measure from Image
Image to Map Multiray
Query Boundary
Compute Pixel Location
Compute Angles
Validate
Project