View In:
ArcGIS JavaScript
ArcGIS Online Map Viewer
ArcGIS Earth
Service Description: Este conjunto de datos contiene el mosaico de ortoimágenes de los Cerros Orientales de Bogotá D.C. El producto fue recibido de la Secretaría Distrital de Planeación (SDP), en el marco de la entrega de productos de cartografía básica adquiridos por la entidad. La documentación técnica del proyecto identifica el área de los Cerros Orientales a escala 1:5.000, con un área de proyecto de 15.215 ha aproximadamente. El ráster fuente OrtoCerrosOrientales2025 tiene tamaño de pixel de 0,25 m y se documenta en este mosaico como GSD 25 cm. Los insumos fueron capturados el 14 de febrero de 2025 mediante sistema combinado Riegl VQ580II y cámara Phase One iXM-RS 150F. El sistema de referencia original corresponde a Transverse Mercator local documentado en OrtoCerrosOrientales2025.prj; el mosaic dataset fue creado en GCS WGS 1984 (EPSG:4326). El producto contiene 4 bandas de 8 bits (RGBI). El valor NoData del producto es blanco 255 y el boundary/footprint del mosaic dataset fue construido con GDAL a partir de los pixeles distintos de 255.
Name: imagenesfunciones/orthocerros2025funcion
Description: Este conjunto de datos contiene el mosaico de ortoimágenes de los Cerros Orientales de Bogotá D.C. El producto fue recibido de la Secretaría Distrital de Planeación (SDP), en el marco de la entrega de productos de cartografía básica adquiridos por la entidad. La documentación técnica del proyecto identifica el área de los Cerros Orientales a escala 1:5.000, con un área de proyecto de 15.215 ha aproximadamente. El ráster fuente OrtoCerrosOrientales2025 tiene tamaño de pixel de 0,25 m y se documenta en este mosaico como GSD 25 cm. Los insumos fueron capturados el 14 de febrero de 2025 mediante sistema combinado Riegl VQ580II y cámara Phase One iXM-RS 150F. El sistema de referencia original corresponde a Transverse Mercator local documentado en OrtoCerrosOrientales2025.prj; el mosaic dataset fue creado en GCS WGS 1984 (EPSG:4326). El producto contiene 4 bandas de 8 bits (RGBI). El valor NoData del producto es blanco 255 y el boundary/footprint del mosaic dataset fue construido con GDAL a partir de los pixeles distintos de 255.
Single Fused Map Cache: false
Extent:
XMin: -74.09183704399999
YMin: 4.46006708859248
XMax: -73.98998156551009
YMax: 4.826182220000021
Spatial Reference: 4326
(4326)
LatestVCSWkid(0)
Initial Extent:
XMin: -74.09183704399999
YMin: 4.46006708859248
XMax: -73.98998156551009
YMax: 4.826182220000021
Spatial Reference: 4326
(4326)
LatestVCSWkid(0)
Full Extent:
XMin: -74.09183704399999
YMin: 4.46006708859248
XMax: -73.98998156551009
YMax: 4.826182220000021
Spatial Reference: 4326
(4326)
LatestVCSWkid(0)
Pixel Size X: 2.2457882102988777E-6
Pixel Size Y: 2.2457882102988014E-6
Band Count: 4
Pixel Type: U8
RasterFunction Infos: {"rasterFunctionInfos": [
{
"name": "ColorBalance_Rural",
"description": "Vista natural RGB para el mosaico Rural tras balance de color.",
"help": ""
},
{
"name": "FalseColor_CIR",
"description": "Falso color infrarrojo Rural con R=NIR (B4), G=Rojo (B1) y B=Verde (B2).",
"help": ""
},
{
"name": "NDVI_Colorized_Rural",
"description": "Calcula NDVI Rural usando rojo=B1 (0) y NIR=B4 (3).",
"help": ""
},
{
"name": "Stretch_SD_Rural",
"description": "Stretch por 2 desviaciones estandar con DRA sobre la vista RGB natural del mosaico Rural.",
"help": ""
},
{
"name": "None",
"description": "Make a Raster or Raster Dataset into a Function Raster Dataset.",
"help": ""
}
]}
Mensuration Capabilities:
Inspection Capabilities:
Has Histograms: false
Has Colormap: false
Has Multi Dimensions : false
Rendering Rule:
Min Scale: 0
Max Scale: 0
Resampling: false
Copyright Text: Producto entregado por la Secretaría Distrital de Planeación (SDP). Generación y procesamiento técnico reportados por Sistemas de Información Geográfica de Latinoamérica (SIGLA S.A.S.).
Service Data Type: esriImageServiceDataTypeGeneric
Min Values: N/A
Max Values: N/A
Mean Values: N/A
Standard Deviation Values: N/A
Object ID Field: OBJECTID
Fields:
-
OBJECTID
(
type: esriFieldTypeOID, alias: OBJECTID
)
-
Shape
(
type: esriFieldTypeGeometry, alias: Shape
)
-
Name
(
type: esriFieldTypeString, alias: Name, length: 200
)
-
MinPS
(
type: esriFieldTypeDouble, alias: MinPS
)
-
MaxPS
(
type: esriFieldTypeDouble, alias: MaxPS
)
-
LowPS
(
type: esriFieldTypeDouble, alias: LowPS
)
-
HighPS
(
type: esriFieldTypeDouble, alias: HighPS
)
-
Category
(
type: esriFieldTypeInteger, alias: Category
, Coded Values:
[0: Unknown]
, [1: Primary]
, [2: Overview]
, ...6 more...
)
-
Tag
(
type: esriFieldTypeString, alias: Tag, length: 100
)
-
GroupName
(
type: esriFieldTypeString, alias: GroupName, length: 100
)
-
ProductName
(
type: esriFieldTypeString, alias: ProductName, length: 100
)
-
CenterX
(
type: esriFieldTypeDouble, alias: CenterX
)
-
CenterY
(
type: esriFieldTypeDouble, alias: CenterY
)
-
ZOrder
(
type: esriFieldTypeInteger, alias: ZOrder
)
-
Shape_Length
(
type: esriFieldTypeDouble, alias: Shape_Length
)
-
Shape_Area
(
type: esriFieldTypeDouble, alias: Shape_Area
)
Default Mosaic Method: Northwest
Allowed Mosaic Methods: NorthWest,Center,LockRaster,ByAttribute,Nadir,Viewpoint,Seamline,None
SortField:
SortValue: null
Mosaic Operator: First
Default Compression Quality: 75
Default Resampling Method: Bilinear
Max Record Count: 1000
Max Image Height: 4100
Max Image Width: 15000
Max Download Image Count: 0
Max Mosaic Image Count: 20
Allow Raster Function: true
Allow Copy: true
Allow Analysis: true
Allow Compute TiePoints: false
Supports Statistics: true
Supports Advanced Queries: true
Use StandardizedQueries: true
Raster Type Infos:
Name: Raster Dataset
Description: Supports all ArcGIS Raster Datasets
Help:
Has Raster Attribute Table: false
Edit Fields Info: null
Ownership Based AccessControl For Rasters: null
Child Resources:
Info
Statistics
Key Properties
Legend
Raster Function Infos
Supported Operations:
Export Image
Identify
Compute Histograms
Compute Statistics Histograms
Get Samples
Compute Class Statistics
Query Boundary
Compute Pixel Location
Compute Angles
Validate
Project