View In:
ArcGIS JavaScript
ArcGIS Online Map Viewer
ArcGIS Earth
Service Description: Mosaico de ortoimágenes con cubrimiento de aproximadamente 313 hectáreas en zonas urbanas y rurales de la ciudad de Bogotá D.C. con dinámica de construcciones nuevas. Permite la generación de cartografía básica y estudios temáticos a escala 1:1.000. Su resolución radiométrica es de 8bits y su resolución espectral es de 3 bandas. Las imágenes insumo empleadas para su generación cuentan con un Ground Sample Distance – GSD entre 3cm y 10cm y fueron capturadas en el año 2023 mediante drones Wingtra One Gen II de la Unidad Administrativa Especial de Catastro Distrital – UAECD.Sobre cada Ortoimagen generada se realizó la evaluación de precisión posicional horizontal, tomando 20 puntos sobre la “Ortoimagen para el área urbana de la ciudad de Bogotá D.C 2020” y comparando estadísticamente con las coordenadas de los mismos detalles identificados. Encontrando entre esos datos el valor del error medio cuadrático radial (RMSEr), siendo este en todos los casos conforme respecto a los valores de aceptación de acuerdo con la Resolución 471 de 2020del Instituto Geográfico Agustín Codazzi – IGAC.
Name: imagenesfunciones/orthodron2023funcion
Description: Mosaico de ortoimágenes con cubrimiento de aproximadamente 313 hectáreas en zonas urbanas y rurales de la ciudad de Bogotá D.C. con dinámica de construcciones nuevas. Permite la generación de cartografía básica y estudios temáticos a escala 1:1.000. Su resolución radiométrica es de 8bits y su resolución espectral es de 3 bandas. Las imágenes insumo empleadas para su generación cuentan con un Ground Sample Distance – GSD entre 3cm y 10cm y fueron capturadas en el año 2023 mediante drones Wingtra One Gen II de la Unidad Administrativa Especial de Catastro Distrital – UAECD.Sobre cada Ortoimagen generada se realizó la evaluación de precisión posicional horizontal, tomando 20 puntos sobre la “Ortoimagen para el área urbana de la ciudad de Bogotá D.C 2020” y comparando estadísticamente con las coordenadas de los mismos detalles identificados. Encontrando entre esos datos el valor del error medio cuadrático radial (RMSEr), siendo este en todos los casos conforme respecto a los valores de aceptación de acuerdo con la Resolución 471 de 2020del Instituto Geográfico Agustín Codazzi – IGAC.
Single Fused Map Cache: false
Extent:
XMin: -74.21540100057385
YMin: 4.486802224862231
XMax: -74.01672045202811
YMax: 4.740401387586747
Spatial Reference: 4326
(4326)
LatestVCSWkid(0)
Initial Extent:
XMin: -74.21540100057385
YMin: 4.486802224862231
XMax: -74.01672045202811
YMax: 4.740401387586747
Spatial Reference: 4326
(4326)
LatestVCSWkid(0)
Full Extent:
XMin: -74.21540100057385
YMin: 4.486802224862231
XMax: -74.01672045202811
YMax: 4.740401387586747
Spatial Reference: 4326
(4326)
LatestVCSWkid(0)
Pixel Size X: 2.468651744946511E-7
Pixel Size Y: 2.468651744946509E-7
Band Count: 3
Pixel Type: U8
RasterFunction Infos: {"rasterFunctionInfos": [
{
"name": "2023dron_clip",
"description": "A raster function template.",
"help": ""
},
{
"name": "2023dron_strech_standesv",
"description": "A raster function template.",
"help": ""
},
{
"name": "2023dron_strech_minmax.rft",
"description": "A raster function template.",
"help": ""
},
{
"name": "2023dron_strech_percclip",
"description": "A raster function template.",
"help": ""
},
{
"name": "2023dron_strech_sigmoid",
"description": "A raster function template.",
"help": ""
},
{
"name": "None",
"description": "",
"help": ""
}
]}
Mensuration Capabilities: None
Inspection Capabilities:
Has Histograms: true
Has Colormap: false
Has Multi Dimensions : false
Rendering Rule:
Min Scale: 0
Max Scale: 0
Resampling: false
Copyright Text: Infraestructura de Datos Espaciales para el Distrito Capital – IDECA / Unidad Administrativa Especial de Catastro Distrital – UAECD.
Service Data Type: esriImageServiceDataTypeRGB
Min Values: 16, 23, 6
Max Values: 234, 227, 225
Mean Values: 118.51401528940656, 117.47863123407299, 103.0206771022937
Standard Deviation Values: 26.89047498058707, 24.18947565290626, 28.347797977788854
Object ID Field: OBJECTID
Fields:
-
OBJECTID
(
type: esriFieldTypeOID, alias: OBJECTID
)
-
Shape
(
type: esriFieldTypeGeometry, alias: Shape
)
-
Name
(
type: esriFieldTypeString, alias: Name, length: 200
)
-
MinPS
(
type: esriFieldTypeDouble, alias: MinPS
)
-
MaxPS
(
type: esriFieldTypeDouble, alias: MaxPS
)
-
LowPS
(
type: esriFieldTypeDouble, alias: LowPS
)
-
HighPS
(
type: esriFieldTypeDouble, alias: HighPS
)
-
Category
(
type: esriFieldTypeInteger, alias: Category
, Coded Values:
[0: Unknown]
, [1: Primary]
, [2: Overview]
, ...6 more...
)
-
Tag
(
type: esriFieldTypeString, alias: Tag, length: 100
)
-
GroupName
(
type: esriFieldTypeString, alias: GroupName, length: 100
)
-
ProductName
(
type: esriFieldTypeString, alias: ProductName, length: 100
)
-
CenterX
(
type: esriFieldTypeDouble, alias: CenterX
)
-
CenterY
(
type: esriFieldTypeDouble, alias: CenterY
)
-
ZOrder
(
type: esriFieldTypeInteger, alias: ZOrder
)
-
Shape_Length
(
type: esriFieldTypeDouble, alias: Shape_Length
)
-
Shape_Area
(
type: esriFieldTypeDouble, alias: Shape_Area
)
Default Mosaic Method: Northwest
Allowed Mosaic Methods: NorthWest,Center,LockRaster,ByAttribute,Nadir,Viewpoint,Seamline,None
SortField:
SortValue: null
Mosaic Operator: First
Default Compression Quality: 75
Default Resampling Method: Bilinear
Max Record Count: 1000
Max Image Height: 4100
Max Image Width: 15000
Max Download Image Count: 0
Max Mosaic Image Count: 20
Allow Raster Function: true
Allow Copy: true
Allow Analysis: true
Allow Compute TiePoints: false
Supports Statistics: true
Supports Advanced Queries: true
Use StandardizedQueries: true
Raster Type Infos:
Name: Raster Dataset
Description: Supports all ArcGIS Raster Datasets
Help:
Has Raster Attribute Table: false
Edit Fields Info: null
Ownership Based AccessControl For Rasters: null
Child Resources:
Info
Histograms
Statistics
Key Properties
Legend
Raster Function Infos
Supported Operations:
Export Image
Query
Identify
Compute Histograms
Compute Statistics Histograms
Get Samples
Compute Class Statistics
Query GPS Info
Find Images
Image to Map
Map to Image
Measure from Image
Image to Map Multiray
Query Boundary
Compute Pixel Location
Compute Angles
Validate
Project