View In:
ArcGIS JavaScript
ArcGIS Online Map Viewer
ArcGIS Earth
Service Description: Mosaico de ortoimágenes que abarca aproximadamente 941 hectáreas en zonas urbanas y rurales de Bogotá D.C., documentando la dinámica de construcciones nuevas. Este material permite la creación de cartografía básica y estudios temáticos a escala 1:1.000, con una resolución radiométrica de 8 bits y espectral de 3 bandas. Las imágenes base utilizadas presentan un Ground Sample Distance (GSD) entre 3 cm y 10 cm, capturadas durante 2024 mediante drones Wingtra One Gen II operados por la Unidad Administrativa Especial de Catastro Distrital (UAECD). La evaluación de precisión posicional horizontal se realizó sobre cada ortoimagen generada, mediante la comparación de 20 puntos de control con la "Ortoimagen para el área urbana de la ciudad de Bogotá D.C. 2020". El análisis estadístico permitió determinar el error medio cuadrático radial (RMSEr), verificando en todos los casos el cumplimiento de los valores de aceptación establecidos por la Resolución 471 de 2020 del Instituto Geográfico Agustín Codazzi (IGAC).
Name: imagenesfunciones/orthodron2024funcion
Description: Mosaico de ortoimágenes que abarca aproximadamente 941 hectáreas en zonas urbanas y rurales de Bogotá D.C., documentando la dinámica de construcciones nuevas. Este material permite la creación de cartografía básica y estudios temáticos a escala 1:1.000, con una resolución radiométrica de 8 bits y espectral de 3 bandas. Las imágenes base utilizadas presentan un Ground Sample Distance (GSD) entre 3 cm y 10 cm, capturadas durante 2024 mediante drones Wingtra One Gen II operados por la Unidad Administrativa Especial de Catastro Distrital (UAECD). La evaluación de precisión posicional horizontal se realizó sobre cada ortoimagen generada, mediante la comparación de 20 puntos de control con la "Ortoimagen para el área urbana de la ciudad de Bogotá D.C. 2020". El análisis estadístico permitió determinar el error medio cuadrático radial (RMSEr), verificando en todos los casos el cumplimiento de los valores de aceptación establecidos por la Resolución 471 de 2020 del Instituto Geográfico Agustín Codazzi (IGAC).
Single Fused Map Cache: false
Extent:
XMin: -74.21653538574536
YMin: 4.4424347842952985
XMax: -74.0063757494747
YMax: 4.765001906782322
Spatial Reference: 4326
(4326)
LatestVCSWkid(0)
Initial Extent:
XMin: -74.21653538574536
YMin: 4.4424347842952985
XMax: -74.0063757494747
YMax: 4.765001906782322
Spatial Reference: 4326
(4326)
LatestVCSWkid(0)
Full Extent:
XMin: -74.21653538574536
YMin: 4.4424347842952985
XMax: -74.0063757494747
YMax: 4.765001906782322
Spatial Reference: 4326
(4326)
LatestVCSWkid(0)
Pixel Size X: 1.8082961517768514E-7
Pixel Size Y: 1.8082961517768262E-7
Band Count: 3
Pixel Type: U16
RasterFunction Infos: {"rasterFunctionInfos": [
{
"name": "2024dron_clip",
"description": "A raster function template.",
"help": ""
},
{
"name": "2024dron_strech_standesv",
"description": "A raster function template.",
"help": ""
},
{
"name": "2024dron_strech_minmax",
"description": "A raster function template.",
"help": ""
},
{
"name": "2024dron_strech_percminmax",
"description": "A raster function template.",
"help": ""
},
{
"name": "2024dron_strech_sigmoid",
"description": "A raster function template.",
"help": ""
},
{
"name": "None",
"description": "",
"help": ""
}
]}
Mensuration Capabilities: None
Inspection Capabilities:
Has Histograms: true
Has Colormap: false
Has Multi Dimensions : false
Rendering Rule:
Min Scale: 0
Max Scale: 0
Resampling: false
Copyright Text: Infraestructura de Datos Espaciales para el Distrito Capital – IDECA / Unidad Administrativa Especial de Catastro Distrital – UAECD.
Service Data Type: esriImageServiceDataTypeGeneric
Min Values: 0, 0, 0
Max Values: 255, 255, 255
Mean Values: 119.24694468484873, 123.39899626524137, 106.3367900122526
Standard Deviation Values: 49.60044279229764, 45.19996090798096, 49.40624170124296
Object ID Field: OBJECTID
Fields:
-
OBJECTID
(
type: esriFieldTypeOID, alias: OBJECTID
)
-
Shape
(
type: esriFieldTypeGeometry, alias: Shape
)
-
Name
(
type: esriFieldTypeString, alias: Name, length: 200
)
-
MinPS
(
type: esriFieldTypeDouble, alias: MinPS
)
-
MaxPS
(
type: esriFieldTypeDouble, alias: MaxPS
)
-
LowPS
(
type: esriFieldTypeDouble, alias: LowPS
)
-
HighPS
(
type: esriFieldTypeDouble, alias: HighPS
)
-
Category
(
type: esriFieldTypeInteger, alias: Category
, Coded Values:
[0: Unknown]
, [1: Primary]
, [2: Overview]
, ...6 more...
)
-
Tag
(
type: esriFieldTypeString, alias: Tag, length: 100
)
-
GroupName
(
type: esriFieldTypeString, alias: GroupName, length: 100
)
-
ProductName
(
type: esriFieldTypeString, alias: ProductName, length: 100
)
-
CenterX
(
type: esriFieldTypeDouble, alias: CenterX
)
-
CenterY
(
type: esriFieldTypeDouble, alias: CenterY
)
-
ZOrder
(
type: esriFieldTypeInteger, alias: ZOrder
)
-
Shape_Length
(
type: esriFieldTypeDouble, alias: Shape_Length
)
-
Shape_Area
(
type: esriFieldTypeDouble, alias: Shape_Area
)
Default Mosaic Method: Northwest
Allowed Mosaic Methods: NorthWest,Center,LockRaster,ByAttribute,Nadir,Viewpoint,Seamline,None
SortField:
SortValue: null
Mosaic Operator: First
Default Compression Quality: 75
Default Resampling Method: Bilinear
Max Record Count: 1000
Max Image Height: 4100
Max Image Width: 15000
Max Download Image Count: 0
Max Mosaic Image Count: 20
Allow Raster Function: true
Allow Copy: true
Allow Analysis: true
Allow Compute TiePoints: false
Supports Statistics: true
Supports Advanced Queries: true
Use StandardizedQueries: true
Raster Type Infos:
Name: Raster Dataset
Description: Supports all ArcGIS Raster Datasets
Help:
Has Raster Attribute Table: false
Edit Fields Info: null
Ownership Based AccessControl For Rasters: null
Child Resources:
Info
Histograms
Statistics
Key Properties
Legend
Raster Function Infos
Supported Operations:
Export Image
Query
Identify
Compute Histograms
Compute Statistics Histograms
Get Samples
Compute Class Statistics
Query GPS Info
Find Images
Image to Map
Map to Image
Measure from Image
Image to Map Multiray
Query Boundary
Compute Pixel Location
Compute Angles
Validate
Project