View In:
ArcGIS JavaScript
ArcGIS Online Map Viewer
ArcGIS Earth
Service Description: La Ortoimagen Satelital de la Zona Rural de Bogotá D.C. es un producto cartográfico básico en formato ráster, procesado geométricamente para corregir las distorsiones inherentes a la captura y topografía, formando una representación cartográfica precisa.
Características técnicas del producto:
- Extensión: ~107.304 Ha (Zona rural al sur de Bogotá D.C.).
- Escala de aplicación: 1:10.000.
- Resolución espacial (GSD/Pixel): 0.50 m.
- Bandas espectrales: 4 bandas (Rojo, Verde, Azul e Infrarrojo Cercano - RGB+NIR).
- Sensores satelitales: EarthScanner y Pléiades 1A/1B.
- Total de imágenes que conforman el mosaico: 32 imágenes satelitales obtenidas en 2024 y/o 2025.
- Control Terrestre: Se utilizaron un total de 1.235 Tie Points automáticos y 144 puntos de control y/o chequeo.
- Precisión de la Aerotriangulación (RMS): X=0.107 m, Y=0.130 m, Z=0.015 m.
- Método de ajuste radiométrico: Lineal (con edición exhaustiva de líneas de costura debido a nubosidad).
Generado por: SIGLA S.A.S. — Sistemas de Información Geográfica de Latinoamérica
Contrato/Autoridad: Unidad Administrativa Especial de Catastro Distrital (UAECD).
Normas aplicadas: Resoluciones IGAC 471/2020, 529/2020, 1421/2021, 197/2022 y 1040/2023.
Name: imagenesfunciones/orthorural2025funcion
Description: La Ortoimagen Satelital de la Zona Rural de Bogotá D.C. es un producto cartográfico básico en formato ráster, procesado geométricamente para corregir las distorsiones inherentes a la captura y topografía, formando una representación cartográfica precisa.
Características técnicas del producto:
- Extensión: ~107.304 Ha (Zona rural al sur de Bogotá D.C.).
- Escala de aplicación: 1:10.000.
- Resolución espacial (GSD/Pixel): 0.50 m.
- Bandas espectrales: 4 bandas (Rojo, Verde, Azul e Infrarrojo Cercano - RGB+NIR).
- Sensores satelitales: EarthScanner y Pléiades 1A/1B.
- Total de imágenes que conforman el mosaico: 32 imágenes satelitales obtenidas en 2024 y/o 2025.
- Control Terrestre: Se utilizaron un total de 1.235 Tie Points automáticos y 144 puntos de control y/o chequeo.
- Precisión de la Aerotriangulación (RMS): X=0.107 m, Y=0.130 m, Z=0.015 m.
- Método de ajuste radiométrico: Lineal (con edición exhaustiva de líneas de costura debido a nubosidad).
Generado por: SIGLA S.A.S. — Sistemas de Información Geográfica de Latinoamérica
Contrato/Autoridad: Unidad Administrativa Especial de Catastro Distrital (UAECD).
Normas aplicadas: Resoluciones IGAC 471/2020, 529/2020, 1421/2021, 197/2022 y 1040/2023.
Single Fused Map Cache: false
Extent:
XMin: -74.45112818299998
YMin: 3.7296725277327405
XMax: -74.07525510181868
YMax: 4.54071648200005
Spatial Reference: 4326
(4326)
LatestVCSWkid(0)
Initial Extent:
XMin: -74.45112818299998
YMin: 3.7296725277327405
XMax: -74.07525510181868
YMax: 4.54071648200005
Spatial Reference: 4326
(4326)
LatestVCSWkid(0)
Full Extent:
XMin: -74.45112818299998
YMin: 3.7296725277327405
XMax: -74.07525510181868
YMax: 4.54071648200005
Spatial Reference: 4326
(4326)
LatestVCSWkid(0)
Pixel Size X: 4.491576420597685E-6
Pixel Size Y: 4.491576420597606E-6
Band Count: 4
Pixel Type: U8
RasterFunction Infos: {"rasterFunctionInfos": [
{
"name": "None",
"description": "Make a Raster or Raster Dataset into a Function Raster Dataset.",
"help": ""
},
{
"name": "ColorBalance_Rural",
"description": "Vista natural RGB para el mosaico Rural tras balance de color.",
"help": ""
},
{
"name": "FalseColor_CIR",
"description": "Falso color infrarrojo Rural con R=NIR (B4), G=Rojo (B1) y B=Verde (B2).",
"help": ""
},
{
"name": "NDVI_Colorized_Rural",
"description": "Calcula NDVI Rural usando rojo=B1 (0) y NIR=B4 (3).",
"help": ""
},
{
"name": "Stretch_SD_Rural",
"description": "Stretch por 2 desviaciones estandar con DRA sobre la vista RGB natural del mosaico Rural.",
"help": ""
}
]}
Mensuration Capabilities: Basic
Inspection Capabilities:
Has Histograms: true
Has Colormap: false
Has Multi Dimensions : false
Rendering Rule:
Min Scale: 0
Max Scale: 0
Resampling: false
Copyright Text: Unidad Administrativa Especial de Catastro Distrital - UAECD
Service Data Type: esriImageServiceDataTypeGeneric
Min Values: 1, 1, 1, 7
Max Values: 249, 245, 250, 178
Mean Values: 65.04036802560113, 65.508285793794, 60.19037150410415, 87.47150062612825
Standard Deviation Values: 23.60408650986278, 20.972269460744762, 21.210524619858624, 13.012607985358704
Object ID Field: OBJECTID
Fields:
-
OBJECTID
(
type: esriFieldTypeOID, alias: OBJECTID
)
-
Shape
(
type: esriFieldTypeGeometry, alias: Shape
)
-
Name
(
type: esriFieldTypeString, alias: Name, length: 200
)
-
MinPS
(
type: esriFieldTypeDouble, alias: MinPS
)
-
MaxPS
(
type: esriFieldTypeDouble, alias: MaxPS
)
-
LowPS
(
type: esriFieldTypeDouble, alias: LowPS
)
-
HighPS
(
type: esriFieldTypeDouble, alias: HighPS
)
-
Category
(
type: esriFieldTypeInteger, alias: Category
, Coded Values:
[0: Unknown]
, [1: Primary]
, [2: Overview]
, ...6 more...
)
-
Tag
(
type: esriFieldTypeString, alias: Tag, length: 100
)
-
GroupName
(
type: esriFieldTypeString, alias: GroupName, length: 100
)
-
ProductName
(
type: esriFieldTypeString, alias: ProductName, length: 100
)
-
CenterX
(
type: esriFieldTypeDouble, alias: CenterX
)
-
CenterY
(
type: esriFieldTypeDouble, alias: CenterY
)
-
ZOrder
(
type: esriFieldTypeInteger, alias: ZOrder
)
-
Shape_Length
(
type: esriFieldTypeDouble, alias: Shape_Length
)
-
Shape_Area
(
type: esriFieldTypeDouble, alias: Shape_Area
)
Default Mosaic Method: Center
Allowed Mosaic Methods: Center
SortField:
SortValue: null
Mosaic Operator: First
Default Compression Quality: 75
Default Resampling Method: Bilinear
Max Record Count: 1000
Max Image Height: 4100
Max Image Width: 15000
Max Download Image Count: 0
Max Mosaic Image Count: 20
Allow Raster Function: true
Allow Copy: true
Allow Analysis: true
Allow Compute TiePoints: false
Supports Statistics: true
Supports Advanced Queries: true
Use StandardizedQueries: true
Raster Type Infos:
Name: Raster Dataset
Description: Supports all ArcGIS Raster Datasets
Help:
Has Raster Attribute Table: false
Edit Fields Info: null
Ownership Based AccessControl For Rasters: null
Child Resources:
Info
Histograms
Statistics
Key Properties
Legend
Raster Function Infos
Supported Operations:
Export Image
Query
Identify
Measure
Compute Histograms
Compute Statistics Histograms
Get Samples
Compute Class Statistics
Query GPS Info
Find Images
Image to Map
Map to Image
Measure from Image
Image to Map Multiray
Query Boundary
Compute Pixel Location
Compute Angles
Validate
Project