View In:
ArcGIS JavaScript
ArcGIS Online Map Viewer
ArcGIS Earth
Service Description: Ortofotomosaico de alta resolución de la zona urbana de Bogotá D.C. Este producto cartográfico provee información base de alta precisión (imagen óptica y multiespectral) para la planificación urbana, actualización catastral, análisis espacial, cálculo de índices de vegetación y toma de decisiones en el Distrito Capital, especialmente las asociadas al Plan de Ordenamiento Territorial (POT).Especificaciones Técnicas:Resolución Espacial (GSD): 5 cm (0.05 metros) por píxel.Composición Espectral: Imagen multiespectral de 4 bandas:Banda 1: Rojo (Red)Banda 2: Verde (Green)Banda 3: Azul (Blue)Banda 4: Infrarrojo Cercano (NIR)Plantillas de Visualización (Raster Functions): El servicio incluye capacidades de procesamiento al vuelo para: Vista RGB con Balance de Color, Mejora de Contraste (2 desviaciones estándar con DRA), Falso Color Infrarrojo (CIR) y cálculo automático del Índice de Vegetación de Diferencia Normalizada (NDVI colorizado).
Name: imagenesfunciones/orthourbana2025funcion
Description: Ortofotomosaico de alta resolución de la zona urbana de Bogotá D.C. Este producto cartográfico provee información base de alta precisión (imagen óptica y multiespectral) para la planificación urbana, actualización catastral, análisis espacial, cálculo de índices de vegetación y toma de decisiones en el Distrito Capital, especialmente las asociadas al Plan de Ordenamiento Territorial (POT).Especificaciones Técnicas:Resolución Espacial (GSD): 5 cm (0.05 metros) por píxel.Composición Espectral: Imagen multiespectral de 4 bandas:Banda 1: Rojo (Red)Banda 2: Verde (Green)Banda 3: Azul (Blue)Banda 4: Infrarrojo Cercano (NIR)Plantillas de Visualización (Raster Functions): El servicio incluye capacidades de procesamiento al vuelo para: Vista RGB con Balance de Color, Mejora de Contraste (2 desviaciones estándar con DRA), Falso Color Infrarrojo (CIR) y cálculo automático del Índice de Vegetación de Diferencia Normalizada (NDVI colorizado).
Single Fused Map Cache: false
Extent:
XMin: -74.22495775999994
YMin: 4.486153902334516
XMax: -74.01894217515877
YMax: 4.837963812000055
Spatial Reference: 4326
(4326)
LatestVCSWkid(0)
Initial Extent:
XMin: -74.22495775999994
YMin: 4.486153902334516
XMax: -74.01894217515877
YMax: 4.837963812000055
Spatial Reference: 4326
(4326)
LatestVCSWkid(0)
Full Extent:
XMin: -74.22495775999994
YMin: 4.486153902334516
XMax: -74.01894217515877
YMax: 4.837963812000055
Spatial Reference: 4326
(4326)
LatestVCSWkid(0)
Pixel Size X: 4.491576420597078E-7
Pixel Size Y: 4.491576420597073E-7
Band Count: 4
Pixel Type: U8
RasterFunction Infos: {"rasterFunctionInfos": [
{
"name": "None",
"description": "Make a Raster or Raster Dataset into a Function Raster Dataset.",
"help": ""
},
{
"name": "ColorBalance",
"description": "Vista natural RGB para el mosaic dataset despues de ejecutar el balance de color con la herramienta Color Balance Mosaic Dataset.",
"help": ""
},
{
"name": "FalseColor_CIR",
"description": "Falso color infrarrojo con R=NIR (B4), G=Rojo (B1) y B=Verde (B2).",
"help": ""
},
{
"name": "NDVI_Colorized",
"description": "Calcula NDVI usando rojo=B1 y NIR=B4, y coloriza el resultado con el colormap NDVI3 de Esri.",
"help": ""
},
{
"name": "Stretch_SD",
"description": "Stretch por 2 desviaciones estandar con DRA sobre la vista RGB natural.",
"help": ""
}
]}
Mensuration Capabilities: Basic
Inspection Capabilities:
Has Histograms: false
Has Colormap: false
Has Multi Dimensions : false
Rendering Rule:
Min Scale: 0
Max Scale: 0
Resampling: false
Copyright Text: Secretaría Distrital de Planeación (SDP) - Subsecretaría de Información (Propietario/Contratante). Producto generado por SIGLA S.A.S. (Contrato 1047 de 2024). Publicado y distribuido por IDECA - Unidad Administrativa Especial de Catastro Distrital (UAECD).
Service Data Type: esriImageServiceDataTypeGeneric
Min Values: N/A
Max Values: N/A
Mean Values: N/A
Standard Deviation Values: N/A
Object ID Field: OBJECTID
Fields:
-
OBJECTID
(
type: esriFieldTypeOID, alias: OBJECTID
)
-
Shape
(
type: esriFieldTypeGeometry, alias: Shape
)
-
Name
(
type: esriFieldTypeString, alias: Name, length: 200
)
-
MinPS
(
type: esriFieldTypeDouble, alias: MinPS
)
-
MaxPS
(
type: esriFieldTypeDouble, alias: MaxPS
)
-
LowPS
(
type: esriFieldTypeDouble, alias: LowPS
)
-
HighPS
(
type: esriFieldTypeDouble, alias: HighPS
)
-
Category
(
type: esriFieldTypeInteger, alias: Category
, Coded Values:
[0: Unknown]
, [1: Primary]
, [2: Overview]
, ...6 more...
)
-
Tag
(
type: esriFieldTypeString, alias: Tag, length: 100
)
-
GroupName
(
type: esriFieldTypeString, alias: GroupName, length: 100
)
-
ProductName
(
type: esriFieldTypeString, alias: ProductName, length: 100
)
-
CenterX
(
type: esriFieldTypeDouble, alias: CenterX
)
-
CenterY
(
type: esriFieldTypeDouble, alias: CenterY
)
-
ZOrder
(
type: esriFieldTypeInteger, alias: ZOrder
)
-
Shape_Length
(
type: esriFieldTypeDouble, alias: Shape_Length
)
-
Shape_Area
(
type: esriFieldTypeDouble, alias: Shape_Area
)
Default Mosaic Method: Northwest
Allowed Mosaic Methods: NorthWest,Center,LockRaster,ByAttribute,Nadir,Viewpoint,Seamline,None
SortField:
SortValue: null
Mosaic Operator: First
Default Compression Quality: 75
Default Resampling Method: Bilinear
Max Record Count: 1000
Max Image Height: 4100
Max Image Width: 15000
Max Download Image Count: 0
Max Mosaic Image Count: 20
Allow Raster Function: true
Allow Copy: true
Allow Analysis: true
Allow Compute TiePoints: false
Supports Statistics: true
Supports Advanced Queries: true
Use StandardizedQueries: true
Raster Type Infos:
Name: Raster Dataset
Description: Supports all ArcGIS Raster Datasets
Help:
Has Raster Attribute Table: false
Edit Fields Info: null
Ownership Based AccessControl For Rasters: null
Child Resources:
Info
Statistics
Key Properties
Legend
Raster Function Infos
Supported Operations:
Export Image
Query
Identify
Measure
Compute Histograms
Compute Statistics Histograms
Get Samples
Compute Class Statistics
Query GPS Info
Find Images
Image to Map
Map to Image
Measure from Image
Image to Map Multiray
Query Boundary
Compute Pixel Location
Compute Angles
Validate
Project